BEGIN:VCALENDAR
VERSION:2.0
PRODID:IEEE vTools.Events//EN
CALSCALE:GREGORIAN
BEGIN:VTIMEZONE
TZID:Canada/Mountain
BEGIN:DAYLIGHT
DTSTART:20170312T030000
TZOFFSETFROM:-0700
TZOFFSETTO:-0600
RRULE:FREQ=YEARLY;BYDAY=2SU;BYMONTH=3
TZNAME:MDT
END:DAYLIGHT
BEGIN:STANDARD
DTSTART:20171105T010000
TZOFFSETFROM:-0600
TZOFFSETTO:-0700
RRULE:FREQ=YEARLY;BYDAY=1SU;BYMONTH=11
TZNAME:MST
END:STANDARD
END:VTIMEZONE
BEGIN:VEVENT
DTSTAMP:20181109T063203Z
UID:B5FDFD0C-E319-11E6-A7C6-0050568D7F66
DTSTART;TZID=Canada/Mountain:20170504T171500
DTEND;TZID=Canada/Mountain:20170504T203000
DESCRIPTION:Firewalls are almost always the first technology investment in 
 a new ICS security program\, but are they secure? Firewalls have been with
  us for more than 25 years now – both the good guys and bad guys know ho
 w to break through them. Join us to review 13 ways to break through a fire
 wall\, each with between dozens and thousands of examples in the wild. Tim
 e permitting\, up to five of these techniques will be demonstrated live\, 
 on a modern\, next-gen firewall. This presentation also reviews seven comp
 ensating measures deployed routinely to address firewall vulnerabilities o
 n control system networks\, and evaluates each measure against each of the
  13 classes of attacks.\n\nAdmission Fee:\n»IEEE Members $15\n»IEEE Non-
 members $25\n»Full Time Students Free\n\n» 5:15 Registration\n\n» 6:00 
 Introduction\n\n» 6:15 Presentation\n\n» 7:00 Break and a Quick Snack\n\
 n» 7:30 Presentation Resumes\n\n» 8:15 Q&amp;A\n\n» 8:30 Networking\n\n» 9
 :00 Doors close\n\nSpeaker(s): Andrew Ginter\, VP at Waterfall Security So
 lutions\, \n\nRoom: Auditorium\, Bldg: TransAlta\, 110 – 12 Ave SW\, Cal
 gary\, Alberta\, Canada
LOCATION:Room: Auditorium\, Bldg: TransAlta\, 110 – 12 Ave SW\, Calgary\,
  Alberta\, Canada
ORGANIZER:matt.eskandar@mrcsi.com
SEQUENCE:4
SUMMARY:13 Ways to Break A Firewall
URL;VALUE=URI:https://events.vtools.ieee.org/m/43378
X-ALT-DESC:Description: &lt;br /&gt;&lt;p&gt;&lt;span style=&quot;font-size: 12pt\;&quot;&gt;Firewalls 
 are almost always the first technology investment in a new ICS security pr
 ogram\, but are they secure? Firewalls have been with us for more than 25 
 years now &amp;ndash\; both the good guys and bad guys know how to break throu
 gh them. Join us to review 13 ways to break through a firewall\, each with
  between dozens and thousands of examples in the wild. Time permitting\, u
 p to five of these techniques will be demonstrated live\, on a modern\, ne
 xt-gen firewall. This presentation also reviews seven compensating measure
 s deployed routinely to address firewall vulnerabilities on control system
  networks\, and evaluates each measure against each of the 13 classes of a
 ttacks.&lt;/span&gt;&lt;/p&gt;\n&lt;p&gt;&lt;span style=&quot;font-size: 12pt\;&quot;&gt;&lt;span style=&quot;color:
  #000000\;&quot;&gt;&lt;span style=&quot;font-size: 12pt\;&quot;&gt;Admission Fee:&lt;span class=&quot;App
 le-converted-space&quot;&gt;&amp;nbsp\;&lt;/span&gt;&lt;/span&gt;&lt;/span&gt;&lt;span style=&quot;color: #00000
 0\;&quot;&gt;&lt;span style=&quot;font-size: 12pt\;&quot;&gt;&lt;br /&gt;&amp;raquo\;IEEE Members $15&lt;span c
 lass=&quot;Apple-converted-space&quot;&gt;&amp;nbsp\;&lt;/span&gt;&lt;br /&gt;&amp;raquo\;IEEE Non-members 
 $25&lt;span class=&quot;Apple-converted-space&quot;&gt;&amp;nbsp\;&lt;/span&gt;&lt;br /&gt;&amp;raquo\;Full Ti
 me Students Free&lt;/span&gt;&lt;/span&gt;&lt;/span&gt;&lt;/p&gt;\n&lt;p&gt;&amp;nbsp\;&lt;/p&gt;\n&lt;p&gt;&amp;nbsp\;&lt;/p&gt;\
 n&lt;p&gt;&lt;span style=&quot;font-size: 12pt\;&quot;&gt;&amp;raquo\; 5:15 Registration&lt;/span&gt;&lt;/p&gt;\
 n&lt;p&gt;&lt;span style=&quot;font-size: 12pt\;&quot;&gt;&amp;raquo\; 6:00 Introduction&lt;/span&gt;&amp;nbsp
 \;&lt;/p&gt;\n&lt;p&gt;&lt;span style=&quot;font-size: 12pt\;&quot;&gt;&amp;raquo\; 6:15 Presentation&lt;/spa
 n&gt;&amp;nbsp\;&lt;/p&gt;\n&lt;p&gt;&lt;span style=&quot;font-size: 12pt\;&quot;&gt;&amp;raquo\; 7:00 Break and 
 a Quick Snack&lt;/span&gt;&amp;nbsp\;&lt;/p&gt;\n&lt;p&gt;&lt;span style=&quot;font-size: 12pt\;&quot;&gt;&amp;raquo
 \; 7:30 Presentation Resumes&lt;/span&gt;&amp;nbsp\;&lt;/p&gt;\n&lt;p&gt;&lt;span style=&quot;font-size:
  12pt\;&quot;&gt;&amp;raquo\; 8:15 Q&amp;amp\;A&lt;/span&gt;&amp;nbsp\;&lt;/p&gt;\n&lt;p&gt;&lt;span style=&quot;font-si
 ze: 12pt\;&quot;&gt;&amp;raquo\; 8:30 Networking&lt;/span&gt;&amp;nbsp\;&lt;/p&gt;\n&lt;p&gt;&lt;span style=&quot;fo
 nt-size: 12pt\;&quot;&gt;&amp;raquo\; 9:00 Doors close&lt;/span&gt;&lt;/p&gt;\n&lt;p&gt;&amp;nbsp\;&lt;/p&gt;
END:VEVENT
END:VCALENDAR

