BEGIN:VCALENDAR
VERSION:2.0
PRODID:IEEE vTools.Events//EN
CALSCALE:GREGORIAN
BEGIN:VTIMEZONE
TZID:America/New_York
BEGIN:DAYLIGHT
DTSTART:20250309T030000
TZOFFSETFROM:-0500
TZOFFSETTO:-0400
RRULE:FREQ=YEARLY;BYDAY=2SU;BYMONTH=3
TZNAME:EDT
END:DAYLIGHT
BEGIN:STANDARD
DTSTART:20241103T010000
TZOFFSETFROM:-0400
TZOFFSETTO:-0500
RRULE:FREQ=YEARLY;BYDAY=1SU;BYMONTH=11
TZNAME:EST
END:STANDARD
END:VTIMEZONE
BEGIN:VEVENT
DTSTAMP:20241214T062703Z
UID:909481E2-5DA5-453E-81DD-B7BA9A8CAAC2
DTSTART;TZID=America/New_York:20241116T190000
DTEND;TZID=America/New_York:20241116T210000
DESCRIPTION:The IEEE-Eta Kappa Nu Awards Banquet celebrate the achievements
  of IEEE-HKN Chapters and closes the Student Leadership Conference. IEEE-H
 KN Alumni and IEEE Life Members are welcome to attend the event for the co
 st of the meal ($125).\n\nRoom: Ballroom\, 5400 John Q. Hammons Drive Nw\,
  Embassy Suites\, Concord\, North Carolina\, United States\, 28027
LOCATION:Room: Ballroom\, 5400 John Q. Hammons Drive Nw\, Embassy Suites\, 
 Concord\, North Carolina\, United States\, 28027
ORGANIZER:jmconrad@uncc.edu
SEQUENCE:19
SUMMARY:IEEE-Eta Kappa Nu - Student Leadership Conference Awards Banquet
URL;VALUE=URI:https://events.vtools.ieee.org/m/433935
X-ALT-DESC:Description: &lt;br /&gt;&lt;p&gt;The IEEE-Eta Kappa Nu Awards Banquet celeb
 rate the achievements of IEEE-HKN Chapters and closes the Student Leadersh
 ip Conference.&amp;nbsp\; IEEE-HKN Alumni and IEEE Life Members are welcome to
  attend the event for the cost of the meal ($125).&lt;/p&gt;
END:VEVENT
END:VCALENDAR

