BEGIN:VCALENDAR
VERSION:2.0
PRODID:IEEE vTools.Events//EN
CALSCALE:GREGORIAN
BEGIN:VTIMEZONE
TZID:America/New_York
BEGIN:DAYLIGHT
DTSTART:20240310T030000
TZOFFSETFROM:-0500
TZOFFSETTO:-0400
RRULE:FREQ=YEARLY;BYDAY=2SU;BYMONTH=3
TZNAME:EDT
END:DAYLIGHT
BEGIN:STANDARD
DTSTART:20241103T010000
TZOFFSETFROM:-0400
TZOFFSETTO:-0500
RRULE:FREQ=YEARLY;BYDAY=1SU;BYMONTH=11
TZNAME:EST
END:STANDARD
END:VTIMEZONE
BEGIN:VEVENT
DTSTAMP:20240921T193125Z
UID:32A65CF5-F2C0-4E1E-8A2B-092E29AC1150
DTSTART;TZID=America/New_York:20240918T130000
DTEND;TZID=America/New_York:20240918T143200
DESCRIPTION:The Lexington Section will have a luncheon and discuss old time
 s and your best fishing trip.\n\nPlease note that we will meet on WEDNESDA
 Y this month.\n\nBldg: Ramsey&#39;s Diner\, 151 W Zandale Drive\, Lexington\, 
 Kentucky\, United States\, 40503
LOCATION:Bldg: Ramsey&#39;s Diner\, 151 W Zandale Drive\, Lexington\, Kentucky\
 , United States\, 40503
ORGANIZER:dhill@uky.edu
SEQUENCE:13
SUMMARY:IEEE Life Members Luncheon
URL;VALUE=URI:https://events.vtools.ieee.org/m/434060
X-ALT-DESC:Description: &lt;br /&gt;&lt;p&gt;The Lexington Section will have a luncheon
  and discuss old times and your best fishing trip.&lt;/p&gt;\n&lt;p&gt;Please note tha
 t we will meet on WEDNESDAY this month.&lt;/p&gt;
END:VEVENT
END:VCALENDAR

