BEGIN:VCALENDAR
VERSION:2.0
PRODID:IEEE vTools.Events//EN
CALSCALE:GREGORIAN
BEGIN:VTIMEZONE
TZID:America/Chicago
BEGIN:DAYLIGHT
DTSTART:20240310T030000
TZOFFSETFROM:-0600
TZOFFSETTO:-0500
RRULE:FREQ=YEARLY;BYDAY=2SU;BYMONTH=3
TZNAME:CDT
END:DAYLIGHT
BEGIN:STANDARD
DTSTART:20241103T010000
TZOFFSETFROM:-0500
TZOFFSETTO:-0600
RRULE:FREQ=YEARLY;BYDAY=1SU;BYMONTH=11
TZNAME:CST
END:STANDARD
END:VTIMEZONE
BEGIN:VEVENT
DTSTAMP:20241016T025904Z
UID:FD3B73A9-9DE5-4EBA-A39F-860B5935DBC5
DTSTART;TZID=America/Chicago:20240924T120000
DTEND;TZID=America/Chicago:20240924T130000
DESCRIPTION:Join the Huntsville Section TEMS &amp; WiE for a joint industry eng
 agement event featuring exciting student presentations from the Alabama A&amp;
 M University IEEE Student Branch &amp; WiE!\n\nThe AAMU students are eager to 
 share their firsthand experiences from their summer internships. Come hear
  about their projects\, challenges\, and valuable lessons learned. This ev
 ent is a unique opportunity to connect with the next generation of talent 
 and explore potential collaborations.\n\nDate: Tuesday\, 24 September\, 20
 24\n\nTime: 12:00 pm - 1:00 pm\n\nLocation: Auditorium\, AAMU Bond Enginee
 ring Building\n\nLunch will be provided. RSVP today!\n\nCo-sponsored by: D
 r. Raziq Yaqub\n\nSpeaker(s): Shemaiah Mbetwa\, Daniel Lambo\n\nAgenda: \n
 12:00 - 12:15 pm - Lunch and Networking\n\n12:15 - 12:30 pm - Shemaiah Mbe
 twa\n\n12:30 - 12:45 pm - Daniel Lambo\n\n12:45 - 1:00 pm - Q&amp;A and Networ
 king\n\nRoom: Auditorium\, Bldg: Bond Engineering Building\, Normal\, Alab
 ama\, United States\, 35762
LOCATION:Room: Auditorium\, Bldg: Bond Engineering Building\, Normal\, Alab
 ama\, United States\, 35762
ORGANIZER:ebonee.a.walker@ieee.org
SEQUENCE:10
SUMMARY:Industry Engagement Day with Huntsville Section &amp; AAMU Student Bran
 ch
URL;VALUE=URI:https://events.vtools.ieee.org/m/434186
X-ALT-DESC:Description: &lt;br /&gt;&lt;p class=&quot;first-token&quot; data-sourcepos=&quot;1:1-1:
 96&quot;&gt;&lt;strong&gt;Join the Huntsville Section TEMS &amp;amp\; WiE for a joint indust
 ry engagement event featuring exciting student presentations from the Alab
 ama A&amp;amp\;M University IEEE Student Branch &amp;amp\; WiE!&lt;/strong&gt;&lt;/p&gt;\n&lt;p d
 ata-sourcepos=&quot;3:1-3:283&quot;&gt;The AAMU students are eager to share their first
 hand experiences from their summer internships. Come hear about their proj
 ects\, challenges\, and valuable lessons learned. This event is a unique o
 pportunity to connect with the next generation of talent and explore poten
 tial collaborations.&lt;/p&gt;\n&lt;p data-sourcepos=&quot;5:1-7:24&quot;&gt;&lt;strong&gt;Date:&lt;/stro
 ng&gt; Tuesday\, 24 September\, 2024&lt;/p&gt;\n&lt;p data-sourcepos=&quot;5:1-7:24&quot;&gt;&lt;stron
 g&gt;Time:&lt;/strong&gt; 12:00 pm - 1:00 pm&lt;/p&gt;\n&lt;p data-sourcepos=&quot;5:1-7:24&quot;&gt;&lt;str
 ong&gt;L&lt;/strong&gt;&lt;strong&gt;ocation:&lt;/strong&gt; Auditorium\, AAMU Bond Engineering
  Building&lt;/p&gt;\n&lt;p data-sourcepos=&quot;9:1-9:39&quot;&gt;&lt;strong&gt;Lunch will be provided
 .&lt;/strong&gt; RSVP today!&lt;/p&gt;&lt;br /&gt;&lt;br /&gt;Agenda: &lt;br /&gt;&lt;p&gt;12:00 - 12:15 pm - 
 Lunch and Networking&lt;/p&gt;\n&lt;p&gt;12:15 - 12:30 pm - Shemaiah Mbetwa&lt;/p&gt;\n&lt;p&gt;12
 :30 - 12:45 pm - Daniel Lambo&lt;/p&gt;\n&lt;p&gt;12:45 - 1:00 pm - Q&amp;amp\;A and Netwo
 rking&lt;/p&gt;
END:VEVENT
END:VCALENDAR

