BEGIN:VCALENDAR
VERSION:2.0
PRODID:IEEE vTools.Events//EN
CALSCALE:GREGORIAN
BEGIN:VTIMEZONE
TZID:America/New_York
BEGIN:DAYLIGHT
DTSTART:20250309T030000
TZOFFSETFROM:-0500
TZOFFSETTO:-0400
RRULE:FREQ=YEARLY;BYDAY=2SU;BYMONTH=3
TZNAME:EDT
END:DAYLIGHT
BEGIN:STANDARD
DTSTART:20241103T010000
TZOFFSETFROM:-0400
TZOFFSETTO:-0500
RRULE:FREQ=YEARLY;BYDAY=1SU;BYMONTH=11
TZNAME:EST
END:STANDARD
END:VTIMEZONE
BEGIN:VEVENT
DTSTAMP:20241123T132402Z
UID:2D93A468-5C15-456E-8D14-BEBA4C11FA79
DTSTART;TZID=America/New_York:20241121T190000
DTEND;TZID=America/New_York:20241121T200000
DESCRIPTION:A technical presentation on the topic &#39;A novel Grid Forming Con
 trols (GFM) model in PSS/E for 100% renewable grids&#39;. Increased proliferat
 ion of Inverter Based Resources (IBRs) and retirement of conventional powe
 r generation has resulted in depleted short circuit levels and has raised 
 stability concerns in operating electric grids. Majority of the IBRs today
  are Grid Following (GFL) meaning they require a voltage and frequency ref
 erence for their Phase Locked Loop and &#39;follow&#39; and latch onto\, in order 
 to inject current to the grid. As short circuit levels drop\, GFLs suffer 
 from instability raising concerns. Grid-forming inverters (GFMs) are a pro
 mising solution in this regard as they behave as voltage sources behind an
  internal impedance\, providing both voltage and frequency regulation. Thi
 s talk will focus on a novel positive sequence model developed in PSS/E th
 at has several levels of control that works in both grid connected and isl
 anded mode of operation. Alongside an outer layer that generates Voltage a
 nd Frequency reference\, a V-Q\, P-F droop based current controller is uti
 lized eventually form a voltage source interface. Simulation results will 
 be shown that demonstrate stability in 100% renewable grids. During this p
 resentation Tamojit present his work on GFM.\n\nWe invite all those intere
 sted in clean energy and the future of our renewable grid to join us for t
 his insightful session.\n\nAgenda: \nStarts at 7.00PM\n\nVirtual: https://
 events.vtools.ieee.org/m/434368
LOCATION:Virtual: https://events.vtools.ieee.org/m/434368
ORGANIZER:power@ieee.li
SEQUENCE:13
SUMMARY:A novel Grid Forming Controls (GFM) model in PSS/E for 100% renewab
 le power grid
URL;VALUE=URI:https://events.vtools.ieee.org/m/434368
X-ALT-DESC:Description: &lt;br /&gt;&lt;p&gt;A technical presentation on the topic &#39;A n
 ovel Grid Forming Controls (GFM) model in PSS/E for 100% renewable grids&#39;.
  Increased proliferation of Inverter Based Resources (IBRs) and retirement
  of conventional power generation has resulted in depleted short circuit l
 evels and has raised stability concerns in operating electric grids. Major
 ity of the IBRs today are Grid Following (GFL) meaning they require a volt
 age and frequency reference for their Phase Locked Loop and &#39;follow&#39; and l
 atch onto\, in order to inject current to the grid. As short circuit level
 s drop\, GFLs suffer from instability raising concerns. Grid-forming inver
 ters (GFMs) are a promising solution in this regard as they behave as volt
 age sources behind an internal impedance\, providing both voltage and freq
 uency regulation. This talk will focus on a novel positive sequence model 
 developed in PSS/E that has several levels of control that works in both g
 rid connected and islanded mode of operation. Alongside an outer layer tha
 t generates Voltage and Frequency reference\,&amp;nbsp\; a V-Q\, P-F droop bas
 ed current controller is utilized eventually form a voltage source interfa
 ce. Simulation results will be shown that demonstrate stability in 100% re
 newable grids. During this presentation Tamojit present his work on GFM.&lt;/
 p&gt;\n&lt;p&gt;We invite all those interested in clean energy and the future of ou
 r renewable grid to join us for this insightful session.&lt;/p&gt;&lt;br /&gt;&lt;br /&gt;Ag
 enda: &lt;br /&gt;&lt;p&gt;Starts at 7.00PM&lt;/p&gt;
END:VEVENT
END:VCALENDAR

