BEGIN:VCALENDAR
VERSION:2.0
PRODID:IEEE vTools.Events//EN
CALSCALE:GREGORIAN
BEGIN:VTIMEZONE
TZID:America/Denver
BEGIN:DAYLIGHT
DTSTART:20240310T030000
TZOFFSETFROM:-0700
TZOFFSETTO:-0600
RRULE:FREQ=YEARLY;BYDAY=2SU;BYMONTH=3
TZNAME:MDT
END:DAYLIGHT
BEGIN:STANDARD
DTSTART:20241103T010000
TZOFFSETFROM:-0600
TZOFFSETTO:-0700
RRULE:FREQ=YEARLY;BYDAY=1SU;BYMONTH=11
TZNAME:MST
END:STANDARD
END:VTIMEZONE
BEGIN:VEVENT
DTSTAMP:20240926T220855Z
UID:8D08E752-07D8-49E8-8743-825DA590C9C8
DTSTART;TZID=America/Denver:20240919T164500
DTEND;TZID=America/Denver:20240919T180000
DESCRIPTION:Abstract- Lithium-ion batteries have become central to a wide r
 ange of applications due to their\nhigh energy density\, long cycle life\,
  and decreasing costs. From electric vehicles to\nlarge-scale energy stora
 ge systems\, they are helping to drive innovation in energy\nsolutions. Th
 is talk will delve into the fundamentals of lithium-ion battery technology
 \,\nfocusing on the underlying physics that govern their performance\, inc
 luding charge\ntransport\, thermodynamics\, and electrochemical processes.
  We will explore how these\nphysical principles directly impact key applic
 ation areas such as energy efficiency\,\nsafety\, and aging\, with an emph
 asis on degradation mechanisms that influence battery\nlife in different o
 perational environments. In addition to covering the core science\, we\nwi
 ll discuss how advanced testing and characterization techniques are employ
 ed to\noptimize battery design and reliability. Furthermore\, the integrat
 ion of AI and machine\nlearning in battery development is reshaping the fi
 eld\, allowing for predictive\nmaintenance\, accelerated testing\, and enh
 anced performance. We will present cutting-\nedge research from Idaho Nati
 onal Laboratory (INL) that addresses challenges in\nscaling lithium-ion ba
 tteries for long-duration energy storage\, electric vehicles\, and\nheavy-
 duty trucks\, offering a glimpse into the future of this transformative te
 chnology.\n\nCo-sponsored by:  Brew with the Crew Informal Seminar Series 
 - Sponsored by Eastern Idaho IEEE\, INL \, Idaho ISA\n\nStockman’s Resta
 urant\, 1175 Pier View Drive\, Idaho Falls\, Idaho\, United States\, 83402
 -5039\, Virtual: https://events.vtools.ieee.org/m/434562
LOCATION:Stockman’s Restaurant\, 1175 Pier View Drive\, Idaho Falls\, Ida
 ho\, United States\, 83402-5039\, Virtual: https://events.vtools.ieee.org/
 m/434562
ORGANIZER:crnaik@ieee.org
SEQUENCE:16
SUMMARY:BWTC- Unveiling the Science of Lithium-Ion Batteries:Fundamentals t
 o Future 
URL;VALUE=URI:https://events.vtools.ieee.org/m/434562
X-ALT-DESC:Description: &lt;br /&gt;&lt;p&gt;Abstract- Lithium-ion batteries have becom
 e central to a wide range of applications due to their&lt;br&gt;high energy dens
 ity\, long cycle life\, and decreasing costs. From electric vehicles to&lt;br
 &gt;large-scale energy storage systems\, they are helping to drive innovation
  in energy&lt;br&gt;solutions. This talk will delve into the fundamentals of lit
 hium-ion battery technology\,&lt;br&gt;focusing on the underlying physics that g
 overn their performance\, including charge&lt;br&gt;transport\, thermodynamics\,
  and electrochemical processes. We will explore how these&lt;br&gt;physical prin
 ciples directly impact key application areas such as energy efficiency\,&lt;b
 r&gt;safety\, and aging\, with an emphasis on degradation mechanisms that inf
 luence battery&lt;br&gt;life in different operational environments. In addition 
 to covering the core science\, we&lt;br&gt;will discuss how advanced testing and
  characterization techniques are employed to&lt;br&gt;optimize battery design an
 d reliability. Furthermore\, the integration of AI and machine&lt;br&gt;learning
  in battery development is reshaping the field\, allowing for predictive&lt;b
 r&gt;maintenance\, accelerated testing\, and enhanced performance. We will pr
 esent cutting-&lt;br&gt;edge research from Idaho National Laboratory (INL) that 
 addresses challenges in&lt;br&gt;scaling lithium-ion batteries for long-duration
  energy storage\, electric vehicles\, and&lt;br&gt;heavy-duty trucks\, offering 
 a glimpse into the future of this transformative technology.&lt;/p&gt;
END:VEVENT
END:VCALENDAR

