BEGIN:VCALENDAR
VERSION:2.0
PRODID:IEEE vTools.Events//EN
CALSCALE:GREGORIAN
BEGIN:VTIMEZONE
TZID:America/New_York
BEGIN:DAYLIGHT
DTSTART:20240310T030000
TZOFFSETFROM:-0500
TZOFFSETTO:-0400
RRULE:FREQ=YEARLY;BYDAY=2SU;BYMONTH=3
TZNAME:EDT
END:DAYLIGHT
BEGIN:STANDARD
DTSTART:20241103T010000
TZOFFSETFROM:-0400
TZOFFSETTO:-0500
RRULE:FREQ=YEARLY;BYDAY=1SU;BYMONTH=11
TZNAME:EST
END:STANDARD
END:VTIMEZONE
BEGIN:VEVENT
DTSTAMP:20241018T011025Z
UID:6252562E-5D4C-4E22-8541-53EA8C52B615
DTSTART;TZID=America/New_York:20241017T173000
DTEND;TZID=America/New_York:20241017T193000
DESCRIPTION:Cleveland IEEE members: you may be eligible to become a senior 
 member of IEEE if you have ten or more years of relevant professional expe
 rience.\n\nJoin us on Oct 17 at Slyman&#39;s in Independence to apply for seni
 or membership. There is no out-of-pocket for becoming a senior member\, an
 d appetizers will be available as well as senior IEEE members who will act
  as references.\n\nThe specific requirements are listed at https://www.iee
 e.org/membership/senior/\, but the primary information that the senior rev
 iew committee is interested in is the dates of your significant achievemen
 ts in the past five years. This information is best provided as a story.\n
 \nPlease contact s.galecki@ieee.org for further information\n\nAgenda: \n5
 :30 - gather at Slyman&#39;s in Independence to start applying for senior memb
 ership. Bring your IEEE number!\n\nBldg: Slyman&#39;s Tavern\, 6901 Rockside\,
  Independence\, Ohio\, United States\, 44131
LOCATION:Bldg: Slyman&#39;s Tavern\, 6901 Rockside\, Independence\, Ohio\, Unit
 ed States\, 44131
ORGANIZER:s.galecki@ieee.org
SEQUENCE:28
SUMMARY:Cleveland IEEE Senior Member recruitment night
URL;VALUE=URI:https://events.vtools.ieee.org/m/434623
X-ALT-DESC:Description: &lt;br /&gt;&lt;p&gt;Cleveland IEEE members: you may be eligibl
 e to become a senior member of IEEE if you have ten or more years of relev
 ant professional experience.&lt;/p&gt;\n&lt;p&gt;Join us on Oct 17 at Slyman&#39;s in Inde
 pendence to apply for senior membership. There is no out-of-pocket for bec
 oming a senior member\, and appetizers will be available as well as senior
  IEEE members who will act as references.&lt;/p&gt;\n&lt;p&gt;The specific requirement
 s are listed at &lt;a href=&quot;https://www.ieee.org/membership/senior/&quot;&gt;https://
 www.ieee.org/membership/senior/&lt;/a&gt;\, but the primary information that the
  senior review committee is interested in is the dates of your significant
  achievements in the past five years. This information is best provided as
  a story.&lt;/p&gt;\n&lt;p&gt;Please contact &lt;a href=&quot;mailto:s.galecki@ieee.org&quot;&gt;s.gal
 ecki@ieee.org&lt;/a&gt; for further information&lt;/p&gt;&lt;br /&gt;&lt;br /&gt;Agenda: &lt;br /&gt;&lt;p&gt;
 5:30 - gather at Slyman&#39;s in Independence to start applying for senior mem
 bership. Bring your IEEE number!&lt;/p&gt;\n&lt;p&gt;&amp;nbsp\;&lt;/p&gt;
END:VEVENT
END:VCALENDAR

