BEGIN:VCALENDAR
VERSION:2.0
PRODID:IEEE vTools.Events//EN
CALSCALE:GREGORIAN
BEGIN:VTIMEZONE
TZID:Europe/Warsaw
BEGIN:DAYLIGHT
DTSTART:20240331T030000
TZOFFSETFROM:+0100
TZOFFSETTO:+0200
RRULE:FREQ=YEARLY;BYDAY=-1SU;BYMONTH=3
TZNAME:CEST
END:DAYLIGHT
BEGIN:STANDARD
DTSTART:20241027T020000
TZOFFSETFROM:+0200
TZOFFSETTO:+0100
RRULE:FREQ=YEARLY;BYDAY=-1SU;BYMONTH=10
TZNAME:CET
END:STANDARD
END:VTIMEZONE
BEGIN:VEVENT
DTSTAMP:20241023T161954Z
UID:7D343567-149F-44B6-B113-9143151CE668
DTSTART;TZID=Europe/Warsaw:20240927T090000
DTEND;TZID=Europe/Warsaw:20240927T100000
DESCRIPTION:Some basic linear algebra problems: basis change and projection
 \, are discussed together examples of their applications in signal and ima
 ge processing.\n\nIn typical linear algebra university courses perpendicul
 ar projections are only discussed. However\, in image processing\, e.g. fo
 r defining various color spaces\, we need non-perpendicular projections. T
 hat is why this is the key problem in this tutorial.\n\nThis tutorial can 
 be considered as the second part of a tutorial entitled “The Victory of 
 Orthogonality”\, given in 2020 by Professor Gilbert Strang at the 24th I
 EEE Signal Processing Algorithms\, Architectures\, Arrangements\, and Appl
 ications (IEEE SPA) Conference\, 23rd-25th September 2020\, Poznań\, Pola
 nd.\n\nInstead\, the motto of the present tutorial could be: “In captivi
 ty of non-orthogonality”.\n\nCo-sponsored by: IEEE Poland Section Life M
 embers Affinity Group\n\nVirtual: https://events.vtools.ieee.org/m/434726
LOCATION:Virtual: https://events.vtools.ieee.org/m/434726
ORGANIZER:adam.dabrowski@put.poznan.pl
SEQUENCE:3
SUMMARY:Basis change\, projection\, and relative linear algebra tricks in s
 ignal and image processing
URL;VALUE=URI:https://events.vtools.ieee.org/m/434726
X-ALT-DESC:Description: &lt;br /&gt;&lt;p class=&quot;MsoNormal&quot;&gt;&lt;span lang=&quot;EN-US&quot; style
 =&quot;mso-ansi-language: EN-US\;&quot;&gt;Some basic linear algebra problems: basis ch
 ange and projection\, are discussed together examples of their application
 s in signal and image processing.&lt;/span&gt;&lt;/p&gt;\n&lt;p class=&quot;MsoNormal&quot;&gt;&lt;span l
 ang=&quot;EN-US&quot; style=&quot;mso-ansi-language: EN-US\;&quot;&gt;In typical linear algebra u
 niversity courses perpendicular projections are only discussed. However\, 
 in image processing\, e.g. for defining various color spaces\, we need non
 -perpendicular projections. That is why this is the key problem in this tu
 torial. &lt;/span&gt;&lt;/p&gt;\n&lt;p class=&quot;MsoNormal&quot;&gt;&lt;span lang=&quot;EN-US&quot; style=&quot;mso-an
 si-language: EN-US\;&quot;&gt;This tutorial can be considered as the second part o
 f a tutorial entitled &amp;ldquo\;The Victory of Orthogonality&amp;rdquo\;\, given
  in 2020 by Professor Gilbert Strang at the 24th IEEE Signal Processing Al
 gorithms\, Architectures\, Arrangements\, and Applications (IEEE SPA) Conf
 erence\, 23rd-25th September 2020\, Poznań\, Poland. &lt;/span&gt;&lt;/p&gt;\n&lt;p clas
 s=&quot;MsoNormal&quot;&gt;&lt;span lang=&quot;EN-US&quot; style=&quot;mso-ansi-language: EN-US\;&quot;&gt;Instea
 d\, the motto of the present tutorial could be: &amp;ldquo\;In captivity of no
 n-orthogonality&amp;rdquo\;.&lt;/span&gt;&lt;/p&gt;\n&lt;p class=&quot;MsoNormal&quot;&gt;&lt;span lang=&quot;EN-U
 S&quot; style=&quot;mso-ansi-language: EN-US\;&quot;&gt;&amp;nbsp\;&lt;/span&gt;&lt;/p&gt;
END:VEVENT
END:VCALENDAR

