BEGIN:VCALENDAR
VERSION:2.0
PRODID:IEEE vTools.Events//EN
CALSCALE:GREGORIAN
BEGIN:VTIMEZONE
TZID:Europe/London
BEGIN:DAYLIGHT
DTSTART:20240331T020000
TZOFFSETFROM:+0000
TZOFFSETTO:+0100
RRULE:FREQ=YEARLY;BYDAY=-1SU;BYMONTH=3
TZNAME:BST
END:DAYLIGHT
BEGIN:STANDARD
DTSTART:20241027T010000
TZOFFSETFROM:+0100
TZOFFSETTO:+0000
RRULE:FREQ=YEARLY;BYDAY=-1SU;BYMONTH=10
TZNAME:GMT
END:STANDARD
END:VTIMEZONE
BEGIN:VEVENT
DTSTAMP:20241011T120107Z
UID:D3EF4F5F-0869-48C8-9CCD-2542EAC63A80
DTSTART;TZID=Europe/London:20241004T140000
DTEND;TZID=Europe/London:20241004T170000
DESCRIPTION:Dear Colleagues\,\n\nThe IEEE UK and Ireland Section is organis
 ing a series of public and invitation only meetings during IEEE Week (30th
  September – 4th October 2024) where IEEE Volunteers\, Members and the w
 ider community will have the opportunity to hear from and engage with IEEE
  President Dr Tom Coughlin.\n\nAs part of this overall program of IEEE Wee
 k 2024 activities\, public events are taking place in\n\n- London\, Monday
  30 September\, 18:00 – 21:00\n- Liverpool\, Tuesday 01 October\, 18:00 
 - 21:00\n- Dublin\, Friday 04 October\, 14:00 – 17:00\n\nInvitation to R
 egister\n\nIEEE Members\, their partners and colleagues are invited to par
 ticipate in these in-person events.\n\nPlease complete registration no lat
 er than 27 September for the location that is closest to where you reside 
 / study / work.\n\nParticipation with meeting details will be confirmed af
 ter 27 September.\n\nDublin Event\, 04 October\n\nRegistration Link - [htt
 ps://forms.gle/T9JRJwYX2KioRkp18](https://enotice.mmsend.com/link.cfm?r=1v
 KDWB8qkHXf5OPz6rHzeA~~&amp;pe=CdT4N6Lol6gGNVvGEcM-Um4d8R0SI_0ZeBfwxDXmF_GD-qx_
 oC7xdX9yXZYniLaCJptpngIz2REi26HRxaIqZQ~~&amp;t=ZAmW1eC_rZYc9hFEps_2Hg~~)\n\nTh
 e IEEE Week public event in Dublin on Friday 04 October (14:00 - 17:00) is
  focused on Technology\, Sustainability and Climate Change.\n\nConfirmed s
 peakers to date include:\n\n- Dr Tom Coughlin\, IEEE President\n- Prof. Pa
 ul Cunningham\, UK and Ireland Section Chair\n- Dr Michelle Olmstead\, Chi
 ef Innovation &amp; Enterprise Officer\, Trinity College Dublin\n- Prof. Yvonn
 e Buckley\, Co-centre for Climate+Biodiversity+Water\, Trinity College Dub
 lin\n- Fergal McParland\, Chief Technical Advisor (Energy)\, Department of
  the Environment\, Climate and Communications\n- Sean Mulvey\, Manager Tra
 nsmission &amp; Distribution Delivery\, ESB\n\nThe program will be updated as 
 additional Speakers from Government and Industry are confirmed.\n\nAny que
 ries as well as accessibility challenges or dietary requirements can be su
 bmitted as part of the Registration Form.\n\nWe look forward to your activ
 e participation in IEEE Week 2024 Activities of our IEEE UK and Ireland Se
 ction.\n\nDublin\, Dublin\, Ireland
LOCATION:Dublin\, Dublin\, Ireland
ORGANIZER:secretary@ieee-ukandireland.org
SEQUENCE:7
SUMMARY:IEEE UK and Ireland Section - IEEE Week 2024 
URL;VALUE=URI:https://events.vtools.ieee.org/m/434821
X-ALT-DESC:Description: &lt;br /&gt;&lt;p&gt;Dear Colleagues\,&lt;/p&gt;\n&lt;p&gt;The IEEE UK and 
 Ireland Section is organising a series of&amp;nbsp\;&lt;strong&gt;public&amp;nbsp\;&lt;/str
 ong&gt;and invitation only meetings during&amp;nbsp\;&lt;strong&gt;IEEE Week (30th Sept
 ember &amp;ndash\; 4th October 2024)&amp;nbsp\;&lt;/strong&gt;where IEEE Volunteers\, Me
 mbers and the wider community will have the opportunity to hear from and e
 ngage with&amp;nbsp\;&lt;strong&gt;IEEE President Dr Tom Coughlin&lt;/strong&gt;.&lt;/p&gt;\n&lt;p&gt;
 As part of this overall program of&amp;nbsp\;&lt;strong&gt;IEEE Week 2024 activities
 &lt;/strong&gt;\, public events are taking place in&lt;/p&gt;\n&lt;ul&gt;\n&lt;li&gt;&lt;strong&gt;Londo
 n&lt;/strong&gt;\, Monday&amp;nbsp\;&lt;strong&gt;30 September&lt;/strong&gt;\, 18:00 &amp;ndash\; 2
 1:00&lt;/li&gt;\n&lt;li&gt;&lt;strong&gt;Liverpool&lt;/strong&gt;\, Tuesday&amp;nbsp\;&lt;strong&gt;01 Octob
 er\,&lt;/strong&gt;&amp;nbsp\;18:00 - 21:00&lt;/li&gt;\n&lt;li&gt;&lt;strong&gt;Dublin\,&lt;/strong&gt;&amp;nbsp
 \;Friday&amp;nbsp\;&lt;strong&gt;04 October&lt;/strong&gt;\, 14:00 &amp;ndash\; 17:00&lt;/li&gt;\n&lt;/
 ul&gt;\n&lt;p&gt;&lt;strong&gt;Invitation to Register&lt;/strong&gt;&lt;/p&gt;\n&lt;p&gt;IEEE Members\, the
 ir partners and colleagues are invited to participate in these&amp;nbsp\;&lt;stro
 ng&gt;in-person events&lt;/strong&gt;.&lt;/p&gt;\n&lt;p&gt;Please complete registration no late
 r than&amp;nbsp\;&lt;strong&gt;27 September&lt;/strong&gt;&amp;nbsp\;for the location that is 
 closest to where you reside / study / work.&lt;/p&gt;\n&lt;p&gt;Participation with mee
 ting details will be confirmed after&amp;nbsp\;&lt;strong&gt;27 September.&amp;nbsp\;&lt;/s
 trong&gt;&lt;/p&gt;\n&lt;p&gt;&lt;strong&gt;Dublin Event\, 04 October&lt;/strong&gt;&lt;/p&gt;\n&lt;p&gt;&lt;strong&gt;
 Registration Link&lt;/strong&gt;&amp;nbsp\;-&amp;nbsp\;&lt;a href=&quot;https://enotice.mmsend.c
 om/link.cfm?r=1vKDWB8qkHXf5OPz6rHzeA~~&amp;amp\;pe=CdT4N6Lol6gGNVvGEcM-Um4d8R0
 SI_0ZeBfwxDXmF_GD-qx_oC7xdX9yXZYniLaCJptpngIz2REi26HRxaIqZQ~~&amp;amp\;t=ZAmW1
 eC_rZYc9hFEps_2Hg~~&quot; target=&quot;_blank&quot; rel=&quot;noopener noreferrer&quot; data-auth=&quot;
 NotApplicable&quot; data-linkindex=&quot;3&quot;&gt;https://forms.gle/T9JRJwYX2KioRkp18&lt;/a&gt;&amp;
 nbsp\;&lt;/p&gt;\n&lt;p&gt;The IEEE Week public event in&amp;nbsp\;&lt;strong&gt;Dublin&lt;/strong&gt;
 &amp;nbsp\;on&amp;nbsp\;&lt;strong&gt;Friday 04 October&lt;/strong&gt;&amp;nbsp\;(14:00 - 17:00) i
 s focused on&amp;nbsp\;&lt;strong&gt;Technology\, Sustainability and Climate Change&lt;
 /strong&gt;.&lt;/p&gt;\n&lt;p&gt;Confirmed speakers to date include:&lt;/p&gt;\n&lt;ul&gt;\n&lt;li&gt;&lt;stro
 ng&gt;Dr Tom Coughlin&lt;/strong&gt;\, IEEE President&lt;/li&gt;\n&lt;li&gt;&lt;strong&gt;Prof. Paul 
 Cunningham&lt;/strong&gt;\, UK and Ireland Section Chair&lt;/li&gt;\n&lt;li&gt;&lt;strong&gt;Dr Mi
 chelle Olmstead&lt;/strong&gt;\, Chief Innovation &amp;amp\; Enterprise Officer\, Tr
 inity College Dublin&lt;/li&gt;\n&lt;li&gt;&lt;strong&gt;Prof. Yvonne Buckley&lt;/strong&gt;\, Co-
 centre for Climate+Biodiversity+Water\, Trinity College Dublin&lt;/li&gt;\n&lt;li&gt;&lt;
 strong&gt;Fergal McParland&lt;/strong&gt;\, Chief Technical Advisor (Energy)\, Depa
 rtment of the Environment\, Climate and Communications&lt;/li&gt;\n&lt;li&gt;&lt;strong&gt;S
 ean Mulvey&lt;/strong&gt;\, Manager Transmission &amp;amp\; Distribution Delivery\, 
 ESB&lt;/li&gt;\n&lt;/ul&gt;\n&lt;p&gt;The program will be updated as additional Speakers fro
 m Government and Industry are confirmed.&lt;/p&gt;\n&lt;p&gt;Any queries as well as ac
 cessibility challenges or dietary requirements can be submitted as part of
  the Registration Form.&lt;/p&gt;\n&lt;p&gt;We look forward to your active participati
 on in IEEE Week 2024 Activities of our IEEE UK and Ireland Section.&lt;/p&gt;
END:VEVENT
END:VCALENDAR

