BEGIN:VCALENDAR
VERSION:2.0
PRODID:IEEE vTools.Events//EN
CALSCALE:GREGORIAN
BEGIN:VTIMEZONE
TZID:America/New_York
BEGIN:DAYLIGHT
DTSTART:20240310T030000
TZOFFSETFROM:-0500
TZOFFSETTO:-0400
RRULE:FREQ=YEARLY;BYDAY=2SU;BYMONTH=3
TZNAME:EDT
END:DAYLIGHT
BEGIN:STANDARD
DTSTART:20241103T010000
TZOFFSETFROM:-0400
TZOFFSETTO:-0500
RRULE:FREQ=YEARLY;BYDAY=1SU;BYMONTH=11
TZNAME:EST
END:STANDARD
END:VTIMEZONE
BEGIN:VEVENT
DTSTAMP:20240927T202539Z
UID:C43A6293-BB24-4AA7-BD6A-E0E263360A50
DTSTART;TZID=America/New_York:20240919T120000
DTEND;TZID=America/New_York:20240919T140000
DESCRIPTION:Come see us at the Annual Festival of Clubs at ETS.\n\nSpecial 
 Highlight: Goodies for spot registration to IEEE Xtreme 18.0.\n\nBldg: Spa
 ce between Pavilion D and E\, 1100 Rue Notre Dame West\, Montreal\, Quebec
 \, Canada\, H3C1K3
LOCATION:Bldg: Space between Pavilion D and E\, 1100 Rue Notre Dame West\, 
 Montreal\, Quebec\, Canada\, H3C1K3
ORGANIZER:ieee@etsmtl.ca
SEQUENCE:24
SUMMARY:Festival of Clubs at ETS
URL;VALUE=URI:https://events.vtools.ieee.org/m/434847
X-ALT-DESC:Description: &lt;br /&gt;&lt;p&gt;Come see us at the Annual Festival of Club
 s at ETS.&lt;/p&gt;\n&lt;p&gt;Special Highlight: Goodies for spot registration to IEEE
  Xtreme 18.0.&lt;/p&gt;
END:VEVENT
END:VCALENDAR

