BEGIN:VCALENDAR
VERSION:2.0
PRODID:IEEE vTools.Events//EN
CALSCALE:GREGORIAN
BEGIN:VTIMEZONE
TZID:Asia/Karachi
BEGIN:STANDARD
DTSTART:20091031T230000
TZOFFSETFROM:+0600
TZOFFSETTO:+0500
TZNAME:PKT
END:STANDARD
END:VTIMEZONE
BEGIN:VEVENT
DTSTAMP:20241016T182052Z
UID:9BFD5C38-F707-42C6-9407-46D26AC04932
DTSTART;TZID=Asia/Karachi:20241010T083000
DTEND;TZID=Asia/Karachi:20241011T160000
DESCRIPTION:IEEE Women in Engineering International Leadership Summits (ILS
 ) provide regional opportunities to foster networking\, mentorship\, and c
 ollaboration. With the leadership and creativity of IEEE WIE volunteers\, 
 WIE Summits have been extremely successful and have made an outstanding im
 pact on communities around the globe!\n\nRiphah International System and e
 ngineering\, I14 Campus\, Islamabad\, Islamabad Capital Territory\, Pakist
 an\, 46000\, Virtual: https://events.vtools.ieee.org/m/434889
LOCATION:Riphah International System and engineering\, I14 Campus\, Islamab
 ad\, Islamabad Capital Territory\, Pakistan\, 46000\, Virtual: https://eve
 nts.vtools.ieee.org/m/434889
ORGANIZER:komal.batool@riphah.edu.pk
SEQUENCE:11
SUMMARY:WIE Islamabad Section organizes International Leadership Summit&#39;24 
 on 10 OCT-11 OCT 2024
URL;VALUE=URI:https://events.vtools.ieee.org/m/434889
X-ALT-DESC:Description: &lt;br /&gt;&lt;p&gt;&lt;strong&gt;IEEE Women in Engineering Internat
 ional Leadership Summits (ILS)&lt;/strong&gt; provide regional opportunities to 
 foster networking\, mentorship\, and collaboration. With the leadership an
 d creativity of IEEE WIE volunteers\, WIE Summits have been extremely succ
 essful and have made an outstanding impact on communities around the globe
 !&lt;/p&gt;
END:VEVENT
END:VCALENDAR

