BEGIN:VCALENDAR
VERSION:2.0
PRODID:IEEE vTools.Events//EN
CALSCALE:GREGORIAN
BEGIN:VTIMEZONE
TZID:America/Chicago
BEGIN:DAYLIGHT
DTSTART:20250309T030000
TZOFFSETFROM:-0600
TZOFFSETTO:-0500
RRULE:FREQ=YEARLY;BYDAY=2SU;BYMONTH=3
TZNAME:CDT
END:DAYLIGHT
BEGIN:STANDARD
DTSTART:20241103T010000
TZOFFSETFROM:-0500
TZOFFSETTO:-0600
RRULE:FREQ=YEARLY;BYDAY=1SU;BYMONTH=11
TZNAME:CST
END:STANDARD
END:VTIMEZONE
BEGIN:VEVENT
DTSTAMP:20241123T150132Z
UID:218B6946-0572-4426-BE96-B5231F6BDF53
DTSTART;TZID=America/Chicago:20241116T090000
DTEND;TZID=America/Chicago:20241116T130000
DESCRIPTION:We will be touring the electronics division which designs\, tes
 ts\, and manufactures the electrical system for the generators including c
 ontrollers\, transfer switches\, control panels\, and more. We will meet o
 utside the main entrance of the CC at 9 am on November 16th!\n\nSheboygan\
 , Wisconsin\, United States
LOCATION:Sheboygan\, Wisconsin\, United States
ORGANIZER:ieee@msoe.edu
SEQUENCE:19
SUMMARY:MSOE Kohler Power Systems Tour
URL;VALUE=URI:https://events.vtools.ieee.org/m/434993
X-ALT-DESC:Description: &lt;br /&gt;&lt;p&gt;&lt;span data-teams=&quot;true&quot;&gt;&lt;span class=&quot;ui-pr
 ovider a b c d e f g h i j k l m n o p q r s t u v w x y z ab ac ae af ag 
 ah ai aj ak&quot; dir=&quot;ltr&quot;&gt;We will be touring the electronics division which d
 esigns\, tests\, and manufactures the electrical system for the generators
  including controllers\, transfer switches\, control panels\, and more. We
  will meet outside the main entrance of the CC at 9 am on &lt;em&gt;November 16t
 h&lt;/em&gt;!&lt;/span&gt;&lt;/span&gt;&lt;/p&gt;
END:VEVENT
END:VCALENDAR

