BEGIN:VCALENDAR
VERSION:2.0
PRODID:IEEE vTools.Events//EN
CALSCALE:GREGORIAN
BEGIN:VTIMEZONE
TZID:America/Denver
BEGIN:DAYLIGHT
DTSTART:20240310T030000
TZOFFSETFROM:-0700
TZOFFSETTO:-0600
RRULE:FREQ=YEARLY;BYDAY=2SU;BYMONTH=3
TZNAME:MDT
END:DAYLIGHT
BEGIN:STANDARD
DTSTART:20241103T010000
TZOFFSETFROM:-0600
TZOFFSETTO:-0700
RRULE:FREQ=YEARLY;BYDAY=1SU;BYMONTH=11
TZNAME:MST
END:STANDARD
END:VTIMEZONE
BEGIN:VEVENT
DTSTAMP:20241015T160747Z
UID:10C9F3C8-9E4D-423E-A0E3-535DE866F33A
DTSTART;TZID=America/Denver:20241007T130000
DTEND;TZID=America/Denver:20241007T143000
DESCRIPTION:Join us on Oct 7 to hear from a Distinguished Speaker of IEEE C
 omputer Society\, Dr. Yuhong Liu\, on privacy and security challenges. Our
  distinguished speaker is taking a tour of Western Canada to give talks in
  different cities and the Computer Chapter of IEEE Southern Alberta Sectio
 n is happy to host her talk session in Calgary on Oct. 7.\n\nThe in-person
  will be at Mount Royal University\, Room: EC1055. The talk will start at 
 1 PM. To make the event more accessible for everyone to join\, we will pro
 vide attendees a hybrid option. Attendees who choose to attend virtually a
 t the time of registration will receive a meeting link to join prior to th
 e event date. The event is free of charge for all attendees.\n\nSpeaker(s)
 : Yuhong Liu\, \n\nRoom: EC1055\, Bldg: Mount Royal campus - Ross Glen Hal
 l\, 4825 Mt Royal Gate SW\, Calgary\, Alberta\, Canada\, Virtual: https://
 events.vtools.ieee.org/m/435020
LOCATION:Room: EC1055\, Bldg: Mount Royal campus - Ross Glen Hall\, 4825 Mt
  Royal Gate SW\, Calgary\, Alberta\, Canada\, Virtual: https://events.vtoo
 ls.ieee.org/m/435020
ORGANIZER:yamannejad@mtroyal.ca
SEQUENCE:8
SUMMARY:IEEE Computer Society - Distinguished Speaker
URL;VALUE=URI:https://events.vtools.ieee.org/m/435020
X-ALT-DESC:Description: &lt;br /&gt;&lt;p style=&quot;text-align: justify\;&quot;&gt;Join us on O
 ct 7 to hear from a Distinguished Speaker of IEEE Computer Society\, Dr. Y
 uhong Liu\, on privacy and security challenges.&amp;nbsp\; Our distinguished s
 peaker is taking a tour of Western Canada to give talks in different citie
 s and the Computer Chapter of IEEE Southern Alberta Section&amp;nbsp\; is happ
 y to host her talk session in Calgary on Oct. 7.&amp;nbsp\;&lt;/p&gt;\n&lt;p style=&quot;tex
 t-align: justify\;&quot;&gt;The in-person will be at &lt;strong&gt;Mount Royal Universit
 y\, Room: EC1055&lt;/strong&gt;.&amp;nbsp\; The talk will start at &lt;strong&gt;1 PM&lt;/str
 ong&gt;.&amp;nbsp\; To make the event more accessible for everyone to join\, we w
 ill provide attendees a hybrid option. Attendees who choose to attend virt
 ually at the time of registration will receive a meeting link to join prio
 r to the event date. The event is free of charge for all attendees.&lt;/p&gt;
END:VEVENT
END:VCALENDAR

