BEGIN:VCALENDAR
VERSION:2.0
PRODID:IEEE vTools.Events//EN
CALSCALE:GREGORIAN
BEGIN:VTIMEZONE
TZID:Asia/Kolkata
BEGIN:STANDARD
DTSTART:19451014T230000
TZOFFSETFROM:+0630
TZOFFSETTO:+0530
TZNAME:IST
END:STANDARD
END:VTIMEZONE
BEGIN:VEVENT
DTSTAMP:20241017T054911Z
UID:C895B087-4FFC-4A75-BF14-E0C60280D331
DTSTART;TZID=Asia/Kolkata:20241005T093000
DTEND;TZID=Asia/Kolkata:20241005T120000
DESCRIPTION:Our IEEE Student Branch STB30721 - V.P. Dr PG Hallakatti Colleg
 e of Eng &amp; Tech is Celebrating IEEE Week form Oct 1 to Oct 5\, by organizi
 ng 4 events. one of the four events is Meme-Fest Contest which will be hel
 d on the day-4 of IEEE Week\, on October 5. It is a fun-filled meme contes
 t where participants create tech-related memes based on the themes like En
 gineering Life\, Online Classes\, and Group Project Havocs.\nThe Judging C
 riteria is based upon the Creativity\, Relatability to the topic\, Humor\,
  Presentation\, and Visual Appeal.\n\nExciting Prizes will be provided for
  the winners and participants as for Winning Team: ₹1200/~ and certifica
 tes\, Runner-Up Team: ₹600/~ and certificates and E-certificates for all
  participants will be provided.\nThe Registration Fees: ₹25 for IEEE mem
 bers\, ₹70 for non-IEEE members is kept.\n\nThe student Coordinators are
 : Keerti C Deshpande\, Om Sugandi.\nThe faculty coordinators are : Prof. P
 radeep Deshpande.\n\nThe event was conducted under the guidance of branch 
 Counseller prof. Sunanda Alur\, Senior IEEE member Dr. Veeresh Gonal \, an
 d principal Dr.V.G. Sangam.\n\nCo-sponsored by: R0011902 - North Karnataka
  Subsection(NKSS)\n\nBLDEA&#39;s V.P. Dr.P G Hallakatti College of Engineering
  And Technology\, Ashram Rd\, Adarsh Nagar\, Vijayapura.\, Vijayapura\, Ka
 rnataka\, India\, 586103
LOCATION:BLDEA&#39;s V.P. Dr.P G Hallakatti College of Engineering And Technolo
 gy\, Ashram Rd\, Adarsh Nagar\, Vijayapura.\, Vijayapura\, Karnataka\, Ind
 ia\, 586103
ORGANIZER:ieeesbbldeacet@gmail.com
SEQUENCE:19
SUMMARY:Meme-Fest Contest 
URL;VALUE=URI:https://events.vtools.ieee.org/m/435592
X-ALT-DESC:Description: &lt;br /&gt;&lt;p&gt;Our IEEE Student Branch STB30721 - V.P. Dr
  PG Hallakatti College of Eng &amp;amp\; Tech is Celebrating&amp;nbsp\;&lt;strong&gt;IEE
 E Week&lt;/strong&gt; form &lt;strong&gt;Oct 1 to Oct 5&lt;/strong&gt;\, by organizing 4 eve
 nts. one of the four events is &lt;strong&gt;Meme-Fest Contest &lt;/strong&gt;which wi
 ll be held on the day-4 of IEEE Week\, on October 5. It is a fun-filled me
 me contest where participants create tech-related memes based on the theme
 s like Engineering Life\, Online Classes\, and Group Project Havocs.&amp;nbsp\
 ;&lt;br&gt;&lt;strong&gt;The Judging Criteria &lt;/strong&gt;is based upon the Creativity\, 
 Relatability to the topic\, Humor\, Presentation\, and&amp;nbsp\;Visual Appeal
 .&amp;nbsp\;&lt;/p&gt;\n&lt;p&gt;Exciting Prizes will be provided for the winners and part
 icipants as for&amp;nbsp\;&lt;strong&gt;Winning Team: ₹1200/~&lt;/strong&gt;&amp;nbsp\;and c
 ertificates\,&amp;nbsp\;&lt;strong&gt;Runner-Up Team: ₹600/~&lt;/strong&gt;&amp;nbsp\;and ce
 rtificates and E-certificates for all participants will be provided.&amp;nbsp\
 ;&lt;br&gt;The Registration Fees: ₹25 for IEEE members\, ₹70 for non-IEEE me
 mbers is kept.&amp;nbsp\;&lt;/p&gt;\n&lt;p data-sourcepos=&quot;35:1-35:344&quot;&gt;The student Coo
 rdinators are: Keerti C Deshpande\, Om Sugandi.&lt;br&gt;The faculty coordinator
 s are : Prof. Pradeep Deshpande.&lt;/p&gt;\n&lt;p data-sourcepos=&quot;35:1-35:344&quot;&gt;The 
 event was conducted under the guidance of branch Counseller prof. Sunanda 
 Alur\, Senior IEEE member Dr. Veeresh Gonal \, and principal Dr.V.G. Sanga
 m.&lt;/p&gt;\n&lt;p data-sourcepos=&quot;35:1-35:344&quot;&gt;&lt;img src=&quot;https://events.vtools.ie
 ee.org/vtools_ui/media/display/a47213b0-0b63-4a5f-a3fd-56f4a08b231b&quot; width
 =&quot;499&quot; height=&quot;499&quot;&gt;&lt;/p&gt;\n&lt;p data-sourcepos=&quot;35:1-35:344&quot;&gt;&lt;img src=&quot;https:
 //events.vtools.ieee.org/vtools_ui/media/display/a62b2b73-30ab-4e07-b4ad-2
 d5ac5358d76&quot; width=&quot;499&quot; height=&quot;374&quot;&gt;&amp;nbsp\; &amp;nbsp\;&lt;img src=&quot;https://eve
 nts.vtools.ieee.org/vtools_ui/media/display/8152bc20-b238-4ba3-954d-c5c6c1
 5b8c24&quot; width=&quot;496&quot; height=&quot;372&quot;&gt;&lt;img src=&quot;https://events.vtools.ieee.org/
 vtools_ui/media/display/a5e90cc6-847b-4f0e-ae46-0ba0588821a8&quot; width=&quot;498&quot; 
 height=&quot;374&quot;&gt;&lt;/p&gt;\n&lt;p data-sourcepos=&quot;35:1-35:344&quot;&gt;&amp;nbsp\;&lt;/p&gt;
END:VEVENT
END:VCALENDAR

