BEGIN:VCALENDAR
VERSION:2.0
PRODID:IEEE vTools.Events//EN
CALSCALE:GREGORIAN
BEGIN:VTIMEZONE
TZID:America/Chicago
BEGIN:DAYLIGHT
DTSTART:20240310T030000
TZOFFSETFROM:-0600
TZOFFSETTO:-0500
RRULE:FREQ=YEARLY;BYDAY=2SU;BYMONTH=3
TZNAME:CDT
END:DAYLIGHT
BEGIN:STANDARD
DTSTART:20241103T010000
TZOFFSETFROM:-0500
TZOFFSETTO:-0600
RRULE:FREQ=YEARLY;BYDAY=1SU;BYMONTH=11
TZNAME:CST
END:STANDARD
END:VTIMEZONE
BEGIN:VEVENT
DTSTAMP:20241112T220656Z
UID:9CEC3D16-9AC9-4AD5-8FCF-A4B55F19312C
DTSTART;TZID=America/Chicago:20241001T133000
DTEND;TZID=America/Chicago:20241001T143000
DESCRIPTION:Join us in room 1420 of ACEB at 2pm\, to find out all the amazi
 ng opportunities that await you with IEEE!\n\nAs always\, there will be fr
 ee food!!!!!\n\nBldg: Amit Chakma Engineering Building\, 1151 Richmond Str
 eet\, London\, Ontario\, Canada\, N6G 1G8
LOCATION:Bldg: Amit Chakma Engineering Building\, 1151 Richmond Street\, Lo
 ndon\, Ontario\, Canada\, N6G 1G8
ORGANIZER:lhersen@ieee.org
SEQUENCE:55
SUMMARY:IEEE Western Student Branch IEEE Day Event
URL;VALUE=URI:https://events.vtools.ieee.org/m/435778
X-ALT-DESC:Description: &lt;br /&gt;&lt;p&gt;Join us in room 1420 of ACEB at 2pm\, to f
 ind out all the amazing opportunities that await you with IEEE!&lt;/p&gt;\n&lt;p&gt;&amp;n
 bsp\;&lt;/p&gt;\n&lt;p&gt;As always\, there will be free food!!!!!&lt;/p&gt;
END:VEVENT
END:VCALENDAR

