BEGIN:VCALENDAR
VERSION:2.0
PRODID:IEEE vTools.Events//EN
CALSCALE:GREGORIAN
BEGIN:VTIMEZONE
TZID:America/Regina
BEGIN:STANDARD
DTSTART:19600424T030000
TZOFFSETFROM:-0700
TZOFFSETTO:-0600
TZNAME:CST
END:STANDARD
END:VTIMEZONE
BEGIN:VEVENT
DTSTAMP:20241001T201148Z
UID:7FC888E0-2618-4F58-9049-CA1B86E46DFE
DTSTART;TZID=America/Regina:20241001T113000
DTEND;TZID=America/Regina:20241001T140000
DESCRIPTION:Join the University of Regina Student Branch in celebrating the
  15th anniversary of IEEE Day on October 1\, 2024!\n\nIEEE Day\, celebrate
 d on the first Tuesday in October each year\, marks the contributions and 
 achievements made by IEEE to technology and engineering.\n\nDrop by the IE
 EE lounge (McNaughton Research Center - ED 184) 11:30AM - 2:00PM for free 
 cupcakes and to help us celebrate the 15th anniversary of IEEE Day!\n\nThi
 s event is open to everyone (member or not)!\n\nRoom: 184\, Bldg: ED\, 373
 7 Wascana Pkwy\, Regina\, Saskatchewan\, Canada
LOCATION:Room: 184\, Bldg: ED\, 3737 Wascana Pkwy\, Regina\, Saskatchewan\,
  Canada
ORGANIZER:ieee@uregina.ca
SEQUENCE:20
SUMMARY:IEEE Day 2024
URL;VALUE=URI:https://events.vtools.ieee.org/m/436016
X-ALT-DESC:Description: &lt;br /&gt;&lt;p&gt;Join the University of Regina Student Bran
 ch in celebrating the 15th anniversary of IEEE Day on October 1\, 2024!&lt;/p
 &gt;\n&lt;p&gt;IEEE Day\, celebrated on the first Tuesday in October each year\, ma
 rks the contributions and achievements made by IEEE to technology and engi
 neering.&lt;/p&gt;\n&lt;p&gt;Drop by the IEEE lounge (McNaughton Research Center - ED 
 184) 11:30AM - 2:00PM for free cupcakes and to help us celebrate the 15th 
 anniversary of IEEE Day!&lt;/p&gt;\n&lt;p&gt;This event is open to everyone (member or
  not)!&lt;/p&gt;
END:VEVENT
END:VCALENDAR

