BEGIN:VCALENDAR
VERSION:2.0
PRODID:IEEE vTools.Events//EN
CALSCALE:GREGORIAN
BEGIN:VTIMEZONE
TZID:America/Los_Angeles
BEGIN:DAYLIGHT
DTSTART:20240310T030000
TZOFFSETFROM:-0800
TZOFFSETTO:-0700
RRULE:FREQ=YEARLY;BYDAY=2SU;BYMONTH=3
TZNAME:PDT
END:DAYLIGHT
BEGIN:STANDARD
DTSTART:20241103T010000
TZOFFSETFROM:-0700
TZOFFSETTO:-0800
RRULE:FREQ=YEARLY;BYDAY=1SU;BYMONTH=11
TZNAME:PST
END:STANDARD
END:VTIMEZONE
BEGIN:VEVENT
DTSTAMP:20241104T190141Z
UID:4DCAD474-2063-474A-A708-8F60C8C73FD8
DTSTART;TZID=America/Los_Angeles:20241010T080000
DTEND;TZID=America/Los_Angeles:20241010T090000
DESCRIPTION:[]\n\nAbstract: The interconnection of quantum devices via the 
 Quantum Internet – i.e.\, through a network enabling quantum communicati
 ons among remote quantum nodes – represents a disruptive technology. The
  Quantum Internet can provide functionalities with no counterpart in the c
 lassical world\, such as advanced quantum security services\, distributed 
 quantum computing services characterized by exponential increases in compu
 ting power\, and new forms of communications. These functionalities have t
 he potential of fundamentally changing the world in which we live\, in way
 s we cannot imagine yet.\n\nThe lecture aims to provide the participants w
 ith a wide view of quantum communications and quantum networks\, and the u
 nique challenges of transmitting quantum information. For this\, some marv
 els of quantum mechanics such as entanglement\, no-cloning theorem\, and t
 eleportation\, will be gently introduced.\n\nBio: Angela Sara Cacciapuoti 
 is a Professor of Quantum Communications and Networks at the University of
  Naples Federico II (Italy). Her work has appeared in first-tier IEEE jour
 nals and she received different awards\, including the “2024 IEEE ComSoc
  Award for Advances in Communication”\, the “2022 IEEE ComSoc Best Tut
 orial Paper Award”\, the “2022 WICE Outstanding Achievement Award” f
 or her contributions in quantum communication and network fields\, and “
 2021 N2Women: Stars in Networking and Communications”.\n\nShe also recei
 ved the IEEE ComSoc Distinguished Service Award for EMEA 2023\, assigned f
 or outstanding service to IEEE ComSoc in the EMEA Region. Currently\, she 
 is an IEEE ComSoc Distinguished Lecturer with lecture topics on Quantum In
 ternet design and Quantum Communications. She serves also as a Member of t
 he TC on SPCOM within the IEEE Signal Processing Society. Moreover\, she s
 erves as Area Editor for IEEE Trans. on Communications and as Editor/Assoc
 iate Editor for the journals: IEEE Trans. on Quantum Engineering\, IEEE Ne
 twork\, and IEEE Communications Surveys &amp; Tutorials. She served as Area Ed
 itor for IEEE Communications Letters(2019 - 2023)\, and she was the recipi
 ent of the 2017 Exemplary Editor Award of the IEEE Communications Letters.
  In 2023\, she also served as Lead Guest Editor for IEEE JSAC special issu
 e &quot;The Quantum Internet: Principles\, Protocols\, and Architectures&quot;. From
  2020 to 2021\, Angela Sara was the Vice-Chair of the IEEE ComSoc Women in
  Communications Engineering. Previously\, she has been appointed as Public
 ity Chair of WICE. From 2017 to 2020\, she was the Treasurer of the IEEE W
 omen in Engineering (WIE) Affinity Group of the IEEE Italy Section. Her re
 search interests are in Quantum Information Processing\, Quantum Communica
 tions\, and Quantum Networks.\n\nAt the time of the event click here to jo
 in:https://simnet.zoom.us/j/91561717255?pwd=Zazy5obYErURgjAyrtF88N9gcwaeqa
 .1\n\nOr on the Zoom App\nMeeting ID: 915 6171 7255\nPasscode: 472317\n\nC
 o-sponsored by: Pradeep Kumar\n\nVirtual: https://events.vtools.ieee.org/m
 /436047
LOCATION:Virtual: https://events.vtools.ieee.org/m/436047
ORGANIZER:pradeep@ieee.org
SEQUENCE:31
SUMMARY:The Rise of the Quantum Internet: From No-Cloning to Teleportation
URL;VALUE=URI:https://events.vtools.ieee.org/m/436047
X-ALT-DESC:Description: &lt;br /&gt;&lt;p class=&quot;MsoNormal&quot; style=&quot;text-align: left\
 ;&quot;&gt;&lt;span style=&quot;font-size: 11.0pt\; line-height: 115%\; font-family: &#39;Aria
 l&#39;\,sans-serif\; color: #222222\;&quot;&gt;&amp;nbsp\;&lt;img style=&quot;display: block\; mar
 gin-left: auto\; margin-right: auto\;&quot; src=&quot;https://events.vtools.ieee.org
 /vtools_ui/media/display/b8fbf556-4545-4f7d-b25d-3557204e9670&quot; alt=&quot;&quot; widt
 h=&quot;348&quot; height=&quot;182&quot;&gt;&lt;/span&gt;&lt;/p&gt;\n&lt;p align=&quot;left&quot;&gt;&lt;strong&gt;Abstract:&lt;/stron
 g&gt;&amp;nbsp\;The interconnection of quantum devices via the Quantum Internet &amp;
 ndash\; i.e.\, through a network enabling quantum communications among rem
 ote quantum nodes &amp;ndash\; represents a disruptive technology. The Quantum
  Internet can provide functionalities with no counterpart in the classical
  world\, such as advanced quantum security services\, distributed quantum 
 computing services characterized by exponential increases in computing pow
 er\, and new forms of communications. These functionalities have the poten
 tial of fundamentally changing the world in which we live\, in ways we can
 not imagine yet.&lt;br&gt;&lt;br&gt;The lecture aims to provide the participants with 
 a wide view of quantum communications and quantum networks\, and the uniqu
 e challenges of transmitting quantum information. For this\, some marvels 
 of quantum mechanics such as entanglement\, no-cloning theorem\, and telep
 ortation\, will be gently introduced.&lt;br&gt;&lt;br&gt;&lt;strong&gt;Bio:&amp;nbsp\;&lt;/strong&gt;A
 ngela Sara Cacciapuoti is a Professor of Quantum Communications and Networ
 ks at the University of Naples Federico II (Italy). Her work has appeared 
 in first-tier IEEE journals and she received different awards\, including 
 the &amp;ldquo\;2024 IEEE ComSoc Award for Advances in Communication&amp;rdquo\;\,
  the &amp;ldquo\;2022 IEEE ComSoc Best Tutorial Paper Award&amp;rdquo\;\, the &amp;ldq
 uo\;2022 WICE Outstanding Achievement Award&amp;rdquo\; for her contributions 
 in quantum communication and network fields\, and &amp;ldquo\;2021 N2Women: St
 ars in Networking and Communications&amp;rdquo\;.&lt;/p&gt;\n&lt;p align=&quot;left&quot;&gt;She als
 o received the IEEE ComSoc Distinguished Service Award for EMEA 2023\, ass
 igned for outstanding service to IEEE ComSoc in the EMEA Region. Currently
 \, she is an IEEE ComSoc Distinguished Lecturer with lecture topics on Qua
 ntum Internet design and Quantum Communications. She serves also as a Memb
 er of the TC on SPCOM within the IEEE Signal Processing Society. Moreover\
 , she serves as Area Editor for IEEE Trans. on Communications and as Edito
 r/Associate Editor for the journals: IEEE Trans. on Quantum Engineering\, 
 IEEE Network\, and IEEE Communications Surveys &amp;amp\; Tutorials. She serve
 d as Area Editor for IEEE Communications Letters(2019 - 2023)\, and she wa
 s the recipient of the 2017 Exemplary Editor Award of the IEEE Communicati
 ons Letters. In 2023\, she also served as Lead Guest Editor for IEEE JSAC 
 special issue &quot;The Quantum Internet: Principles\, Protocols\, and Architec
 tures&quot;. From 2020 to 2021\, Angela Sara was the Vice-Chair of the IEEE Com
 Soc Women in Communications Engineering. Previously\, she has been appoint
 ed as Publicity Chair of WICE. From 2017 to 2020\, she was the Treasurer o
 f the IEEE Women in Engineering (WIE) Affinity Group of the IEEE Italy Sec
 tion. Her research interests are in Quantum Information Processing\, Quant
 um Communications\, and Quantum Networks.&lt;/p&gt;\n&lt;p class=&quot;MsoNormal&quot; style=
 &quot;text-align: left\;&quot;&gt;&lt;span style=&quot;font-size: 11.0pt\; line-height: 115%\; 
 font-family: &#39;Arial&#39;\,sans-serif\; color: #222222\;&quot;&gt;&amp;nbsp\;&lt;/span&gt;&lt;/p&gt;\n&lt;
 p&gt;At the time of the event click here to join:&lt;a href=&quot;https://simnet.zoom
 .us/j/91561717255?pwd=Zazy5obYErURgjAyrtF88N9gcwaeqa.1&quot;&gt;&amp;nbsp\;&amp;nbsp\;http
 s://simnet.zoom.us/j/91561717255?pwd=Zazy5obYErURgjAyrtF88N9gcwaeqa.1&lt;/a&gt;&lt;
 /p&gt;\n&lt;p&gt;Or on the Zoom App&lt;br&gt;Meeting ID: 915 6171 7255&lt;br&gt;Passcode: 47231
 7&lt;/p&gt;
END:VEVENT
END:VCALENDAR

