BEGIN:VCALENDAR
VERSION:2.0
PRODID:IEEE vTools.Events//EN
CALSCALE:GREGORIAN
BEGIN:VTIMEZONE
TZID:America/New_York
BEGIN:DAYLIGHT
DTSTART:20240310T030000
TZOFFSETFROM:-0500
TZOFFSETTO:-0400
RRULE:FREQ=YEARLY;BYDAY=2SU;BYMONTH=3
TZNAME:EDT
END:DAYLIGHT
BEGIN:STANDARD
DTSTART:20241103T010000
TZOFFSETFROM:-0400
TZOFFSETTO:-0500
RRULE:FREQ=YEARLY;BYDAY=1SU;BYMONTH=11
TZNAME:EST
END:STANDARD
END:VTIMEZONE
BEGIN:VEVENT
DTSTAMP:20241007T144305Z
UID:30B7C410-95F0-48C5-98FB-D29A6723BA34
DTSTART;TZID=America/New_York:20241004T190000
DTEND;TZID=America/New_York:20241004T220000
DESCRIPTION:Join us Friday\, October 4 at 7 pm to celebrate IEEE Day with a
  mixer!\nTeam up with peers to solve puzzles in an exciting escape room\, 
 followed by dinner. This event is a fantastic way to build connections\, e
 nhance teamwork\, and enjoy a night of fun!\n\nCo-sponsored by: Norfolk St
 ate University IEEE\n\nVirginia Beach\, Virginia\, United States\, 23452
LOCATION:Virginia Beach\, Virginia\, United States\, 23452
ORGANIZER:mcene001@odu.edu
SEQUENCE:11
SUMMARY:ODU/NSU IEEE Escape Room
URL;VALUE=URI:https://events.vtools.ieee.org/m/436078
X-ALT-DESC:Description: &lt;br /&gt;&lt;div&gt;Join us Friday\, October 4 at 7 pm to ce
 lebrate IEEE Day with a mixer!&lt;/div&gt;\n&lt;div&gt;Team up with peers to solve puz
 zles in an exciting escape room\, followed by dinner. This event is a fant
 astic way to build connections\, enhance teamwork\, and enjoy a night of f
 un!&amp;nbsp\;&amp;nbsp\;&lt;/div&gt;
END:VEVENT
END:VCALENDAR

