BEGIN:VCALENDAR
VERSION:2.0
PRODID:IEEE vTools.Events//EN
CALSCALE:GREGORIAN
BEGIN:VTIMEZONE
TZID:Australia/Sydney
BEGIN:DAYLIGHT
DTSTART:20241006T030000
TZOFFSETFROM:+1000
TZOFFSETTO:+1100
RRULE:FREQ=YEARLY;BYDAY=1SU;BYMONTH=10
TZNAME:AEDT
END:DAYLIGHT
BEGIN:STANDARD
DTSTART:20240407T020000
TZOFFSETFROM:+1100
TZOFFSETTO:+1000
RRULE:FREQ=YEARLY;BYDAY=1SU;BYMONTH=4
TZNAME:AEST
END:STANDARD
END:VTIMEZONE
BEGIN:VEVENT
DTSTAMP:20241003T042240Z
UID:4CAAD6F6-F68E-4846-A81D-AC0CA6757FC2
DTSTART;TZID=Australia/Sydney:20241001T091500
DTEND;TZID=Australia/Sydney:20241001T140000
DESCRIPTION:You are cordially invited to attend the\n\nIndustry Academia Te
 chnical Seminar on Evolving Technologies in Power Systems\n\nOrganised by 
 the IEEE NSW IAS/IES/PELS Joint Chapter and IEEE IAS UOW Student Chapter\n
 \nco-hosted by the School of Electrical\, Computer and Telecommunications 
 Engineering\, University of Wollongong\n\nCo-sponsored by: School of Elect
 rical\, Computer and Telecommunications Engineering\, University of Wollon
 gong\, Australia\n\nSpeaker(s): Farhad Hossain\, Ashok Ghosh\, Dylan Lu\, 
 Jahangir Hossain\n\nAgenda: \n[]\n\nRoom: Room 210\, Bldg: Building 06\, U
 niversity of Wollongong\, Wollongong\, New South Wales\, Australia
LOCATION:Room: Room 210\, Bldg: Building 06\, University of Wollongong\, Wo
 llongong\, New South Wales\, Australia
ORGANIZER:mrislam@uow.edu.au
SEQUENCE:29
SUMMARY:Industry Academia Technical Seminar on Evolving Technologies in Pow
 er Systems
URL;VALUE=URI:https://events.vtools.ieee.org/m/436168
X-ALT-DESC:Description: &lt;br /&gt;&lt;p style=&quot;language: en-AU\; line-height: 150%
 \; margin-top: 0pt\; margin-bottom: 0pt\; margin-left: 0in\; text-align: c
 enter\; direction: ltr\; unicode-bidi: embed\; mso-line-break-override: no
 ne\; word-break: normal\; punctuation-wrap: hanging\;&quot;&gt;&lt;span style=&quot;font-s
 ize: 16.0pt\; font-family: &#39;Times New Roman&#39;\; mso-ascii-font-family: &#39;Tim
 es New Roman&#39;\; mso-fareast-font-family: +mn-ea\; mso-bidi-font-family: &#39;T
 imes New Roman&#39;\; mso-fareast-theme-font: minor-fareast\; color: black\; m
 so-color-index: 1\; mso-font-kerning: 12.0pt\; language: en-US\; mso-style
 -textfill-type: solid\; mso-style-textfill-fill-themecolor: text1\; mso-st
 yle-textfill-fill-color: black\; mso-style-textfill-fill-alpha: 100.0%\;&quot;&gt;
 You are cordially invited to attend the&lt;/span&gt;&lt;/p&gt;\n&lt;p style=&quot;language: en
 -AU\; line-height: 150%\; margin-top: 0pt\; margin-bottom: 0pt\; margin-le
 ft: 0in\; text-align: center\; direction: ltr\; unicode-bidi: embed\; mso-
 line-break-override: none\; word-break: normal\; punctuation-wrap: hanging
 \;&quot;&gt;&amp;nbsp\;&lt;/p&gt;\n&lt;p style=&quot;language: en-AU\; line-height: 150%\; margin-to
 p: 0pt\; margin-bottom: 0pt\; margin-left: 0in\; text-align: center\; dire
 ction: ltr\; unicode-bidi: embed\; mso-line-break-override: none\; word-br
 eak: normal\; punctuation-wrap: hanging\;&quot;&gt;&lt;span style=&quot;font-size: 20.0pt\
 ; font-family: &#39;Times New Roman&#39;\; mso-ascii-font-family: &#39;Times New Roman
 &#39;\; mso-fareast-font-family: +mn-ea\; mso-bidi-font-family: &#39;Times New Rom
 an&#39;\; mso-fareast-theme-font: minor-fareast\; color: red\; mso-font-kernin
 g: 12.0pt\; language: en-US\; font-weight: bold\; font-style: italic\; mso
 -style-textfill-type: solid\; mso-style-textfill-fill-color: red\; mso-sty
 le-textfill-fill-alpha: 100.0%\;&quot;&gt;Industry Academia Technical Seminar on E
 volving Technologies in Power Systems&lt;/span&gt;&lt;/p&gt;\n&lt;p style=&quot;language: en-A
 U\; line-height: 150%\; margin-top: 0pt\; margin-bottom: 0pt\; margin-left
 : 0in\; text-align: center\; direction: ltr\; unicode-bidi: embed\; mso-li
 ne-break-override: none\; word-break: normal\; punctuation-wrap: hanging\;
 &quot;&gt;&amp;nbsp\;&lt;/p&gt;\n&lt;p style=&quot;language: en-AU\; line-height: 150%\; margin-top:
  0pt\; margin-bottom: 0pt\; margin-left: 0in\; text-align: center\; direct
 ion: ltr\; unicode-bidi: embed\; mso-line-break-override: none\; word-brea
 k: normal\; punctuation-wrap: hanging\;&quot;&gt;&lt;span style=&quot;font-size: 16.0pt\; 
 font-family: &#39;Times New Roman&#39;\; mso-ascii-font-family: &#39;Times New Roman&#39;\
 ; mso-fareast-font-family: +mn-ea\; mso-bidi-font-family: &#39;Times New Roman
 &#39;\; mso-fareast-theme-font: minor-fareast\; color: black\; mso-color-index
 : 1\; mso-font-kerning: 12.0pt\; language: en-US\; mso-style-textfill-type
 : solid\; mso-style-textfill-fill-themecolor: text1\; mso-style-textfill-f
 ill-color: black\; mso-style-textfill-fill-alpha: 100.0%\;&quot;&gt;Organised&lt;/spa
 n&gt;&lt;span style=&quot;font-size: 16.0pt\; font-family: &#39;Times New Roman&#39;\; mso-as
 cii-font-family: &#39;Times New Roman&#39;\; mso-fareast-font-family: +mn-ea\; mso
 -bidi-font-family: &#39;Times New Roman&#39;\; mso-fareast-theme-font: minor-farea
 st\; color: black\; mso-color-index: 1\; mso-font-kerning: 12.0pt\; langua
 ge: en-US\; mso-style-textfill-type: solid\; mso-style-textfill-fill-theme
 color: text1\; mso-style-textfill-fill-color: black\; mso-style-textfill-f
 ill-alpha: 100.0%\;&quot;&gt; by the IEEE NSW IAS/IES/PELS Joint Chapter and IEEE 
 IAS UOW Student Chapter&lt;/span&gt;&lt;/p&gt;\n&lt;p style=&quot;language: en-AU\; line-heigh
 t: 150%\; margin-top: 0pt\; margin-bottom: 0pt\; margin-left: 0in\; text-a
 lign: center\; direction: ltr\; unicode-bidi: embed\; mso-line-break-overr
 ide: none\; word-break: normal\; punctuation-wrap: hanging\;&quot;&gt;&amp;nbsp\;&lt;/p&gt;\
 n&lt;p style=&quot;language: en-AU\; line-height: 150%\; margin-top: 0pt\; margin-
 bottom: 0pt\; margin-left: 0in\; text-align: center\; direction: ltr\; uni
 code-bidi: embed\; mso-line-break-override: none\; word-break: normal\; pu
 nctuation-wrap: hanging\;&quot;&gt;&lt;span style=&quot;font-size: 16.0pt\; font-family: &#39;
 Times New Roman&#39;\; mso-ascii-font-family: &#39;Times New Roman&#39;\; mso-fareast-
 font-family: +mn-ea\; mso-bidi-font-family: &#39;Times New Roman&#39;\; mso-fareas
 t-theme-font: minor-fareast\; color: black\; mso-color-index: 1\; mso-font
 -kerning: 12.0pt\; language: en-US\; mso-style-textfill-type: solid\; mso-
 style-textfill-fill-themecolor: text1\; mso-style-textfill-fill-color: bla
 ck\; mso-style-textfill-fill-alpha: 100.0%\;&quot;&gt;c&lt;span style=&quot;color: rgb(0\,
  0\, 0)\;&quot;&gt;o-hosted by the &lt;/span&gt;&lt;/span&gt;&lt;span style=&quot;color: rgb(0\, 0\, 0
 )\;&quot;&gt;&lt;span style=&quot;font-size: 14pt\; font-family: &#39;Times New Roman&#39;\;&quot;&gt;Scho
 ol of Electrical\, Computer and &lt;/span&gt;&lt;span style=&quot;font-size: 14pt\; font
 -family: &#39;Times New Roman&#39;\;&quot;&gt;Telecommunications Engineering\, &lt;/span&gt;&lt;spa
 n style=&quot;font-size: 14pt\; font-family: &#39;Times New Roman&#39;\; font-weight: b
 old\;&quot;&gt;University of Wollongong&lt;/span&gt;&lt;/span&gt;&lt;/p&gt;&lt;br /&gt;&lt;br /&gt;Agenda: &lt;br /
 &gt;&lt;p&gt;&lt;img src=&quot;https://events.vtools.ieee.org/vtools_ui/media/display/8072d
 173-b72d-45a7-9eb5-62f85ca9e381&quot; alt=&quot;&quot;&gt;&lt;/p&gt;
END:VEVENT
END:VCALENDAR

