BEGIN:VCALENDAR
VERSION:2.0
PRODID:IEEE vTools.Events//EN
CALSCALE:GREGORIAN
BEGIN:VTIMEZONE
TZID:America/Chicago
BEGIN:DAYLIGHT
DTSTART:20240310T030000
TZOFFSETFROM:-0600
TZOFFSETTO:-0500
RRULE:FREQ=YEARLY;BYDAY=2SU;BYMONTH=3
TZNAME:CDT
END:DAYLIGHT
BEGIN:STANDARD
DTSTART:20241103T010000
TZOFFSETFROM:-0500
TZOFFSETTO:-0600
RRULE:FREQ=YEARLY;BYDAY=1SU;BYMONTH=11
TZNAME:CST
END:STANDARD
END:VTIMEZONE
BEGIN:VEVENT
DTSTAMP:20241205T022149Z
UID:F46102C5-DF41-4537-8A72-2CBD360E063B
DTSTART;TZID=America/Chicago:20241009T180000
DTEND;TZID=America/Chicago:20241009T210000
DESCRIPTION:YP Visits UMIEEE! Join us for dinner at Degrees at UofM then fo
 r a visit to the UMIEEE Lab/Lounge for games/networking.\n\nIn order to re
 serve enough seats for dinner\, please register for this event or email Jo
 lene at jolenekozak111@gmail.com.\n\nBldg: University Center\,  65 Chancel
 lors Cir\, Winnipeg\, Manitoba\, Canada\, R3T 2N2
LOCATION:Bldg: University Center\,  65 Chancellors Cir\, Winnipeg\, Manitob
 a\, Canada\, R3T 2N2
ORGANIZER:jolenekozak111@gmail.com
SEQUENCE:3
SUMMARY:YP Visits UMIEEE
URL;VALUE=URI:https://events.vtools.ieee.org/m/436558
X-ALT-DESC:Description: &lt;br /&gt;&lt;p&gt;YP Visits UMIEEE! Join us for dinner at De
 grees at UofM then for a visit to the UMIEEE Lab/Lounge for games/networki
 ng.&amp;nbsp\;&lt;/p&gt;\n&lt;p&gt;In order to reserve enough seats for dinner\, please re
 gister for this event or email Jolene at &lt;a href=&quot;mailto:jolenekozak111@gm
 ail.com&quot;&gt;jolenekozak111@gmail.com&lt;/a&gt;.&lt;/p&gt;\n&lt;p&gt;&amp;nbsp\;&lt;/p&gt;\n&lt;p&gt;&lt;img src=&quot;h
 ttps://events.vtools.ieee.org/vtools_ui/media/display/ec66a60d-8f1c-4221-8
 60e-0a8707853972&quot;&gt;&lt;/p&gt;
END:VEVENT
END:VCALENDAR

