BEGIN:VCALENDAR
VERSION:2.0
PRODID:IEEE vTools.Events//EN
CALSCALE:GREGORIAN
BEGIN:VTIMEZONE
TZID:Europe/London
BEGIN:DAYLIGHT
DTSTART:20240331T020000
TZOFFSETFROM:+0000
TZOFFSETTO:+0100
RRULE:FREQ=YEARLY;BYDAY=-1SU;BYMONTH=3
TZNAME:BST
END:DAYLIGHT
BEGIN:STANDARD
DTSTART:20241027T010000
TZOFFSETFROM:+0100
TZOFFSETTO:+0000
RRULE:FREQ=YEARLY;BYDAY=-1SU;BYMONTH=10
TZNAME:GMT
END:STANDARD
END:VTIMEZONE
BEGIN:VEVENT
DTSTAMP:20241102T191908Z
UID:3AFEDAE0-AA8B-408F-8514-F5D0967FDC9B
DTSTART;TZID=Europe/London:20241001T110000
DTEND;TZID=Europe/London:20241001T143000
DESCRIPTION:The IEEE Nigeria Section is organizing a special event to celeb
 rate IEEE Day 2024 on October 1\, 2024. This event will feature a blend of
  technical and non-technical presentations\, aimed at fostering innovation
  and community engagement. Key highlights include:\n\n-\nTechnical Present
 ation: Accelerating Nigeria&#39;s Energy Transition Through Distributed Energy
  Resources - Chukwudi Okpalajiaku\n\n-\nNon-Technical Presentations:\n\n- 
 Career development workshops\n- Leadership and entrepreneurship sessions\n
 - Community service initiatives\n\nThe event will also include networking 
 opportunities and interactive sessions. This celebration aims to bring tog
 ether professionals\, academics\, and students to share knowledge\, inspir
 e innovation\, and strengthen the IEEE community in Nigeria.\n\n[Visit eve
 nt announcement page to Download Brochure&gt;&gt;&gt;](https://r8.ieee.org/nigeria/
 2024/09/12/notice-of-2024-ieee-day-celebration-in-nigeria-section/)\n\nOlu
 aka Institute of Technology\, Owerri\, Imo\, Nigeria\, 460107\, Virtual: h
 ttps://events.vtools.ieee.org/m/436588
LOCATION:Oluaka Institute of Technology\, Owerri\, Imo\, Nigeria\, 460107\,
  Virtual: https://events.vtools.ieee.org/m/436588
ORGANIZER:ogureginald@gmail.com
SEQUENCE:40
SUMMARY:IEEE: WHY BELONG?
URL;VALUE=URI:https://events.vtools.ieee.org/m/436588
X-ALT-DESC:Description: &lt;br /&gt;&lt;div class=&quot;content user-select-text&quot; tabinde
 x=&quot;0&quot; aria-description=&quot;&quot; aria-label=&quot;Sent by Copilot: The **IEEE Nigeria 
 Section** is organizing a special event to celebrate **IEEE Day 2024** on 
 **October 8\, 2024**. This event will feature a blend of technical and non
 -technical presentations\, aimed at fostering innovation and community eng
 agement. Key highlights include:\n\n- **Technical Presentations**: \n  - C
 utting-edge research findings\n  - Innovative technology demonstrations\n 
  - Expert talks on emerging trends in engineering and technology\n\n- **No
 n-Technical Presentations**:\n  - Career development workshops\n  - Leader
 ship and entrepreneurship sessions\n  - Community service initiatives\n\nT
 he event will also include networking opportunities\, interactive sessions
 \, and a showcase of projects by IEEE student members. This celebration ai
 ms to bring together professionals\, academics\, and students to share kno
 wledge\, inspire innovation\, and strengthen the IEEE community in Nigeria
 .&quot;&gt;\n&lt;div class=&quot;ac-container ac-adaptiveCard has-image&quot;&gt;\n&lt;div class=&quot;ac-
 textBlock&quot;&gt;\n&lt;p&gt;The &lt;strong&gt;IEEE Nigeria Section&lt;/strong&gt; is organizing a 
 special event to celebrate &lt;strong&gt;IEEE Day 2024&lt;/strong&gt; on &lt;strong&gt;Octob
 er 1\, 2024&lt;/strong&gt;. This event will feature a blend of technical and non
 -technical presentations\, aimed at fostering innovation and community eng
 agement. Key highlights include:&lt;/p&gt;\n&lt;ul&gt;\n&lt;li&gt;\n&lt;p&gt;&lt;strong&gt;Technical Pre
 sentation&lt;/strong&gt;: Accelerating Nigeria&#39;s Energy Transition Through Distr
 ibuted Energy Resources - Chukwudi Okpalajiaku&lt;/p&gt;\n&lt;/li&gt;\n&lt;li&gt;\n&lt;p&gt;&lt;stron
 g&gt;Non-Technical Presentations&lt;/strong&gt;:&lt;/p&gt;\n&lt;ul&gt;\n&lt;li&gt;Career development 
 workshops&lt;/li&gt;\n&lt;li&gt;Leadership and entrepreneurship sessions&lt;/li&gt;\n&lt;li&gt;Com
 munity service initiatives&lt;/li&gt;\n&lt;/ul&gt;\n&lt;/li&gt;\n&lt;/ul&gt;\n&lt;p&gt;The event will al
 so include networking opportunities and interactive sessions. This celebra
 tion aims to bring together professionals\, academics\, and students to sh
 are knowledge\, inspire innovation\, and strengthen the IEEE community in 
 Nigeria.&lt;/p&gt;\n&lt;p&gt;&lt;strong&gt;&lt;a href=&quot;https://r8.ieee.org/nigeria/2024/09/12/n
 otice-of-2024-ieee-day-celebration-in-nigeria-section/&quot; target=&quot;_blank&quot; re
 l=&quot;noopener&quot;&gt;Visit event announcement page to Download Brochure&amp;gt\;&amp;gt\;&amp;
 gt\;&lt;/a&gt;&lt;/strong&gt;&lt;/p&gt;\n&lt;/div&gt;\n&lt;/div&gt;\n&lt;div class=&quot;ad-container&quot;&gt;&lt;!----&gt; &lt;
 !----&gt;&lt;/div&gt;\n&lt;/div&gt;
END:VEVENT
END:VCALENDAR

