BEGIN:VCALENDAR
VERSION:2.0
PRODID:IEEE vTools.Events//EN
CALSCALE:GREGORIAN
BEGIN:VTIMEZONE
TZID:Europe/Riga
BEGIN:DAYLIGHT
DTSTART:20240331T040000
TZOFFSETFROM:+0200
TZOFFSETTO:+0300
RRULE:FREQ=YEARLY;BYDAY=-1SU;BYMONTH=3
TZNAME:EEST
END:DAYLIGHT
BEGIN:STANDARD
DTSTART:20241027T030000
TZOFFSETFROM:+0300
TZOFFSETTO:+0200
RRULE:FREQ=YEARLY;BYDAY=-1SU;BYMONTH=10
TZNAME:EET
END:STANDARD
END:VTIMEZONE
BEGIN:VEVENT
DTSTAMP:20241007T064616Z
UID:68AE3277-9BFC-4DFB-A004-47D9DCED6A12
DTSTART;TZID=Europe/Riga:20241003T110000
DTEND;TZID=Europe/Riga:20241003T130000
DESCRIPTION:Session B1: Wireless Communications Remote\nChairs: Prof. Dr. A
 rtūrs Āboltiņš\, Dr. Deniss Kolosovs\n\n11:00–11:15	Neural Network-B
 ased Human Detection Using Raw UWB Radar Data\nEmine Berjin Doğan\; Moham
 mad Yousefi\; Ece Gelal Soyak\; Saeid Karamzadeh\n11:15–11:30	Comparativ
 e Study of Narrowband and Ultra-Wideband Systems for Device-Free Localizat
 ion\nMarco Cimdins\; Sven Ole Schmidt\; Horst Hellbrück\n11:30–11:45	In
 frastructure and Regulation: Pillars of Reliability in 6G Networks with NR
 +\nPedro Estigarribia Pompilio\; Horácio Tertuliano\; Claudio Silva\n11:4
 5–12:00	A Novel AI Framework for WBAN Event Correlation in Healthcare: S
 erviceNow AIOps Approach\nKamran Ayub\; Roushdy Alshawa\n12:00–12:15	Par
 ameter Adjustment of the Pompilio Propagation Model for Coastal RF Transmi
 ssion Systems\nPedro Estigarribia Pompilio\; Horácio Tertuliano\; Claudio
  Silva\n12:15–12:30	Super Wideband Spearhead-Shaped Planar Antenna for E
 MC Testing and Radio Frequency Surveillance\nAgus D. Prasetyo\; Budi Syiha
 buddin\; Elmi Cahyaningsih\; Achmad Munir\n12:30–12:45	Development of Qu
 adrifilar Helix-Conical Antenna for WLAN Communication\nRheyuniarto Sahlen
 dar Asthan\; Sania Asri Monica\; Heroe Wijanto\; Achmad Munir\n\nAgenda: \
 n10:15–11:00	Introductory Lecture Microstrip Divider-Combiner Based Puls
 e Expander by Tatjana Solovjova\n11:00–13:00	Session B1: Wireless Commun
 ications Remote\nChairs: Prof. Dr. Artūrs Āboltiņš\, Dr. Deniss Koloso
 vs\n\n11:00–11:15	Neural Network-Based Human Detection Using Raw UWB Rad
 ar Data\nEmine Berjin Doğan\; Mohammad Yousefi\; Ece Gelal Soyak\; Saeid 
 Karamzadeh\n11:15–11:30	Comparative Study of Narrowband and Ultra-Wideba
 nd Systems for Device-Free Localization\nMarco Cimdins\; Sven Ole Schmidt\
 ; Horst Hellbrück\n11:30–11:45	Infrastructure and Regulation: Pillars o
 f Reliability in 6G Networks with NR+\nPedro Estigarribia Pompilio\; Horá
 cio Tertuliano\; Claudio Silva\n11:45–12:00	A Novel AI Framework for WBA
 N Event Correlation in Healthcare: ServiceNow AIOps Approach\nKamran Ayub\
 ; Roushdy Alshawa\n12:00–12:15	Parameter Adjustment of the Pompilio Prop
 agation Model for Coastal RF Transmission Systems\nPedro Estigarribia Pomp
 ilio\; Horácio Tertuliano\; Claudio Silva\n12:15–12:30	Super Wideband S
 pearhead-Shaped Planar Antenna for EMC Testing and Radio Frequency Surveil
 lance\nAgus D. Prasetyo\; Budi Syihabuddin\; Elmi Cahyaningsih\; Achmad Mu
 nir\n12:30–12:45	Development of Quadrifilar Helix-Conical Antenna for WL
 AN Communication\nRheyuniarto Sahlendar Asthan\; Sania Asri Monica\; Heroe
  Wijanto\; Achmad Munir\n13:00–13:45	Coffee Break\n13:45–14:30	Introdu
 ctory Lecture Eighth-Order Coil Systems for Generating High Uniformity Ext
 remely Low-frequency EM Fields: Field Computation\, Application-specific C
 onstraints and Heating Estimation by Dr. Romāns Kušņins\n14:30–16:30	
 Session B2: Microwave Technology Remote\nChairs: Dr. Romāns Kušņins\, T
 atjana Solovjova\n14:30–14:45	A Coupler with Programmable Characteristic
  for Butler Matrix Applications\nZulfi Zulfi\; Nachwan Mufti Adriansyah\; 
 Achmad Munir\n14:45–15:00	Characterizing Attenuation of Bumper Modificat
 ions: A Comparative Study in the E-Band\nMichael Neubauer\; Michael Hirsch
 mugl\; David Petanjek\; Helge Kiebach\; Saeid Karamzadeh\n15:00–15:15	A 
 Leaky-Wave Antenna Based on Series-Fed Patch Array with Semi-Elliptical Ar
 ms for X Band Radar Applications\nGoksel Turan\; Gokhan Cinar\; Hayrettin 
 Odabasi\n15:15–15:30	Switchable Polarization Conversion Using Reflective
  Electromagnetic Surfaces in mmWave Spectrum\nDwi Andi Nurmantris\; Radial
  Anwar\; Achmad Munir\n15:30–15:45	Evaluating Substrate Influence on Rec
 tangular and Circular Microstrip Patch Antennas for 5G\nFatih Goksel\; Sae
 id Karamzadeh\n15:45–16:00	Development of Crossover-Free 8×8 Butler Mat
 rix for 2.4 GHz Beamsteering Applications\nMuhammad Manzil Karama\; Achmad
  Munir\; Zulfi Zulfi\n16:00–16:15	A Leaky-Wave Antenna Based on Series-F
 ed Slotted Patch Array and Transverse Stubs for K Band Radar Applications\
 nGoksel Turan\; Gokhan Cinar\; Hayrettin Odabasi\n16:15–16:30	Developmen
 t of Dual-Band Microstrip Bandpass Filter Based on Dual Mode Resonator for
  Wireless Communication Applications\nSulaiman Gari\; Dwi Andi Nurmantris\
 ; Nanang Ismail\; Achmad Munir\n18:00–21:00	Conference Gala Dinner\nCzec
 h brewery with a restaurant “Stargorod\,” Republikas Laukums 1\, Riga.
 \n\nVirtual: https://events.vtools.ieee.org/m/436611
LOCATION:Virtual: https://events.vtools.ieee.org/m/436611
ORGANIZER:anna.litvinenko@rtu.lv
SEQUENCE:9
SUMMARY:Session B1: Wireless Communications Remote
URL;VALUE=URI:https://events.vtools.ieee.org/m/436611
X-ALT-DESC:Description: &lt;br /&gt;&lt;p&gt;&lt;strong&gt;Session B1: Wireless Communication
 s Remote&lt;/strong&gt;&lt;br&gt;Chairs: Prof. Dr. Artūrs Āboltiņ&amp;scaron\;\, Dr. De
 niss Kolosovs&lt;/p&gt;\n&lt;table&gt;\n&lt;tbody&gt;\n&lt;tr&gt;\n&lt;td class=&quot;table-itemA&quot;&gt;11:00&amp;n
 dash\;11:15&lt;/td&gt;\n&lt;td class=&quot;table-itemB&quot;&gt;&lt;strong&gt;Neural Network-Based Hum
 an Detection Using Raw UWB Radar Data&lt;/strong&gt;&lt;br&gt;&lt;em&gt;Emine Berjin Doğan\
 ; Mohammad Yousefi\; Ece Gelal Soyak\; Saeid Karamzadeh&lt;/em&gt;&lt;/td&gt;\n&lt;/tr&gt;\n
 &lt;tr&gt;\n&lt;td class=&quot;table-itemA&quot;&gt;11:15&amp;ndash\;11:30&lt;/td&gt;\n&lt;td class=&quot;table-it
 emB&quot;&gt;&lt;strong&gt;Comparative Study of Narrowband and Ultra-Wideband Systems fo
 r Device-Free Localization&lt;/strong&gt;&lt;br&gt;&lt;em&gt;Marco Cimdins\; Sven Ole Schmid
 t\;&amp;nbsp\;&lt;strong&gt;Horst Hellbr&amp;uuml\;ck&lt;/strong&gt;&lt;/em&gt;&lt;/td&gt;\n&lt;/tr&gt;\n&lt;tr&gt;\n&lt;
 td class=&quot;table-itemA&quot;&gt;11:30&amp;ndash\;11:45&lt;/td&gt;\n&lt;td class=&quot;table-itemB&quot;&gt;&lt;s
 trong&gt;Infrastructure and Regulation: Pillars of Reliability in 6G Networks
  with NR+&lt;/strong&gt;&lt;br&gt;&lt;em&gt;Pedro Estigarribia Pompilio\;&amp;nbsp\;&lt;strong&gt;Hor&amp;
 aacute\;cio Tertuliano&lt;/strong&gt;\; Claudio Silva&lt;/em&gt;&lt;/td&gt;\n&lt;/tr&gt;\n&lt;tr&gt;\n&lt;t
 d class=&quot;table-itemA&quot;&gt;11:45&amp;ndash\;12:00&lt;/td&gt;\n&lt;td class=&quot;table-itemB&quot;&gt;&lt;st
 rong&gt;A Novel AI Framework for WBAN Event Correlation in Healthcare: Servic
 eNow AIOps Approach&lt;/strong&gt;&lt;br&gt;&lt;em&gt;&lt;strong&gt;Kamran Ayub&lt;/strong&gt;\; Roushdy
  Alshawa&lt;/em&gt;&lt;/td&gt;\n&lt;/tr&gt;\n&lt;tr&gt;\n&lt;td class=&quot;table-itemA&quot;&gt;12:00&amp;ndash\;12:1
 5&lt;/td&gt;\n&lt;td class=&quot;table-itemB&quot;&gt;&lt;strong&gt;Parameter Adjustment of the Pompil
 io Propagation Model for Coastal RF Transmission Systems&lt;/strong&gt;&lt;br&gt;&lt;em&gt;P
 edro Estigarribia Pompilio\;&amp;nbsp\;&lt;strong&gt;Hor&amp;aacute\;cio Tertuliano&lt;/str
 ong&gt;\; Claudio Silva&lt;/em&gt;&lt;/td&gt;\n&lt;/tr&gt;\n&lt;tr&gt;\n&lt;td class=&quot;table-itemA&quot;&gt;12:15
 &amp;ndash\;12:30&lt;/td&gt;\n&lt;td class=&quot;table-itemB&quot;&gt;&lt;strong&gt;Super Wideband Spearhe
 ad-Shaped Planar Antenna for EMC Testing and Radio Frequency Surveillance&lt;
 /strong&gt;&lt;br&gt;&lt;em&gt;Agus D. Prasetyo\; Budi Syihabuddin\; Elmi Cahyaningsih\; 
 Achmad Munir&lt;/em&gt;&lt;/td&gt;\n&lt;/tr&gt;\n&lt;tr&gt;\n&lt;td class=&quot;table-itemA&quot;&gt;12:30&amp;ndash\;
 12:45&lt;/td&gt;\n&lt;td class=&quot;table-itemB&quot;&gt;&lt;strong&gt;Development of Quadrifilar Hel
 ix-Conical Antenna for WLAN Communication&lt;/strong&gt;&lt;br&gt;&lt;em&gt;Rheyuniarto Sahl
 endar Asthan\; Sania Asri Monica\; Heroe Wijanto\; Achmad Munir&lt;/em&gt;&lt;/td&gt;\
 n&lt;/tr&gt;\n&lt;/tbody&gt;\n&lt;/table&gt;&lt;br /&gt;&lt;br /&gt;Agenda: &lt;br /&gt;&lt;table&gt;\n&lt;tbody&gt;\n&lt;tr&gt;
 \n&lt;td class=&quot;table-itemA&quot;&gt;10:15&amp;ndash\;11:00&lt;/td&gt;\n&lt;td class=&quot;table-itemB&quot;
 &gt;Introductory Lecture&amp;nbsp\;&lt;strong&gt;Microstrip Divider-Combiner Based Puls
 e Expander&lt;/strong&gt; by Tatjana Solovjova&lt;/td&gt;\n&lt;/tr&gt;\n&lt;tr&gt;\n&lt;td class=&quot;tab
 le-itemA&quot;&gt;11:00&amp;ndash\;13:00&lt;/td&gt;\n&lt;td class=&quot;table-itemB&quot;&gt;&lt;strong&gt;Session
  B1: Wireless Communications Remote&lt;/strong&gt;&lt;br&gt;Chairs: Prof. Dr. Artūrs 
 Āboltiņ&amp;scaron\;\, Dr. Deniss Kolosovs&lt;br&gt;\n&lt;table&gt;\n&lt;tbody&gt;\n&lt;tr&gt;\n&lt;td 
 class=&quot;table-itemA&quot;&gt;11:00&amp;ndash\;11:15&lt;/td&gt;\n&lt;td class=&quot;table-itemB&quot;&gt;&lt;stro
 ng&gt;Neural Network-Based Human Detection Using Raw UWB Radar Data&lt;/strong&gt;&lt;
 br&gt;&lt;em&gt;Emine Berjin Doğan\; Mohammad Yousefi\; Ece Gelal Soyak\; Saeid Ka
 ramzadeh&lt;/em&gt;&lt;/td&gt;\n&lt;/tr&gt;\n&lt;tr&gt;\n&lt;td class=&quot;table-itemA&quot;&gt;11:15&amp;ndash\;11:3
 0&lt;/td&gt;\n&lt;td class=&quot;table-itemB&quot;&gt;&lt;strong&gt;Comparative Study of Narrowband an
 d Ultra-Wideband Systems for Device-Free Localization&lt;/strong&gt;&lt;br&gt;&lt;em&gt;Marc
 o Cimdins\; Sven Ole Schmidt\;&amp;nbsp\;&lt;strong&gt;Horst Hellbr&amp;uuml\;ck&lt;/strong
 &gt;&lt;/em&gt;&lt;/td&gt;\n&lt;/tr&gt;\n&lt;tr&gt;\n&lt;td class=&quot;table-itemA&quot;&gt;11:30&amp;ndash\;11:45&lt;/td&gt;\
 n&lt;td class=&quot;table-itemB&quot;&gt;&lt;strong&gt;Infrastructure and Regulation: Pillars of
  Reliability in 6G Networks with NR+&lt;/strong&gt;&lt;br&gt;&lt;em&gt;Pedro Estigarribia Po
 mpilio\;&amp;nbsp\;&lt;strong&gt;Hor&amp;aacute\;cio Tertuliano&lt;/strong&gt;\; Claudio Silva
 &lt;/em&gt;&lt;/td&gt;\n&lt;/tr&gt;\n&lt;tr&gt;\n&lt;td class=&quot;table-itemA&quot;&gt;11:45&amp;ndash\;12:00&lt;/td&gt;\n
 &lt;td class=&quot;table-itemB&quot;&gt;&lt;strong&gt;A Novel AI Framework for WBAN Event Correl
 ation in Healthcare: ServiceNow AIOps Approach&lt;/strong&gt;&lt;br&gt;&lt;em&gt;&lt;strong&gt;Kam
 ran Ayub&lt;/strong&gt;\; Roushdy Alshawa&lt;/em&gt;&lt;/td&gt;\n&lt;/tr&gt;\n&lt;tr&gt;\n&lt;td class=&quot;tab
 le-itemA&quot;&gt;12:00&amp;ndash\;12:15&lt;/td&gt;\n&lt;td class=&quot;table-itemB&quot;&gt;&lt;strong&gt;Paramet
 er Adjustment of the Pompilio Propagation Model for Coastal RF Transmissio
 n Systems&lt;/strong&gt;&lt;br&gt;&lt;em&gt;Pedro Estigarribia Pompilio\;&amp;nbsp\;&lt;strong&gt;Hor&amp;
 aacute\;cio Tertuliano&lt;/strong&gt;\; Claudio Silva&lt;/em&gt;&lt;/td&gt;\n&lt;/tr&gt;\n&lt;tr&gt;\n&lt;t
 d class=&quot;table-itemA&quot;&gt;12:15&amp;ndash\;12:30&lt;/td&gt;\n&lt;td class=&quot;table-itemB&quot;&gt;&lt;st
 rong&gt;Super Wideband Spearhead-Shaped Planar Antenna for EMC Testing and Ra
 dio Frequency Surveillance&lt;/strong&gt;&lt;br&gt;&lt;em&gt;Agus D. Prasetyo\; Budi Syihabu
 ddin\; Elmi Cahyaningsih\; Achmad Munir&lt;/em&gt;&lt;/td&gt;\n&lt;/tr&gt;\n&lt;tr&gt;\n&lt;td class=
 &quot;table-itemA&quot;&gt;12:30&amp;ndash\;12:45&lt;/td&gt;\n&lt;td class=&quot;table-itemB&quot;&gt;&lt;strong&gt;Dev
 elopment of Quadrifilar Helix-Conical Antenna for WLAN Communication&lt;/stro
 ng&gt;&lt;br&gt;&lt;em&gt;Rheyuniarto Sahlendar Asthan\; Sania Asri Monica\; Heroe Wijant
 o\; Achmad Munir&lt;/em&gt;&lt;/td&gt;\n&lt;/tr&gt;\n&lt;/tbody&gt;\n&lt;/table&gt;\n&lt;/td&gt;\n&lt;/tr&gt;\n&lt;tr&gt;\
 n&lt;td class=&quot;table-itemA&quot;&gt;13:00&amp;ndash\;13:45&lt;/td&gt;\n&lt;td class=&quot;table-itemB&quot;&gt;
 &lt;strong&gt;Coffee Break&lt;/strong&gt;&lt;/td&gt;\n&lt;/tr&gt;\n&lt;tr&gt;\n&lt;td class=&quot;table-itemA&quot;&gt;1
 3:45&amp;ndash\;14:30&lt;/td&gt;\n&lt;td class=&quot;table-itemB&quot;&gt;Introductory Lecture&amp;nbsp\
 ;&lt;strong&gt;&lt;span class=&quot;TextRun SCXW231876279 BCX2&quot; lang=&quot;EN-GB&quot; xml:lang=&quot;E
 N-GB&quot; data-contrast=&quot;auto&quot;&gt;&lt;span class=&quot;NormalTextRun SCXW231876279 BCX2&quot;&gt;
 Eighth-O&lt;/span&gt;&lt;span class=&quot;NormalTextRun SCXW231876279 BCX2&quot;&gt;rder Coil Sy
 stems for Generating High Uniformity Extremely L&lt;/span&gt;&lt;span class=&quot;Normal
 TextRun SCXW231876279 BCX2&quot;&gt;ow&lt;/span&gt;&lt;span class=&quot;NormalTextRun SCXW231876
 279 BCX2&quot;&gt;-frequency EM Fields&lt;/span&gt;&lt;span class=&quot;NormalTextRun SCXW231876
 279 BCX2&quot;&gt;:&lt;/span&gt;&amp;nbsp\;&lt;span class=&quot;NormalTextRun SCXW231876279 BCX2&quot;&gt;Fi
 eld Computation&lt;/span&gt;&lt;span class=&quot;NormalTextRun SCXW231876279 BCX2&quot;&gt;\, Ap
 plication-specific Constraints&amp;nbsp\;&lt;/span&gt;&lt;span class=&quot;NormalTextRun SCX
 W231876279 BCX2&quot;&gt;and Heat&lt;/span&gt;&lt;span class=&quot;NormalTextRun SCXW231876279 B
 CX2&quot;&gt;ing&lt;/span&gt;&lt;span class=&quot;NormalTextRun SCXW231876279 BCX2&quot;&gt;&amp;nbsp\;Estim
 ation&lt;/span&gt;&lt;/span&gt;&lt;/strong&gt; by Dr. Romāns Ku&amp;scaron\;ņins&lt;/td&gt;\n&lt;/tr&gt;\n
 &lt;tr&gt;\n&lt;td class=&quot;table-itemA&quot;&gt;14:30&amp;ndash\;16:30&lt;/td&gt;\n&lt;td class=&quot;table-it
 emB&quot;&gt;&lt;strong&gt;Session B2: Microwave Technology Remote&lt;/strong&gt;&lt;br&gt;Chairs: D
 r. Romāns Ku&amp;scaron\;ņins\, Tatjana Solovjova\n&lt;table&gt;\n&lt;tbody&gt;\n&lt;tr&gt;\n&lt;
 td class=&quot;table-itemA&quot;&gt;14:30&amp;ndash\;14:45&lt;/td&gt;\n&lt;td class=&quot;table-itemB&quot;&gt;&lt;s
 trong&gt;A Coupler with Programmable Characteristic for Butler Matrix Applica
 tions&lt;/strong&gt;&lt;br&gt;&lt;em&gt;&lt;strong&gt;Zulfi Zulfi&lt;/strong&gt;\; Nachwan Mufti Adrians
 yah\; Achmad Munir&lt;/em&gt;&lt;/td&gt;\n&lt;/tr&gt;\n&lt;tr&gt;\n&lt;td class=&quot;table-itemA&quot;&gt;14:45&amp;n
 dash\;15:00&lt;/td&gt;\n&lt;td class=&quot;table-itemB&quot;&gt;&lt;strong&gt;Characterizing Attenuati
 on of Bumper Modifications: A Comparative Study in the E-Band&lt;/strong&gt;&lt;br&gt;
 &lt;em&gt;&lt;strong&gt;Michael Neubauer&lt;/strong&gt;\; Michael Hirschmugl\; David Petanje
 k\; Helge Kiebach\; Saeid Karamzadeh&lt;/em&gt;&lt;/td&gt;\n&lt;/tr&gt;\n&lt;tr&gt;\n&lt;td class=&quot;ta
 ble-itemA&quot;&gt;15:00&amp;ndash\;15:15&lt;/td&gt;\n&lt;td class=&quot;table-itemB&quot;&gt;&lt;strong&gt;A Leak
 y-Wave Antenna Based on Series-Fed Patch Array with Semi-Elliptical Arms f
 or X Band Radar Applications&lt;/strong&gt;&lt;br&gt;&lt;em&gt;&lt;strong&gt;Goksel Turan&lt;/strong&gt;
 \; Gokhan Cinar\; Hayrettin Odabasi&lt;/em&gt;&lt;/td&gt;\n&lt;/tr&gt;\n&lt;tr&gt;\n&lt;td class=&quot;tab
 le-itemA&quot;&gt;15:15&amp;ndash\;15:30&lt;/td&gt;\n&lt;td class=&quot;table-itemB&quot;&gt;&lt;strong&gt;Switcha
 ble Polarization Conversion Using Reflective Electromagnetic Surfaces in m
 mWave Spectrum&lt;/strong&gt;&lt;br&gt;&lt;em&gt;Dwi Andi Nurmantris\; Radial Anwar\; Achmad
  Munir&lt;/em&gt;&lt;/td&gt;\n&lt;/tr&gt;\n&lt;tr&gt;\n&lt;td class=&quot;table-itemA&quot;&gt;15:30&amp;ndash\;15:45&lt;
 /td&gt;\n&lt;td class=&quot;table-itemB&quot;&gt;&lt;strong&gt;Evaluating Substrate Influence on Re
 ctangular and Circular Microstrip Patch Antennas for 5G&lt;/strong&gt;&lt;br&gt;&lt;em&gt;&lt;s
 trong&gt;Fatih Goksel&lt;/strong&gt;\; Saeid Karamzadeh&lt;/em&gt;&lt;/td&gt;\n&lt;/tr&gt;\n&lt;tr&gt;\n&lt;td
  class=&quot;table-itemA&quot;&gt;15:45&amp;ndash\;16:00&lt;/td&gt;\n&lt;td class=&quot;table-itemB&quot;&gt;&lt;str
 ong&gt;Development of Crossover-Free 8&amp;times\;8 Butler Matrix for 2.4 GHz Bea
 msteering Applications&lt;/strong&gt;&lt;br&gt;&lt;em&gt;Muhammad Manzil Karama\; Achmad Mun
 ir\; Zulfi Zulfi&lt;/em&gt;&lt;/td&gt;\n&lt;/tr&gt;\n&lt;tr&gt;\n&lt;td class=&quot;table-itemA&quot;&gt;16:00&amp;nda
 sh\;16:15&lt;/td&gt;\n&lt;td class=&quot;table-itemB&quot;&gt;&lt;strong&gt;A Leaky-Wave Antenna Based
  on Series-Fed Slotted Patch Array and Transverse Stubs for K Band Radar A
 pplications&lt;/strong&gt;&lt;br&gt;&lt;em&gt;&lt;strong&gt;Goksel Turan&lt;/strong&gt;\; Gokhan Cinar\;
  Hayrettin Odabasi&lt;/em&gt;&lt;/td&gt;\n&lt;/tr&gt;\n&lt;tr&gt;\n&lt;td class=&quot;table-itemA&quot;&gt;16:15&amp;n
 dash\;16:30&lt;/td&gt;\n&lt;td class=&quot;table-itemB&quot;&gt;&lt;strong&gt;Development of Dual-Band
  Microstrip Bandpass Filter Based on Dual Mode Resonator for Wireless Comm
 unication Applications&lt;/strong&gt;&lt;br&gt;&lt;em&gt;&lt;strong&gt;Sulaiman Gari&lt;/strong&gt;\; Dw
 i Andi Nurmantris\; Nanang Ismail\; Achmad Munir&lt;/em&gt;&lt;/td&gt;\n&lt;/tr&gt;\n&lt;/tbody
 &gt;\n&lt;/table&gt;\n&lt;/td&gt;\n&lt;/tr&gt;\n&lt;tr&gt;\n&lt;td class=&quot;table-itemA&quot;&gt;18:00&amp;ndash\;21:0
 0&lt;/td&gt;\n&lt;td class=&quot;table-itemB&quot;&gt;&lt;strong&gt;Conference Gala Dinner&lt;br&gt;&lt;/strong
 &gt;Czech brewery with a restaurant &amp;ldquo\;Stargorod\,&amp;rdquo\; Republikas La
 ukums 1\, Riga.&lt;/td&gt;\n&lt;/tr&gt;\n&lt;/tbody&gt;\n&lt;/table&gt;
END:VEVENT
END:VCALENDAR

