BEGIN:VCALENDAR
VERSION:2.0
PRODID:IEEE vTools.Events//EN
CALSCALE:GREGORIAN
BEGIN:VTIMEZONE
TZID:Europe/Riga
BEGIN:DAYLIGHT
DTSTART:20240331T040000
TZOFFSETFROM:+0200
TZOFFSETTO:+0300
RRULE:FREQ=YEARLY;BYDAY=-1SU;BYMONTH=3
TZNAME:EEST
END:DAYLIGHT
BEGIN:STANDARD
DTSTART:20241027T030000
TZOFFSETFROM:+0300
TZOFFSETTO:+0200
RRULE:FREQ=YEARLY;BYDAY=-1SU;BYMONTH=10
TZNAME:EET
END:STANDARD
END:VTIMEZONE
BEGIN:VEVENT
DTSTAMP:20241007T064401Z
UID:FFFB20E3-2457-4DD0-8B65-53AB0F6F81A2
DTSTART;TZID=Europe/Riga:20241003T180000
DTEND;TZID=Europe/Riga:20241003T210000
DESCRIPTION:IEEE International Information and Communication Technology Fes
 tival is a two-day-long science-promoting event consolidating:\n\n● IEEE
  Day celebration\,\n● International Workshop on Microwave Theory and Tec
 hniques in Wireless Communications (MTTW’24)\,\n● Invited Lectures fro
 m Leading ICT European Scientists\,\n● Discussion of Industry Representa
 tives on Skills of the Next Generation Young Professionals in the Field of
  Information and Communication Technology.\n\nAgenda: \n10:15–11:00	Intr
 oductory Lecture Microstrip Divider-Combiner Based Pulse Expander by Tatja
 na Solovjova\n11:00–13:00	Session B1: Wireless Communications Remote\nCh
 airs: Prof. Dr. Artūrs Āboltiņš\, Dr. Deniss Kolosovs\n\n11:00–11:15
 	Neural Network-Based Human Detection Using Raw UWB Radar Data\nEmine Berj
 in Doğan\; Mohammad Yousefi\; Ece Gelal Soyak\; Saeid Karamzadeh\n11:15
 –11:30	Comparative Study of Narrowband and Ultra-Wideband Systems for De
 vice-Free Localization\nMarco Cimdins\; Sven Ole Schmidt\; Horst Hellbrüc
 k\n11:30–11:45	Infrastructure and Regulation: Pillars of Reliability in 
 6G Networks with NR+\nPedro Estigarribia Pompilio\; Horácio Tertuliano\; 
 Claudio Silva\n11:45–12:00	A Novel AI Framework for WBAN Event Correlati
 on in Healthcare: ServiceNow AIOps Approach\nKamran Ayub\; Roushdy Alshawa
 \n12:00–12:15	Parameter Adjustment of the Pompilio Propagation Model for
  Coastal RF Transmission Systems\nPedro Estigarribia Pompilio\; Horácio T
 ertuliano\; Claudio Silva\n12:15–12:30	Super Wideband Spearhead-Shaped P
 lanar Antenna for EMC Testing and Radio Frequency Surveillance\nAgus D. Pr
 asetyo\; Budi Syihabuddin\; Elmi Cahyaningsih\; Achmad Munir\n12:30–12:4
 5	Development of Quadrifilar Helix-Conical Antenna for WLAN Communication\
 nRheyuniarto Sahlendar Asthan\; Sania Asri Monica\; Heroe Wijanto\; Achmad
  Munir\n13:00–13:45	Coffee Break\n13:45–14:30	Introductory Lecture Eig
 hth-Order Coil Systems for Generating High Uniformity Extremely Low-freque
 ncy EM Fields: Field Computation\, Application-specific Constraints and He
 ating Estimation by Dr. Romāns Kušņins\n14:30–16:30	Session B2: Micro
 wave Technology Remote\nChairs: Dr. Romāns Kušņins\, Tatjana Solovjova\
 n14:30–14:45	A Coupler with Programmable Characteristic for Butler Matri
 x Applications\nZulfi Zulfi\; Nachwan Mufti Adriansyah\; Achmad Munir\n14:
 45–15:00	Characterizing Attenuation of Bumper Modifications: A Comparati
 ve Study in the E-Band\nMichael Neubauer\; Michael Hirschmugl\; David Peta
 njek\; Helge Kiebach\; Saeid Karamzadeh\n15:00–15:15	A Leaky-Wave Antenn
 a Based on Series-Fed Patch Array with Semi-Elliptical Arms for X Band Rad
 ar Applications\nGoksel Turan\; Gokhan Cinar\; Hayrettin Odabasi\n15:15–
 15:30	Switchable Polarization Conversion Using Reflective Electromagnetic 
 Surfaces in mmWave Spectrum\nDwi Andi Nurmantris\; Radial Anwar\; Achmad M
 unir\n15:30–15:45	Evaluating Substrate Influence on Rectangular and Circ
 ular Microstrip Patch Antennas for 5G\nFatih Goksel\; Saeid Karamzadeh\n15
 :45–16:00	Development of Crossover-Free 8×8 Butler Matrix for 2.4 GHz B
 eamsteering Applications\nMuhammad Manzil Karama\; Achmad Munir\; Zulfi Zu
 lfi\n16:00–16:15	A Leaky-Wave Antenna Based on Series-Fed Slotted Patch 
 Array and Transverse Stubs for K Band Radar Applications\nGoksel Turan\; G
 okhan Cinar\; Hayrettin Odabasi\n16:15–16:30	Development of Dual-Band Mi
 crostrip Bandpass Filter Based on Dual Mode Resonator for Wireless Communi
 cation Applications\nSulaiman Gari\; Dwi Andi Nurmantris\; Nanang Ismail\;
  Achmad Munir\n18:00–21:00	Conference Gala Dinner\nCzech brewery with a 
 restaurant “Stargorod\,” Republikas Laukums 1\, Riga.\n\nBldg: 1\, Rep
 ublikas Laukums\, Riga\, Latvia\, Latvia
LOCATION:Bldg: 1\, Republikas Laukums\, Riga\, Latvia\, Latvia
ORGANIZER:anna.litvinenko@rtu.lv
SEQUENCE:11
SUMMARY:IEEE MTTW&#39;24 Conference Gala Dinner
URL;VALUE=URI:https://events.vtools.ieee.org/m/436629
X-ALT-DESC:Description: &lt;br /&gt;&lt;p&gt;IEEE International Information and Communi
 cation Technology Festival is a two-day-long science-promoting event conso
 lidating:&amp;nbsp\;&lt;/p&gt;\n&lt;p&gt;● IEEE Day celebration\, &amp;nbsp\;&lt;br&gt;●&amp;nbsp\;I
 nternational Workshop on Microwave Theory and Techniques in Wireless Commu
 nications (MTTW&amp;rsquo\;24)\, &amp;nbsp\;&lt;br&gt;●&amp;nbsp\;Invited Lectures from Le
 ading ICT European Scientists\, &amp;nbsp\;&lt;br&gt;● Discussion of Industry Repr
 esentatives on Skills of the Next Generation Young Professionals in the Fi
 eld of Information and Communication Technology.&lt;/p&gt;&lt;br /&gt;&lt;br /&gt;Agenda: &lt;b
 r /&gt;&lt;table&gt;\n&lt;tbody&gt;\n&lt;tr&gt;\n&lt;td class=&quot;table-itemA&quot;&gt;10:15&amp;ndash\;11:00&lt;/td
 &gt;\n&lt;td class=&quot;table-itemB&quot;&gt;Introductory Lecture&amp;nbsp\;&lt;strong&gt;Microstrip D
 ivider-Combiner Based Pulse Expander&lt;/strong&gt; by Tatjana Solovjova&lt;/td&gt;\n&lt;
 /tr&gt;\n&lt;tr&gt;\n&lt;td class=&quot;table-itemA&quot;&gt;11:00&amp;ndash\;13:00&lt;/td&gt;\n&lt;td class=&quot;ta
 ble-itemB&quot;&gt;&lt;strong&gt;Session B1: Wireless Communications Remote&lt;/strong&gt;&lt;br&gt;
 Chairs: Prof. Dr. Artūrs Āboltiņ&amp;scaron\;\, Dr. Deniss Kolosovs&lt;br&gt;\n&lt;t
 able style=&quot;width: 94.9792%\; height: 313.38px\;&quot;&gt;\n&lt;tbody&gt;\n&lt;tr style=&quot;he
 ight: 44.7685px\;&quot;&gt;\n&lt;td class=&quot;table-itemA&quot; style=&quot;width: 9.49624%\; heig
 ht: 44.7685px\;&quot;&gt;11:00&amp;ndash\;11:15&lt;/td&gt;\n&lt;td class=&quot;table-itemB&quot; style=&quot;w
 idth: 87.3712%\; height: 44.7685px\;&quot;&gt;&lt;strong&gt;Neural Network-Based Human D
 etection Using Raw UWB Radar Data&lt;/strong&gt;&lt;br&gt;&lt;em&gt;Emine Berjin Doğan\; Mo
 hammad Yousefi\; Ece Gelal Soyak\; Saeid Karamzadeh&lt;/em&gt;&lt;/td&gt;\n&lt;/tr&gt;\n&lt;tr 
 style=&quot;height: 44.7685px\;&quot;&gt;\n&lt;td class=&quot;table-itemA&quot; style=&quot;width: 9.4962
 4%\; height: 44.7685px\;&quot;&gt;11:15&amp;ndash\;11:30&lt;/td&gt;\n&lt;td class=&quot;table-itemB&quot;
  style=&quot;width: 87.3712%\; height: 44.7685px\;&quot;&gt;&lt;strong&gt;Comparative Study o
 f Narrowband and Ultra-Wideband Systems for Device-Free Localization&lt;/stro
 ng&gt;&lt;br&gt;&lt;em&gt;Marco Cimdins\; Sven Ole Schmidt\;&amp;nbsp\;&lt;strong&gt;Horst Hellbr&amp;u
 uml\;ck&lt;/strong&gt;&lt;/em&gt;&lt;/td&gt;\n&lt;/tr&gt;\n&lt;tr style=&quot;height: 44.7685px\;&quot;&gt;\n&lt;td c
 lass=&quot;table-itemA&quot; style=&quot;width: 9.49624%\; height: 44.7685px\;&quot;&gt;11:30&amp;nda
 sh\;11:45&lt;/td&gt;\n&lt;td class=&quot;table-itemB&quot; style=&quot;width: 87.3712%\; height: 4
 4.7685px\;&quot;&gt;&lt;strong&gt;Infrastructure and Regulation: Pillars of Reliability 
 in 6G Networks with NR+&lt;/strong&gt;&lt;br&gt;&lt;em&gt;Pedro Estigarribia Pompilio\;&amp;nbsp
 \;&lt;strong&gt;Hor&amp;aacute\;cio Tertuliano&lt;/strong&gt;\; Claudio Silva&lt;/em&gt;&lt;/td&gt;\n&lt;
 /tr&gt;\n&lt;tr style=&quot;height: 44.7685px\;&quot;&gt;\n&lt;td class=&quot;table-itemA&quot; style=&quot;wid
 th: 9.49624%\; height: 44.7685px\;&quot;&gt;11:45&amp;ndash\;12:00&lt;/td&gt;\n&lt;td class=&quot;ta
 ble-itemB&quot; style=&quot;width: 87.3712%\; height: 44.7685px\;&quot;&gt;&lt;strong&gt;A Novel A
 I Framework for WBAN Event Correlation in Healthcare: ServiceNow AIOps App
 roach&lt;/strong&gt;&lt;br&gt;&lt;em&gt;&lt;strong&gt;Kamran Ayub&lt;/strong&gt;\; Roushdy Alshawa&lt;/em&gt;&lt;
 /td&gt;\n&lt;/tr&gt;\n&lt;tr style=&quot;height: 44.7685px\;&quot;&gt;\n&lt;td class=&quot;table-itemA&quot; sty
 le=&quot;width: 9.49624%\; height: 44.7685px\;&quot;&gt;12:00&amp;ndash\;12:15&lt;/td&gt;\n&lt;td cl
 ass=&quot;table-itemB&quot; style=&quot;width: 87.3712%\; height: 44.7685px\;&quot;&gt;&lt;strong&gt;Pa
 rameter Adjustment of the Pompilio Propagation Model for Coastal RF Transm
 ission Systems&lt;/strong&gt;&lt;br&gt;&lt;em&gt;Pedro Estigarribia Pompilio\;&amp;nbsp\;&lt;strong
 &gt;Hor&amp;aacute\;cio Tertuliano&lt;/strong&gt;\; Claudio Silva&lt;/em&gt;&lt;/td&gt;\n&lt;/tr&gt;\n&lt;tr
  style=&quot;height: 44.7685px\;&quot;&gt;\n&lt;td class=&quot;table-itemA&quot; style=&quot;width: 9.496
 24%\; height: 44.7685px\;&quot;&gt;12:15&amp;ndash\;12:30&lt;/td&gt;\n&lt;td class=&quot;table-itemB
 &quot; style=&quot;width: 87.3712%\; height: 44.7685px\;&quot;&gt;&lt;strong&gt;Super Wideband Spe
 arhead-Shaped Planar Antenna for EMC Testing and Radio Frequency Surveilla
 nce&lt;/strong&gt;&lt;br&gt;&lt;em&gt;Agus D. Prasetyo\; Budi Syihabuddin\; Elmi Cahyaningsi
 h\; Achmad Munir&lt;/em&gt;&lt;/td&gt;\n&lt;/tr&gt;\n&lt;tr style=&quot;height: 44.7685px\;&quot;&gt;\n&lt;td c
 lass=&quot;table-itemA&quot; style=&quot;width: 9.49624%\; height: 44.7685px\;&quot;&gt;12:30&amp;nda
 sh\;12:45&lt;/td&gt;\n&lt;td class=&quot;table-itemB&quot; style=&quot;width: 87.3712%\; height: 4
 4.7685px\;&quot;&gt;&lt;strong&gt;Development of Quadrifilar Helix-Conical Antenna for W
 LAN Communication&lt;/strong&gt;&lt;br&gt;&lt;em&gt;Rheyuniarto Sahlendar Asthan\; Sania Asr
 i Monica\; Heroe Wijanto\; Achmad Munir&lt;/em&gt;&lt;/td&gt;\n&lt;/tr&gt;\n&lt;/tbody&gt;\n&lt;/tabl
 e&gt;\n&lt;/td&gt;\n&lt;/tr&gt;\n&lt;tr&gt;\n&lt;td class=&quot;table-itemA&quot;&gt;13:00&amp;ndash\;13:45&lt;/td&gt;\n&lt;
 td class=&quot;table-itemB&quot;&gt;&lt;strong&gt;Coffee Break&lt;/strong&gt;&lt;/td&gt;\n&lt;/tr&gt;\n&lt;tr&gt;\n&lt;t
 d class=&quot;table-itemA&quot;&gt;13:45&amp;ndash\;14:30&lt;/td&gt;\n&lt;td class=&quot;table-itemB&quot;&gt;Int
 roductory Lecture&amp;nbsp\;&lt;strong&gt;&lt;span class=&quot;TextRun SCXW231876279 BCX2&quot; l
 ang=&quot;EN-GB&quot; xml:lang=&quot;EN-GB&quot; data-contrast=&quot;auto&quot;&gt;&lt;span class=&quot;NormalTextR
 un SCXW231876279 BCX2&quot;&gt;Eighth-O&lt;/span&gt;&lt;span class=&quot;NormalTextRun SCXW23187
 6279 BCX2&quot;&gt;rder Coil Systems for Generating High Uniformity Extremely L&lt;/s
 pan&gt;&lt;span class=&quot;NormalTextRun SCXW231876279 BCX2&quot;&gt;ow&lt;/span&gt;&lt;span class=&quot;N
 ormalTextRun SCXW231876279 BCX2&quot;&gt;-frequency EM Fields&lt;/span&gt;&lt;span class=&quot;N
 ormalTextRun SCXW231876279 BCX2&quot;&gt;:&lt;/span&gt;&amp;nbsp\;&lt;span class=&quot;NormalTextRun
  SCXW231876279 BCX2&quot;&gt;Field Computation&lt;/span&gt;&lt;span class=&quot;NormalTextRun SC
 XW231876279 BCX2&quot;&gt;\, Application-specific Constraints&amp;nbsp\;&lt;/span&gt;&lt;span c
 lass=&quot;NormalTextRun SCXW231876279 BCX2&quot;&gt;and Heat&lt;/span&gt;&lt;span class=&quot;Normal
 TextRun SCXW231876279 BCX2&quot;&gt;ing&lt;/span&gt;&lt;span class=&quot;NormalTextRun SCXW23187
 6279 BCX2&quot;&gt;&amp;nbsp\;Estimation&lt;/span&gt;&lt;/span&gt;&lt;/strong&gt; by Dr. Romāns Ku&amp;scar
 on\;ņins&lt;/td&gt;\n&lt;/tr&gt;\n&lt;tr&gt;\n&lt;td class=&quot;table-itemA&quot;&gt;14:30&amp;ndash\;16:30&lt;/t
 d&gt;\n&lt;td class=&quot;table-itemB&quot;&gt;&lt;strong&gt;Session B2: Microwave Technology Remot
 e&lt;/strong&gt;&lt;br&gt;Chairs: Dr. Romāns Ku&amp;scaron\;ņins\, Tatjana Solovjova\n&lt;t
 able&gt;\n&lt;tbody&gt;\n&lt;tr&gt;\n&lt;td class=&quot;table-itemA&quot;&gt;14:30&amp;ndash\;14:45&lt;/td&gt;\n&lt;td
  class=&quot;table-itemB&quot;&gt;&lt;strong&gt;A Coupler with Programmable Characteristic fo
 r Butler Matrix Applications&lt;/strong&gt;&lt;br&gt;&lt;em&gt;&lt;strong&gt;Zulfi Zulfi&lt;/strong&gt;\
 ; Nachwan Mufti Adriansyah\; Achmad Munir&lt;/em&gt;&lt;/td&gt;\n&lt;/tr&gt;\n&lt;tr&gt;\n&lt;td clas
 s=&quot;table-itemA&quot;&gt;14:45&amp;ndash\;15:00&lt;/td&gt;\n&lt;td class=&quot;table-itemB&quot;&gt;&lt;strong&gt;C
 haracterizing Attenuation of Bumper Modifications: A Comparative Study in 
 the E-Band&lt;/strong&gt;&lt;br&gt;&lt;em&gt;&lt;strong&gt;Michael Neubauer&lt;/strong&gt;\; Michael Hir
 schmugl\; David Petanjek\; Helge Kiebach\; Saeid Karamzadeh&lt;/em&gt;&lt;/td&gt;\n&lt;/t
 r&gt;\n&lt;tr&gt;\n&lt;td class=&quot;table-itemA&quot;&gt;15:00&amp;ndash\;15:15&lt;/td&gt;\n&lt;td class=&quot;tabl
 e-itemB&quot;&gt;&lt;strong&gt;A Leaky-Wave Antenna Based on Series-Fed Patch Array with
  Semi-Elliptical Arms for X Band Radar Applications&lt;/strong&gt;&lt;br&gt;&lt;em&gt;&lt;stron
 g&gt;Goksel Turan&lt;/strong&gt;\; Gokhan Cinar\; Hayrettin Odabasi&lt;/em&gt;&lt;/td&gt;\n&lt;/tr
 &gt;\n&lt;tr&gt;\n&lt;td class=&quot;table-itemA&quot;&gt;15:15&amp;ndash\;15:30&lt;/td&gt;\n&lt;td class=&quot;table
 -itemB&quot;&gt;&lt;strong&gt;Switchable Polarization Conversion Using Reflective Electr
 omagnetic Surfaces in mmWave Spectrum&lt;/strong&gt;&lt;br&gt;&lt;em&gt;Dwi Andi Nurmantris\
 ; Radial Anwar\; Achmad Munir&lt;/em&gt;&lt;/td&gt;\n&lt;/tr&gt;\n&lt;tr&gt;\n&lt;td class=&quot;table-ite
 mA&quot;&gt;15:30&amp;ndash\;15:45&lt;/td&gt;\n&lt;td class=&quot;table-itemB&quot;&gt;&lt;strong&gt;Evaluating Su
 bstrate Influence on Rectangular and Circular Microstrip Patch Antennas fo
 r 5G&lt;/strong&gt;&lt;br&gt;&lt;em&gt;&lt;strong&gt;Fatih Goksel&lt;/strong&gt;\; Saeid Karamzadeh&lt;/em&gt;
 &lt;/td&gt;\n&lt;/tr&gt;\n&lt;tr&gt;\n&lt;td class=&quot;table-itemA&quot;&gt;15:45&amp;ndash\;16:00&lt;/td&gt;\n&lt;td c
 lass=&quot;table-itemB&quot;&gt;&lt;strong&gt;Development of Crossover-Free 8&amp;times\;8 Butler
  Matrix for 2.4 GHz Beamsteering Applications&lt;/strong&gt;&lt;br&gt;&lt;em&gt;Muhammad Man
 zil Karama\; Achmad Munir\; Zulfi Zulfi&lt;/em&gt;&lt;/td&gt;\n&lt;/tr&gt;\n&lt;tr&gt;\n&lt;td class=
 &quot;table-itemA&quot;&gt;16:00&amp;ndash\;16:15&lt;/td&gt;\n&lt;td class=&quot;table-itemB&quot;&gt;&lt;strong&gt;A L
 eaky-Wave Antenna Based on Series-Fed Slotted Patch Array and Transverse S
 tubs for K Band Radar Applications&lt;/strong&gt;&lt;br&gt;&lt;em&gt;&lt;strong&gt;Goksel Turan&lt;/s
 trong&gt;\; Gokhan Cinar\; Hayrettin Odabasi&lt;/em&gt;&lt;/td&gt;\n&lt;/tr&gt;\n&lt;tr&gt;\n&lt;td clas
 s=&quot;table-itemA&quot;&gt;16:15&amp;ndash\;16:30&lt;/td&gt;\n&lt;td class=&quot;table-itemB&quot;&gt;&lt;strong&gt;D
 evelopment of Dual-Band Microstrip Bandpass Filter Based on Dual Mode Reso
 nator for Wireless Communication Applications&lt;/strong&gt;&lt;br&gt;&lt;em&gt;&lt;strong&gt;Sula
 iman Gari&lt;/strong&gt;\; Dwi Andi Nurmantris\; Nanang Ismail\; Achmad Munir&lt;/e
 m&gt;&lt;/td&gt;\n&lt;/tr&gt;\n&lt;/tbody&gt;\n&lt;/table&gt;\n&lt;/td&gt;\n&lt;/tr&gt;\n&lt;tr&gt;\n&lt;td class=&quot;table-i
 temA&quot;&gt;18:00&amp;ndash\;21:00&lt;/td&gt;\n&lt;td class=&quot;table-itemB&quot;&gt;&lt;strong&gt;Conference 
 Gala Dinner&lt;br&gt;&lt;/strong&gt;Czech brewery with a restaurant &amp;ldquo\;Stargorod\
 ,&amp;rdquo\; Republikas Laukums 1\, Riga.&lt;/td&gt;\n&lt;/tr&gt;\n&lt;/tbody&gt;\n&lt;/table&gt;
END:VEVENT
END:VCALENDAR

