BEGIN:VCALENDAR
VERSION:2.0
PRODID:IEEE vTools.Events//EN
CALSCALE:GREGORIAN
BEGIN:VTIMEZONE
TZID:Africa/Casablanca
BEGIN:DAYLIGHT
DTSTART:20240414T030000
TZOFFSETFROM:+0000
TZOFFSETTO:+0100
RRULE:FREQ=YEARLY;BYDAY=2SU;BYMONTH=4
TZNAME:+01
END:DAYLIGHT
BEGIN:STANDARD
DTSTART:20250223T020000
TZOFFSETFROM:+0100
TZOFFSETTO:+0000
RRULE:FREQ=YEARLY;BYDAY=-1SU;BYMONTH=2
TZNAME:+00
END:STANDARD
END:VTIMEZONE
BEGIN:VEVENT
DTSTAMP:20240930T220436Z
UID:2D1C0234-B851-4875-9417-C163275520D2
DTSTART;TZID=Africa/Casablanca:20240930T210000
DTEND;TZID=Africa/Casablanca:20240930T220000
DESCRIPTION:We discussed the planning details for our upcoming event includ
 ing logistics\, participant engagement\, and promotional activities.\n\nAl
 so\, we discussed about the TSYP congress projects.\n\n[]\n\nVirtual: http
 s://events.vtools.ieee.org/m/436764
LOCATION:Virtual: https://events.vtools.ieee.org/m/436764
ORGANIZER:haythem.boubaker@ieee.org
SEQUENCE:48
SUMMARY:Executive board meeting
URL;VALUE=URI:https://events.vtools.ieee.org/m/436764
X-ALT-DESC:Description: &lt;br /&gt;&lt;p data-pm-slice=&quot;1 1 []&quot;&gt;We discussed the pl
 anning details for our upcoming event including logistics\, participant en
 gagement\, and promotional activities.&lt;/p&gt;\n&lt;p&gt;&amp;nbsp\;&lt;/p&gt;\n&lt;p&gt;Also\, we d
 iscussed about the TSYP congress projects.&lt;br&gt;&lt;br&gt;&lt;/p&gt;\n&lt;p&gt;&lt;img style=&quot;dis
 play: block\; margin-left: auto\; margin-right: auto\;&quot; src=&quot;https://event
 s.vtools.ieee.org/vtools_ui/media/display/13217725-f368-4fa5-81da-1f1c31cb
 54f5&quot; alt=&quot;&quot; width=&quot;525&quot; height=&quot;249&quot;&gt;&lt;/p&gt;
END:VEVENT
END:VCALENDAR

