BEGIN:VCALENDAR
VERSION:2.0
PRODID:IEEE vTools.Events//EN
CALSCALE:GREGORIAN
BEGIN:VTIMEZONE
TZID:Europe/Paris
BEGIN:DAYLIGHT
DTSTART:20240331T030000
TZOFFSETFROM:+0100
TZOFFSETTO:+0200
RRULE:FREQ=YEARLY;BYDAY=-1SU;BYMONTH=3
TZNAME:CEST
END:DAYLIGHT
BEGIN:STANDARD
DTSTART:20241027T020000
TZOFFSETFROM:+0200
TZOFFSETTO:+0100
RRULE:FREQ=YEARLY;BYDAY=-1SU;BYMONTH=10
TZNAME:CET
END:STANDARD
END:VTIMEZONE
BEGIN:VEVENT
DTSTAMP:20241012T150112Z
UID:425762BC-4D80-4726-BFB9-D1C844C1E96C
DTSTART;TZID=Europe/Paris:20240930T080000
DTEND;TZID=Europe/Paris:20240930T130000
DESCRIPTION:On the first day of this event\, we successfully hosted a Blood
  Donation Day under the theme &quot;دمّك غَالِي&quot; in partnership with 
 IEEE ENET&#39;COM SB\, its chapters and affinity group\, JCI Sakiet Edair\, an
 d the Blood Bank of Sfax.\n\nThe event attracted a large number of enthusi
 astic donors\, all eager to contribute to this noble cause. It was truly h
 eartwarming to witness so many individuals willing to donate their time an
 d blood to help those in need. This initiative not only offered crucial su
 pport to those in need of blood but also helped spread vital awareness abo
 ut breast cancer.\n\nWe hope to continue organizing similar initiatives\, 
 as they remind us that even small actions\, like donating blood\, can have
  a profound impact on the health and well-being of our community.\n\n[Ouvr
 ir la photo]\n\nTunisia\, Sfax\, Sfax\, Sfax\, Tunisia\, 3018
LOCATION:Tunisia\, Sfax\, Sfax\, Sfax\, Tunisia\, 3018
ORGANIZER:smaouiyosr@ieee.org
SEQUENCE:13
SUMMARY:IEEE Day Celebration: دمك غالي | Your blood is precious DAY 
 1
URL;VALUE=URI:https://events.vtools.ieee.org/m/436796
X-ALT-DESC:Description: &lt;br /&gt;&lt;p dir=&quot;ltr&quot;&gt;On the first day of this event\,
  we successfully hosted a &lt;strong&gt;Blood Donation Day&lt;/strong&gt; under the th
 eme &lt;strong&gt;&quot;دمّك غَالِي&quot;&lt;/strong&gt; in partnership with&lt;span styl
 e=&quot;color: rgb(53\, 152\, 219)\;&quot;&gt;&lt;strong&gt; IEEE ENET&#39;COM SB&lt;/strong&gt;&lt;/span&gt;
 \, its&lt;span style=&quot;color: rgb(230\, 126\, 35)\;&quot;&gt; &lt;strong&gt;chapters and aff
 inity group&lt;/strong&gt;&lt;/span&gt;\, JCI Sakiet Edair\, and the Blood Bank of Sfa
 x.&lt;/p&gt;\n&lt;p dir=&quot;ltr&quot;&gt;The event attracted a large number of enthusiastic do
 nors\, all eager to contribute to this noble cause. It was truly heartwarm
 ing to witness so many individuals willing to donate their time and blood 
 to help those in need. This initiative not only offered crucial support to
  those in need of blood but also helped spread vital awareness about breas
 t cancer.&lt;/p&gt;\n&lt;p dir=&quot;ltr&quot;&gt;We hope to continue organizing similar initiat
 ives\, as they remind us that even small actions\, like donating blood\, c
 an have a profound impact on the health and well-being of our community.&lt;/
 p&gt;\n&lt;p&gt;&lt;img class=&quot;xz74otr xmz0i5r x193iq5w&quot; style=&quot;display: block\; margi
 n-left: auto\; margin-right: auto\;&quot; src=&quot;https://events.vtools.ieee.org/v
 tools_ui/media/display/55be1f28-062c-4a8c-9efc-381a0dab2a41&quot; alt=&quot;Ouvrir l
 a photo&quot; width=&quot;339&quot; height=&quot;339&quot;&gt;&lt;/p&gt;
END:VEVENT
END:VCALENDAR

