BEGIN:VCALENDAR
VERSION:2.0
PRODID:IEEE vTools.Events//EN
CALSCALE:GREGORIAN
BEGIN:VTIMEZONE
TZID:America/Los_Angeles
BEGIN:DAYLIGHT
DTSTART:20250309T030000
TZOFFSETFROM:-0800
TZOFFSETTO:-0700
RRULE:FREQ=YEARLY;BYDAY=2SU;BYMONTH=3
TZNAME:PDT
END:DAYLIGHT
BEGIN:STANDARD
DTSTART:20241103T010000
TZOFFSETFROM:-0700
TZOFFSETTO:-0800
RRULE:FREQ=YEARLY;BYDAY=1SU;BYMONTH=11
TZNAME:PST
END:STANDARD
END:VTIMEZONE
BEGIN:VEVENT
DTSTAMP:20241109T161056Z
UID:480A1D08-56B5-4EE7-8D46-7B8A18480E4E
DTSTART;TZID=America/Los_Angeles:20241108T070000
DTEND;TZID=America/Los_Angeles:20241108T093000
DESCRIPTION:Join us for a session on the latest fire protection codes and s
 tandards. Find out what professionals are doing in the industry. Sit back 
 and relax as we explore the state of the art monitoring system\, sprinkler
  systems\, and the special hazardous suppression system. Find out how the 
 Code changed with the Fire Alarm and Voice Evacuation system and the IES u
 pdates to their exit and emergency lighting. NFPA 13 has updates to the sp
 rinkler riser and hose systems and fire pumps. Find out what changed with 
 the back flow preventors\, fire extinguishers and kitchen hood fire suppre
 ssion systems. Can we save you a seat?\n\nCo-sponsored by: IEEE Power and 
 Energy Society\n\nSpeaker(s): Matthew Lausch\, Richard Roberts\, Jon Kapis
 \, Scott Bailey\n\nAgenda: \nFire Life Safety Mini Conference – Speaker 
 Line up\n\n7:00 am PST IEEE Announcements\n7:02 am PST Introducing speaker
 s\n7:04 am PST Matthew Lausch\, SET Mid-Atlantic Operations Leader at Jens
 en Hughes\n7:30 am PST Richard Roberts\, Industry Affairs Manager Honeywel
 l\n7:55 am PST Jon Kapis Senior Consultant Fire Protection Engineering\, C
 offman Engineers\n8:20 am PST Scott Allen Bailey\, CFPS\, SET\, Fire Safet
 y Coordinator\, Southern Power\n8:45 am PST Salute to the Speakers and IEE
 E Prize Pack Giveaway\n\nSpeaker Lineup\nMatthew Lausch\, SET Mid-Atlantic
  Operations Leader at Jensen Hughes\nRichard Roberts\, Industry Affairs Ma
 nager Honeywell\nJon Kapis Senior Consultant Fire Protection Engineering\,
  Coffman Engineers\nScott Allen Bailey\, CFPS\, SET\, Fire Safety Coordina
 tor\, Southern Power\n\n[PROGRAM](https://60c89b22-fa84-4f7f-9915-ca0ea931
 0154.usrfiles.com/ugd/60c89b_1e21b8b292a04cb4a03d1343b7ddde80.pdf) [List o
 f Speakers](https://60c89b22-fa84-4f7f-9915-ca0ea9310154.usrfiles.com/ugd/
 60c89b_a3bb153d7cad42ccb183311ad6b51ff9.pdf)\n\n[Presentation](https://you
 tu.be/PMyM_V3S7Gc) **[Salute to our Speakers](https://youtu.be/az4yMWpXBK4
 )**\n\nVirtual: https://events.vtools.ieee.org/m/436823
LOCATION:Virtual: https://events.vtools.ieee.org/m/436823
ORGANIZER:mike.brisbois@ieee.org
SEQUENCE:55
SUMMARY:IEEE Fire Protection Life Safety Mini Conference
URL;VALUE=URI:https://events.vtools.ieee.org/m/436823
X-ALT-DESC:Description: &lt;br /&gt;&lt;p&gt;Join us for a session on the latest fire p
 rotection codes and standards. Find out what professionals are doing in th
 e industry. Sit back and relax as we explore the state of the art monitori
 ng system\, sprinkler systems\, and the special hazardous suppression syst
 em. Find out how the Code changed with the &lt;!-- [if !supportLists]--&gt;Fire 
 Alarm and Voice Evacuation system and the IES updates to their exit and em
 ergency lighting. NFPA 13 has updates to the sprinkler riser and hose syst
 ems and fire pumps. Find out what changed with the back flow preventors\, 
 fire extinguishers and kitchen hood fire suppression systems. Can we save 
 you a seat?&lt;br&gt;&lt;br&gt;&lt;img src=&quot;https://events.vtools.ieee.org/vtools_ui/medi
 a/display/8002d383-6551-478e-8b13-b51b57045145&quot;&gt;&lt;/p&gt;&lt;br /&gt;&lt;br /&gt;Agenda: &lt;b
 r /&gt;&lt;p class=&quot;MsoNormal&quot; style=&quot;margin-bottom: 0in\; line-height: normal\;
 &quot;&gt;&lt;span style=&quot;font-size: 12.0pt\;&quot;&gt;Fire Life Safety Mini Conference &amp;ndas
 h\; Speaker Line up&lt;br&gt;&lt;br&gt;7:00 am PST IEEE Announcements&lt;br&gt;7:02 am PST I
 ntroducing speakers&lt;br&gt;7:04 am PST Matthew Lausch\, SET Mid-Atlantic Opera
 tions Leader at Jensen Hughes&lt;br&gt;7:30 am PST Richard Roberts\, Industry Af
 fairs Manager Honeywell&lt;br&gt;7:55 am PST Jon Kapis Senior Consultant Fire Pr
 otection Engineering\, Coffman Engineers &lt;br&gt;8:20 am PST Scott Allen Baile
 y\, CFPS\, SET\, Fire Safety Coordinator\, Southern Power&lt;br&gt;8:45 am PST S
 alute to the Speakers and IEEE Prize Pack Giveaway&lt;br&gt;&lt;/span&gt;&lt;span style=&quot;
 font-size: 12.0pt\; line-height: 107%\; font-family: &#39;Calibri&#39;\,sans-serif
 \; mso-ascii-theme-font: minor-latin\; mso-fareast-font-family: Calibri\; 
 mso-fareast-theme-font: minor-latin\; mso-hansi-theme-font: minor-latin\; 
 mso-bidi-font-family: &#39;Times New Roman&#39;\; mso-bidi-theme-font: minor-bidi\
 ; mso-ansi-language: EN-US\; mso-fareast-language: EN-US\; mso-bidi-langua
 ge: AR-SA\;&quot;&gt;&lt;br&gt;Speaker Lineup&lt;br&gt;Matthew Lausch\, SET Mid-Atlantic Opera
 tions Leader at Jensen Hughes&lt;br&gt;Richard Roberts\, Industry Affairs Manage
 r Honeywell&lt;br&gt;Jon Kapis Senior Consultant Fire Protection Engineering\, C
 offman Engineers&lt;br&gt;Scott Allen Bailey\, CFPS\, SET\, Fire Safety Coordina
 tor\, Southern Power&lt;br&gt;&lt;br&gt;&lt;a href=&quot;https://60c89b22-fa84-4f7f-9915-ca0ea
 9310154.usrfiles.com/ugd/60c89b_1e21b8b292a04cb4a03d1343b7ddde80.pdf&quot;&gt;PROG
 RAM&lt;/a&gt; &amp;nbsp\; &amp;nbsp\;&lt;a href=&quot;https://60c89b22-fa84-4f7f-9915-ca0ea93101
 54.usrfiles.com/ugd/60c89b_a3bb153d7cad42ccb183311ad6b51ff9.pdf&quot;&gt;List of S
 peakers&lt;/a&gt;&lt;br&gt;&lt;br&gt;&lt;a href=&quot;https://youtu.be/PMyM_V3S7Gc&quot;&gt;Presentation&lt;/a&gt;
 &amp;nbsp\; **&lt;a href=&quot;https://youtu.be/az4yMWpXBK4&quot;&gt;Salute to our Speakers&lt;/a
 &gt;**&lt;br&gt;&lt;/span&gt;&lt;/p&gt;
END:VEVENT
END:VCALENDAR

