BEGIN:VCALENDAR
VERSION:2.0
PRODID:IEEE vTools.Events//EN
CALSCALE:GREGORIAN
BEGIN:VTIMEZONE
TZID:Asia/Kolkata
BEGIN:STANDARD
DTSTART:19451014T230000
TZOFFSETFROM:+0630
TZOFFSETTO:+0530
TZNAME:IST
END:STANDARD
END:VTIMEZONE
BEGIN:VEVENT
DTSTAMP:20241008T070126Z
UID:E443C5A9-1435-4E69-8864-630A6ED98905
DTSTART;TZID=Asia/Kolkata:20241001T150000
DTEND;TZID=Asia/Kolkata:20241001T160000
DESCRIPTION:[Join us on this exciting and insightful talk by Dr. K. Anitha 
 Sheela\, Professor of ECE\, JNTUH and the Student Branch Counsellor of JNT
 U\, Hyderabad. Discover how you can make the most out of your IEEE members
 hip along with the roles and responsibilities of different office bearers 
 in the Student Branch.]\n\nJoin us on this exciting and insightful talk by
  Dr. K. Anitha Sheela\, the Student Branch Counsellor of JNTU\, Hyderabad 
 on the occasion of IEEE Day. Discover how you can make the most out of you
 r IEEE membership along with the roles and responsibilities of different o
 ffice bearers in the Student Branch.\n\nSpeaker(s): Dr. K. Anitha Sheela\n
 \nRoom: Golden Jubliee Seminarhall\, Bldg: ECE Department\, Hyderabad\, An
 dhra Pradesh\, India
LOCATION:Room: Golden Jubliee Seminarhall\, Bldg: ECE Department\, Hyderaba
 d\, Andhra Pradesh\, India
ORGANIZER:paulpraneeth24@ieee.org
SEQUENCE:11
SUMMARY:Benefits of IEEE Membership
URL;VALUE=URI:https://events.vtools.ieee.org/m/436918
X-ALT-DESC:Description: &lt;br /&gt;&lt;p&gt;&amp;nbsp\;&lt;/p&gt;\n&lt;p&gt;&lt;img src=&quot;https://events.v
 tools.ieee.org/vtools_ui/media/display/a2be85af-2c01-4a69-a42e-a98dcd804c6
 7&quot; alt=&quot;Join us on this exciting and insightful talk by Dr. K. Anitha Shee
 la\, Professor of ECE\, JNTUH and the Student Branch Counsellor of JNTU\, 
 Hyderabad. Discover how you can make the most out of your IEEE membership 
 along with the roles and responsibilities of different office bearers in t
 he Student Branch.&quot; width=&quot;1110&quot; height=&quot;1413&quot;&gt;&lt;/p&gt;\n&lt;p style=&quot;text-align:
  center\;&quot;&gt;&lt;strong&gt;Join us on this exciting and insightful talk by Dr. K. 
 Anitha Sheela\, the Student Branch Counsellor of JNTU\, Hyderabad on the o
 ccasion of IEEE Day. Discover how you can make the most out of your IEEE m
 embership along with the roles and responsibilities of different office be
 arers in the Student Branch.&lt;/strong&gt;&lt;/p&gt;
END:VEVENT
END:VCALENDAR

