BEGIN:VCALENDAR
VERSION:2.0
PRODID:IEEE vTools.Events//EN
CALSCALE:GREGORIAN
BEGIN:VTIMEZONE
TZID:Asia/Kolkata
BEGIN:STANDARD
DTSTART:19451014T230000
TZOFFSETFROM:+0630
TZOFFSETTO:+0530
TZNAME:IST
END:STANDARD
END:VTIMEZONE
BEGIN:VEVENT
DTSTAMP:20241010T070111Z
UID:70CD08AF-ABB5-443F-883F-650A1CA1663A
DTSTART;TZID=Asia/Kolkata:20241007T100000
DTEND;TZID=Asia/Kolkata:20241007T160000
DESCRIPTION:Build and race your self-made RC cars through a custom-designed
  track after acing the design rules and showcasing your engineering prowes
 s.\n\nChennai\, Tamil Nadu\, India\, 600044
LOCATION:Chennai\, Tamil Nadu\, India\, 600044
ORGANIZER:ieeesb@sairamit.edu.in
SEQUENCE:1
SUMMARY:IEEE Day: RC Turbo Track
URL;VALUE=URI:https://events.vtools.ieee.org/m/437048
X-ALT-DESC:Description: &lt;br /&gt;&lt;p&gt;Build and race your self-made RC cars thro
 ugh a custom-designed track after acing the design rules and showcasing yo
 ur engineering prowess.&lt;/p&gt;
END:VEVENT
END:VCALENDAR

