BEGIN:VCALENDAR
VERSION:2.0
PRODID:IEEE vTools.Events//EN
CALSCALE:GREGORIAN
BEGIN:VTIMEZONE
TZID:Asia/Kolkata
BEGIN:STANDARD
DTSTART:19451014T230000
TZOFFSETFROM:+0630
TZOFFSETTO:+0530
TZNAME:IST
END:STANDARD
END:VTIMEZONE
BEGIN:VEVENT
DTSTAMP:20241010T070113Z
UID:43383869-20D2-467C-A3C1-ADAA0DEAE3B5
DTSTART;TZID=Asia/Kolkata:20241007T100000
DTEND;TZID=Asia/Kolkata:20241007T160000
DESCRIPTION:Use your coding skills and teamwork to crack codes and solve co
 mplex programming tasks in a fast-paced\, adrenaline-fueled race.\n\nChenn
 ai\, Tamil Nadu\, India\, 600044
LOCATION:Chennai\, Tamil Nadu\, India\, 600044
ORGANIZER:ieeesb@sairamit.edu.in
SEQUENCE:5
SUMMARY:IEEE Day: Cipher Chase
URL;VALUE=URI:https://events.vtools.ieee.org/m/437057
X-ALT-DESC:Description: &lt;br /&gt;&lt;p&gt;Use your coding skills and teamwork to cra
 ck codes and solve complex programming tasks in a fast-paced\, adrenaline-
 fueled race.&lt;/p&gt;
END:VEVENT
END:VCALENDAR

