BEGIN:VCALENDAR
VERSION:2.0
PRODID:IEEE vTools.Events//EN
CALSCALE:GREGORIAN
BEGIN:VTIMEZONE
TZID:Asia/Kolkata
BEGIN:STANDARD
DTSTART:19451014T230000
TZOFFSETFROM:+0630
TZOFFSETTO:+0530
TZNAME:IST
END:STANDARD
END:VTIMEZONE
BEGIN:VEVENT
DTSTAMP:20241226T174940Z
UID:DEBA19E2-862C-4FBE-86AA-92055D0A7A1A
DTSTART;TZID=Asia/Kolkata:20241007T090000
DTEND;TZID=Asia/Kolkata:20241007T160000
DESCRIPTION:\n\nSri Sairam Engineering College\, Sai Leo Nagar\, Chennai - 
 44\, Chennai\, Tamil Nadu\, India
LOCATION:Sri Sairam Engineering College\, Sai Leo Nagar\, Chennai - 44\, Ch
 ennai\, Tamil Nadu\, India
ORGANIZER:esther.ai@sairam.edu.in
SEQUENCE:9
SUMMARY:CIPHER CHASE
URL;VALUE=URI:https://events.vtools.ieee.org/m/437171
X-ALT-DESC:Description: &lt;br /&gt;&lt;p&gt;&lt;img src=&quot;https://events.vtools.ieee.org/v
 tools_ui/media/display/09ecd212-a52b-414f-b3bf-b020fc7b110f&quot; width=&quot;1027&quot; 
 height=&quot;1027&quot;&gt;&lt;/p&gt;
END:VEVENT
END:VCALENDAR

