BEGIN:VCALENDAR
VERSION:2.0
PRODID:IEEE vTools.Events//EN
CALSCALE:GREGORIAN
BEGIN:VTIMEZONE
TZID:Asia/Kolkata
BEGIN:STANDARD
DTSTART:19451014T230000
TZOFFSETFROM:+0630
TZOFFSETTO:+0530
TZNAME:IST
END:STANDARD
END:VTIMEZONE
BEGIN:VEVENT
DTSTAMP:20251227T141802Z
UID:8FB75E3A-BA24-4570-B2CE-942CCEF26941
DTSTART;TZID=Asia/Kolkata:20241003T090000
DTEND;TZID=Asia/Kolkata:20241007T160000
DESCRIPTION:[]\n\n🚀 🚀 IEEE DAY 2024 is almost here! 🌍\n\n🎉 Mark
  your calendars for October 7\, 2024 as IEEE Region 10 gears up for a tech
  extravaganza like no other! Get ready to challenge your mind\, ignite you
 r passion\, and dive into an exciting lineup of 7 thrilling events that wi
 ll push your skills to the next level. 💡\n\n⚡ Here’s a sneak peek a
 t what’s in store:\n\n🤖 BOT VAULT : Explore the world of automation a
 nd sensors in a hands-on robotics challenge designed to introduce you to c
 utting-edge tech.\n\n🏎 RC TURBO TRACK : Build and race your self-made R
 C cars through a custom-designed track after acing the design rules and sh
 owcasing your engineering prowess.\n\n💼 BOTIFY BUSINESS: Dive into the 
 future of AI-driven business with generative AI tools\, creating promotion
 al content and building business chatbots to solve real-world problems.\n\
 n🎲 BID WARS: A high-stakes auction where your strategy and IEEE knowled
 ge will determine who wins the ultimate tech bid!\n\n🎯 PAYLOAD PURSUIT:
  Race against time in a Capture The Flag (CTF) challenge\, solving IEEE-th
 emed puzzles and uncovering hidden flags.\n\n💡 SPARK SCOPE: Pitch innov
 ative ideas\, design creative posters\, and tackle crossword puzzles in th
 is multi-faceted tech challenge.\n\n🔐 CIPHER CHASE : Use your coding sk
 ills and teamwork to crack codes and solve complex programming tasks in a 
 fast-paced\, adrenaline-fueled race.\n\nThe countdown has begun – are yo
 u ready to Innovate\, Compete\, and Win? 🏆🚀\n\n🌟 Big surprises\, 
 epic moments\, and endless opportunities are waiting for YOU . Gather your
  team\, sharpen your skills\, and get ready to be part of something unforg
 ettable!\n\n📅 October 7\, 2024\n📍 Sri Sai Ram Engineering College\, 
 West Tambaram\n\n🔥 7 electrifying events – Who will take the crown! 
 👑\n\nStay tuned for more updates\, and let’s make this IEEE Day a cel
 ebration to remember! 🎊\n\nInstagram: https://www.instagram.com/sec_iee
 e.sb?igsh=MWFtOHkwMnk2Y2hnNw==\n\nLinkedIn: https://www.linkedin.com/compa
 ny/sri-sairam-engineering-college-ieee-student-branch/\n\n#IEEEday2024 #Re
 gion10Events #TechBattle #InnovateAndInspire #UnlockTheFuture #JoinTheExci
 tement #CelebrateWithIEEE\n\nBldg: sai leo muthu stadium\, Sri Sairam engi
 neering college\, west tambaram\, India\, Chennai\, Tamil Nadu\, India\, 6
 00037
LOCATION:Bldg: sai leo muthu stadium\, Sri Sairam engineering college\, wes
 t tambaram\, India\, Chennai\, Tamil Nadu\, India\, 600037
ORGANIZER:geethaeng01@gmail.com
SEQUENCE:5
SUMMARY:IEEE day 
URL;VALUE=URI:https://events.vtools.ieee.org/m/437195
X-ALT-DESC:Description: &lt;br /&gt;&lt;p&gt;&lt;img src=&quot;https://events.vtools.ieee.org/v
 tools_ui/media/display/fcabb7dd-6f42-4538-ad0c-798b3fd99a41&quot; alt=&quot;&quot;&gt;&lt;img s
 rc=&quot;blob:https://web.whatsapp.com/0b789fbc-303a-40ca-bbad-2f188bcb706b&quot;&gt;&lt;/
 p&gt;\n&lt;p&gt;🚀 🚀 IEEE DAY 2024 is almost here! 🌍&lt;/p&gt;\n&lt;p&gt;🎉 Mark your
  calendars for October 7\, 2024 as IEEE Region 10 gears up for a tech extr
 avaganza like no other! Get ready to challenge your mind\, ignite your pas
 sion\, and dive into an exciting lineup of 7 thrilling events that will pu
 sh your skills to the next level. 💡&lt;/p&gt;\n&lt;p&gt;⚡ Here&amp;rsquo\;s a sneak p
 eek at what&amp;rsquo\;s in store:&amp;nbsp\;&lt;/p&gt;\n&lt;p&gt;🤖 BOT VAULT : Explore the
  world of automation and sensors in a hands-on robotics challenge designed
  to introduce you to cutting-edge tech.&lt;/p&gt;\n&lt;p&gt;🏎 RC TURBO TRACK : Buil
 d and race your self-made RC cars through a custom-designed track after ac
 ing the design rules and showcasing your engineering prowess.&lt;/p&gt;\n&lt;p&gt;💼
  BOTIFY BUSINESS: Dive into the future of AI-driven business with generati
 ve AI tools\, creating promotional content and building business chatbots 
 to solve real-world problems.&lt;/p&gt;\n&lt;p&gt;🎲 BID WARS: A high-stakes auction
  where your strategy and IEEE knowledge will determine who wins the ultima
 te tech bid!&lt;/p&gt;\n&lt;p&gt;🎯 PAYLOAD PURSUIT: Race against time in a Capture 
 The Flag (CTF) challenge\, solving IEEE-themed puzzles and uncovering hidd
 en flags.&lt;/p&gt;\n&lt;p&gt;💡 SPARK SCOPE: Pitch innovative ideas\, design creati
 ve posters\, and tackle crossword puzzles in this multi-faceted tech chall
 enge.&lt;/p&gt;\n&lt;p&gt;🔐 CIPHER CHASE : Use your coding skills and teamwork to c
 rack codes and solve complex programming tasks in a fast-paced\, adrenalin
 e-fueled race.&lt;/p&gt;\n&lt;p&gt;The countdown has begun &amp;ndash\; are you ready to I
 nnovate\, Compete\, and Win? 🏆🚀&lt;/p&gt;\n&lt;p&gt;🌟 Big surprises\, epic mo
 ments\, and endless opportunities are waiting for YOU . Gather your team\,
  sharpen your skills\, and get ready to be part of something unforgettable
 !&lt;/p&gt;\n&lt;p&gt;&lt;br&gt;📅 October 7\, 2024&lt;br&gt;📍 Sri Sai Ram Engineering Colleg
 e\, West Tambaram&lt;/p&gt;\n&lt;p&gt;🔥 7 electrifying events &amp;ndash\; Who will tak
 e the crown! 👑&lt;/p&gt;\n&lt;p&gt;Stay tuned for more updates\, and let&amp;rsquo\;s m
 ake this IEEE Day a celebration to remember! 🎊&lt;/p&gt;\n&lt;p&gt;Instagram: https
 ://www.instagram.com/sec_ieee.sb?igsh=MWFtOHkwMnk2Y2hnNw==&lt;/p&gt;\n&lt;p&gt;LinkedI
 n: https://www.linkedin.com/company/sri-sairam-engineering-college-ieee-st
 udent-branch/&lt;/p&gt;\n&lt;p&gt;#IEEEday2024 #Region10Events #TechBattle #InnovateAn
 dInspire #UnlockTheFuture #JoinTheExcitement #CelebrateWithIEEE&lt;/p&gt;
END:VEVENT
END:VCALENDAR

