BEGIN:VCALENDAR
VERSION:2.0
PRODID:IEEE vTools.Events//EN
CALSCALE:GREGORIAN
BEGIN:VTIMEZONE
TZID:Asia/Kolkata
BEGIN:STANDARD
DTSTART:19451014T230000
TZOFFSETFROM:+0630
TZOFFSETTO:+0530
TZNAME:IST
END:STANDARD
END:VTIMEZONE
BEGIN:VEVENT
DTSTAMP:20241011T072050Z
UID:904A0669-515E-41D5-8EDA-6903ACBA975F
DTSTART;TZID=Asia/Kolkata:20241007T090000
DTEND;TZID=Asia/Kolkata:20241007T160000
DESCRIPTION:IEEE DAY 2024 is almost here! 🌍\n\n🎉 Mark your calendars 
 for October 7\, 2024 as IEEE Region 10 gears up for a tech extravaganza li
 ke no other! Get ready to challenge your mind\, ignite your passion\, and 
 dive into an exciting lineup of 7 thrilling events that will push your ski
 lls to the next level. 💡\n\nThe countdown has begun – are you ready t
 o Innovate\, Compete\, and Win? 🏆🚀\n\n🌟 Big surprises\, epic mome
 nts\, and endless opportunities are waiting for YOU . Gather your team\, s
 harpen your skills\, and get ready to be part of something unforgettable!\
 n\n🔥 7 electrifying events – Who will take the crown! 👑\n\n[]\n\nA
 genda: \nBOT VAULT : Explore the world of automation and sensors in a hand
 s-on robotics challenge designed to introduce you to cutting-edge tech.\n\
 nRC TURBO TRACK : Build and race your self-made RC cars through a custom-d
 esigned track after acing the design rules and showcasing your engineering
  prowess.\n\nBOTIFY BUSINESS: Dive into the future of AI-driven business w
 ith generative AI tools\, creating promotional content and building busine
 ss chatbots to solve real-world problems.\n\nBID WARS: A high-stakes aucti
 on where your strategy and IEEE knowledge will determine who wins the ulti
 mate tech bid!\n\nPAYLOAD PURSUIT: Race against time in a Capture The Flag
  (CTF) challenge\, solving IEEE-themed puzzles and uncovering hidden flags
 .\n\nSPARK SCOPE: Pitch innovative ideas\, design creative posters\, and t
 ackle crossword puzzles in this multi-faceted tech challenge.\n\nCIPHER CH
 ASE : Use your coding skills and teamwork to crack codes and solve complex
  programming tasks in a fast-paced\, adrenaline-fueled race.\n\nSri Sairam
  Engineering College\, Chennai\, Tamil Nadu\, India\, 600044
LOCATION:Sri Sairam Engineering College\, Chennai\, Tamil Nadu\, India\, 60
 0044
ORGANIZER:remyavjagan@gmail.com
SEQUENCE:17
SUMMARY:IEEE Day 2024
URL;VALUE=URI:https://events.vtools.ieee.org/m/437228
X-ALT-DESC:Description: &lt;br /&gt;&lt;p&gt;IEEE DAY 2024 is almost here! 🌍&lt;/p&gt;\n&lt;p
 &gt;🎉 Mark your calendars for October 7\, 2024 as IEEE Region 10 gears up 
 for a tech extravaganza like no other! Get ready to challenge your mind\, 
 ignite your passion\, and dive into an exciting lineup of 7 thrilling even
 ts that will push your skills to the next level. 💡&lt;/p&gt;\n&lt;p&gt;The countdow
 n has begun &amp;ndash\; are you ready to Innovate\, Compete\, and Win? 🏆
 🚀&lt;/p&gt;\n&lt;p&gt;🌟 Big surprises\, epic moments\, and endless opportunities
  are waiting for YOU . Gather your team\, sharpen your skills\, and get re
 ady to be part of something unforgettable!&lt;/p&gt;\n&lt;p&gt;🔥 7 electrifying eve
 nts &amp;ndash\; Who will take the crown! 👑&lt;/p&gt;\n&lt;p&gt;&lt;img src=&quot;https://event
 s.vtools.ieee.org/vtools_ui/media/display/6b64a27e-5db9-4a7c-b594-c9ec5dcf
 a5cc&quot; alt=&quot;&quot; width=&quot;1080&quot; height=&quot;1080&quot;&gt;&lt;/p&gt;&lt;br /&gt;&lt;br /&gt;Agenda: &lt;br /&gt;&lt;p&gt;B
 OT VAULT : Explore the world of automation and sensors in a hands-on robot
 ics challenge designed to introduce you to cutting-edge tech.&lt;/p&gt;\n&lt;p&gt;&amp;nbs
 p\;RC TURBO TRACK : Build and race your self-made RC cars through a custom
 -designed track after acing the design rules and showcasing your engineeri
 ng prowess.&lt;/p&gt;\n&lt;p&gt;&amp;nbsp\;BOTIFY BUSINESS: Dive into the future of AI-dri
 ven business with generative AI tools\, creating promotional content and b
 uilding business chatbots to solve real-world problems.&lt;/p&gt;\n&lt;p&gt;&amp;nbsp\;BID
  WARS: A high-stakes auction where your strategy and IEEE knowledge will d
 etermine who wins the ultimate tech bid!&lt;/p&gt;\n&lt;p&gt;&amp;nbsp\;PAYLOAD PURSUIT: R
 ace against time in a Capture The Flag (CTF) challenge\, solving IEEE-them
 ed puzzles and uncovering hidden flags.&lt;/p&gt;\n&lt;p&gt;&amp;nbsp\;SPARK SCOPE: Pitch 
 innovative ideas\, design creative posters\, and tackle crossword puzzles 
 in this multi-faceted tech challenge.&lt;/p&gt;\n&lt;p&gt;CIPHER CHASE : Use your codi
 ng skills and teamwork to crack codes and solve complex programming tasks 
 in a fast-paced\, adrenaline-fueled race.&lt;/p&gt;
END:VEVENT
END:VCALENDAR

