BEGIN:VCALENDAR
VERSION:2.0
PRODID:IEEE vTools.Events//EN
CALSCALE:GREGORIAN
BEGIN:VTIMEZONE
TZID:Asia/Dhaka
BEGIN:DAYLIGHT
DTSTART:20380119T091407
TZOFFSETFROM:+0600
TZOFFSETTO:+0600
RRULE:FREQ=YEARLY;BYDAY=3TU;BYMONTH=1
TZNAME:+06
END:DAYLIGHT
BEGIN:STANDARD
DTSTART:20091231T230000
TZOFFSETFROM:+0700
TZOFFSETTO:+0600
RRULE:FREQ=YEARLY;BYDAY=-1TH;BYMONTH=12
TZNAME:+06
END:STANDARD
END:VTIMEZONE
BEGIN:VEVENT
DTSTAMP:20241008T181242Z
UID:8BF4C237-2405-4100-BF23-59B295E7A6FB
DTSTART;TZID=Asia/Dhaka:20241005T151500
DTEND;TZID=Asia/Dhaka:20241005T170000
DESCRIPTION:On October 5th\, 2024\, the IEEE NSU Student Branch WIE Affinit
 y Group in collaboration with the IEEE NSU IAS Student Branch Chapter arra
 nged a very interactive and informative workshop titled &quot;Crafting User Cen
 tric Designs: A UI/UX Workshop&quot;. The workshop sought to introduce particip
 ants to the basic concepts of UI/UX design while equipping them with hands
 -on skills in designing intuitive and visually attractive digital products
 .\n\n[]\n\nThe workshop commenced with an introduction of Maisha Wadud Ana
 nya \,a skilled UI/UX Engineer and Game Developer at TETO. First\, she sha
 red her experiences within the field and made presentations of the UI/UX d
 esign process more realistic for the audience. After some welcoming remark
 s\, the instructor led a discussion-exercising session interactively\, whe
 re participants could reflect on design elements they see or encounter in 
 applications every day. During the workshop\, participants were able to le
 arn some of the key principles of UI/UX design\, focusing on the user-cent
 ered design approaches &amp; usability. They were introduced to practical desi
 gn tools such as “Figma”\, where live demonstrations of how to create 
 and optimize user interfaces were done. Although participants wanted more 
 of the session but due to time shortage the session wrapped up with a very
  interactive question-and-answer session in which the participants got an 
 ample opportunity to ask questions and even got design projects reviewed.\
 n\nTo conclude the session\, Suraiya Islam Meem\, Chair of IEEE NSU Studen
 t Branch WIE Affinity Group\, and Tabassom Nabila\, Chair of IEEE NSU IAS 
 SBC\, presented the instructor with a token of appreciation for her valuab
 le contributions. The session officially ended at 5:45 PM with a group pho
 to to commemorate the successful event. This workshop equipped participant
 s with a solid foundation in UI/UX design principles and practical tools\,
  empowering them to apply these skills in their future projects.\n\nRoom: 
 607\, Bldg: LIB\, North South University\, Bashundhara R/A\, Dhaka\, Dhaka
 \, Bangladesh
LOCATION:Room: 607\, Bldg: LIB\, North South University\, Bashundhara R/A\,
  Dhaka\, Dhaka\, Bangladesh
ORGANIZER:ieeewie.nsu@gmail.com
SEQUENCE:25
SUMMARY:CRAFTING USER-CENTRIC DESIGNS: A UI/UX WORKSHOP
URL;VALUE=URI:https://events.vtools.ieee.org/m/437252
X-ALT-DESC:Description: &lt;br /&gt;&lt;p dir=&quot;ltr&quot;&gt;On October 5th\, 2024\, the IEEE
  NSU Student Branch WIE Affinity Group in collaboration with the IEEE NSU 
 IAS Student Branch Chapter arranged a very interactive and informative wor
 kshop titled &quot;Crafting User Centric Designs: A UI/UX Workshop&quot;. The worksh
 op sought to introduce participants to the basic concepts of UI/UX design 
 while equipping them with hands-on skills in designing intuitive and visua
 lly attractive digital products.&lt;/p&gt;\n&lt;p dir=&quot;ltr&quot;&gt;&lt;img src=&quot;https://event
 s.vtools.ieee.org/vtools_ui/media/display/82c53fee-e7ba-4ca4-8a4b-8ecee289
 bc2f&quot; alt=&quot;&quot; width=&quot;1000&quot; height=&quot;607&quot;&gt;&lt;/p&gt;\n&lt;p dir=&quot;ltr&quot;&gt;The workshop com
 menced with an introduction of Maisha Wadud Ananya \,a skilled UI/UX Engin
 eer and Game Developer at TETO. First\, she shared her experiences within 
 the field and made presentations of the UI/UX design process more realisti
 c for the audience. After some&amp;nbsp\; welcoming remarks\, the instructor l
 ed a discussion-exercising session interactively\, where participants coul
 d reflect on design elements they see or encounter in applications every d
 ay. During the workshop\, participants were able to learn some of the key 
 principles of UI/UX design\, focusing on the user-centered design approach
 es &amp;amp\; usability. They were introduced to practical design tools such a
 s &amp;nbsp\;&amp;ldquo\;Figma&amp;rdquo\;\, where live demonstrations of how to creat
 e and optimize user interfaces were done. Although participants wanted mor
 e of the session but due to time shortage the session wrapped up with a ve
 ry interactive question-and-answer session in which the participants got a
 n ample opportunity to ask questions and even got design projects reviewed
 .&amp;nbsp\;&lt;/p&gt;\n&lt;p dir=&quot;ltr&quot;&gt;To conclude the session\, Suraiya Islam Meem\, 
 Chair of IEEE NSU Student Branch WIE Affinity Group\, and Tabassom Nabila\
 , Chair of IEEE NSU IAS SBC\, presented the instructor with a token of app
 reciation for her valuable contributions. The session officially ended at 
 5:45 PM with a group photo to commemorate the successful event. This works
 hop equipped participants with a solid foundation in UI/UX design principl
 es and practical tools\, empowering them to apply these skills in their fu
 ture projects.&lt;/p&gt;\n&lt;p&gt;&amp;nbsp\;&lt;/p&gt;
END:VEVENT
END:VCALENDAR

