BEGIN:VCALENDAR
VERSION:2.0
PRODID:IEEE vTools.Events//EN
CALSCALE:GREGORIAN
BEGIN:VTIMEZONE
TZID:Asia/Kolkata
BEGIN:STANDARD
DTSTART:19451014T230000
TZOFFSETFROM:+0630
TZOFFSETTO:+0530
TZNAME:IST
END:STANDARD
END:VTIMEZONE
BEGIN:VEVENT
DTSTAMP:20241010T101644Z
UID:302BC454-0192-43A9-B274-8873946B4B64
DTSTART;TZID=Asia/Kolkata:20241007T100000
DTEND;TZID=Asia/Kolkata:20241007T160000
DESCRIPTION:Explore the world of automation and sensors in a hands-on robot
 ics challenge designed to introduce you to cutting-edge tech.\n\nChennai\,
  Tamil Nadu\, India\, 600044
LOCATION:Chennai\, Tamil Nadu\, India\, 600044
ORGANIZER:shanmugasundar.mech@sairamit.edu.in
SEQUENCE:6
SUMMARY:IEEE Day: Bot vault
URL;VALUE=URI:https://events.vtools.ieee.org/m/437372
X-ALT-DESC:Description: &lt;br /&gt;&lt;p&gt;Explore the world of automation and sensor
 s in a hands-on robotics challenge designed to introduce you to cutting-ed
 ge tech.&lt;/p&gt;
END:VEVENT
END:VCALENDAR

