BEGIN:VCALENDAR
VERSION:2.0
PRODID:IEEE vTools.Events//EN
CALSCALE:GREGORIAN
BEGIN:VTIMEZONE
TZID:Europe/Madrid
BEGIN:DAYLIGHT
DTSTART:20250330T030000
TZOFFSETFROM:+0100
TZOFFSETTO:+0200
RRULE:FREQ=YEARLY;BYDAY=-1SU;BYMONTH=3
TZNAME:CEST
END:DAYLIGHT
BEGIN:STANDARD
DTSTART:20241027T020000
TZOFFSETFROM:+0200
TZOFFSETTO:+0100
RRULE:FREQ=YEARLY;BYDAY=-1SU;BYMONTH=10
TZNAME:CET
END:STANDARD
END:VTIMEZONE
BEGIN:VEVENT
DTSTAMP:20241113T230111Z
UID:105321F4-43EB-466F-B7C4-68DA3AD904D7
DTSTART;TZID=Europe/Madrid:20241113T190000
DTEND;TZID=Europe/Madrid:20241113T203000
DESCRIPTION:Desde el Capítulo Español de Educación del IEEE estamos orga
 nizando una Jornada en homenaje de nuestro querido Gabriel Diaz Orueta\, r
 ecientemente fallecido y que fue presidente del capítulo. La jornada serv
 irá para recordar a Gabriel.\n\nLa Jornada tendrá lugar el próximo Mié
 rcoles\, 13 de noviembre\, de 19 a 20:30\, en la Sala de Grados de la Facu
 ltad de Educación de la UNED.\n\nLa Jornada tendrá lugar de forma presen
 cial\, pero también se habilitará un enlace para poder asistir de forma 
 on-line. Es necesario registro previo.\n\n19:00-19:30. Charla invitada por
  Lorena García\, Título: &quot;IEEE TryEngineering y su Impacto en la Educaci
 ón STEM&quot;.\n\n19:30-19:45.Preguntas y comentarios.\n\n19:45-20:00. Repaso 
 a la trayectoria de Gabriel Díaz.\n\n20:00-20:30. Mesa redonda en recuerd
 o de Gabriel Díaz\n\nSpeaker(s): Lorena García\n\nRoom: Sala de Grados \
 , Bldg: Facultad de Educación de la UNED \, Facultad de Educación\, UNED
  \, Madrid\, Madrid\, Spain\, 28040\, Virtual: https://events.vtools.ieee.
 org/m/437393
LOCATION:Room: Sala de Grados \, Bldg: Facultad de Educación de la UNED \,
  Facultad de Educación\, UNED \, Madrid\, Madrid\, Spain\, 28040\, Virtua
 l: https://events.vtools.ieee.org/m/437393
ORGANIZER:pedmume@it.uc3m.es
SEQUENCE:25
SUMMARY:Jornada en homenaje a Gabriel Diaz
URL;VALUE=URI:https://events.vtools.ieee.org/m/437393
X-ALT-DESC:Description: &lt;br /&gt;&lt;p class=&quot;MsoNormal&quot;&gt;Desde el Cap&amp;iacute\;tul
 o Espa&amp;ntilde\;ol de Educaci&amp;oacute\;n del IEEE estamos organizando una Jo
 rnada en homenaje de nuestro querido&amp;nbsp\;&lt;span class=&quot;il&quot;&gt;Gabriel&lt;/span&gt;
 &amp;nbsp\;&lt;span class=&quot;il&quot;&gt;Diaz&lt;/span&gt;&amp;nbsp\;Orueta\, recientemente fallecido
  y que fue presidente del cap&amp;iacute\;tulo. La jornada servir&amp;aacute\; par
 a recordar a&amp;nbsp\;&lt;span class=&quot;il&quot;&gt;Gabriel&lt;/span&gt;.&lt;/p&gt;\n&lt;p class=&quot;MsoNorm
 al&quot;&gt;La Jornada tendr&amp;aacute\; lugar el pr&amp;oacute\;ximo Mi&amp;eacute\;rcoles\,
  13 de noviembre\, de 19 a 20:30\, en la Sala de Grados de la Facultad de 
 Educaci&amp;oacute\;n de la UNED.&lt;/p&gt;\n&lt;p class=&quot;MsoNormal&quot;&gt;La Jornada tendr&amp;a
 acute\; lugar de forma presencial\, pero tambi&amp;eacute\;n se habilitar&amp;aacu
 te\; un enlace para poder asistir de forma on-line. Es necesario registro 
 previo.&lt;/p&gt;\n&lt;p class=&quot;MsoNormal&quot;&gt;&amp;nbsp\;&lt;/p&gt;\n&lt;p dir=&quot;ltr&quot;&gt;19:00-19:30. C
 harla invitada por Lorena Garc&amp;iacute\;a\, T&amp;iacute\;tulo: &quot;IEEE TryEngine
 ering y su Impacto en la Educaci&amp;oacute\;n STEM&quot;.&lt;/p&gt;\n&lt;p dir=&quot;ltr&quot;&gt;19:30-
 19:45.Preguntas y comentarios.&lt;/p&gt;\n&lt;p dir=&quot;ltr&quot;&gt;19:45-20:00. Repaso a la 
 trayectoria de Gabriel D&amp;iacute\;az.&lt;/p&gt;\n&lt;p dir=&quot;ltr&quot;&gt;20:00-20:30. Mesa r
 edonda en recuerdo de Gabriel D&amp;iacute\;az&lt;/p&gt;
END:VEVENT
END:VCALENDAR

