BEGIN:VCALENDAR
VERSION:2.0
PRODID:IEEE vTools.Events//EN
CALSCALE:GREGORIAN
BEGIN:VTIMEZONE
TZID:Asia/Kolkata
BEGIN:STANDARD
DTSTART:19451014T230000
TZOFFSETFROM:+0630
TZOFFSETTO:+0530
TZNAME:IST
END:STANDARD
END:VTIMEZONE
BEGIN:VEVENT
DTSTAMP:20241011T163211Z
UID:B2A1B638-3FAF-46CD-84AE-B280009EE63A
DTSTART;TZID=Asia/Kolkata:20241007T090000
DTEND;TZID=Asia/Kolkata:20241007T160000
DESCRIPTION:The Bid Wars event proved to be an engaging and dynamic experie
 nce\, fostering collaboration\, strategic thinking\, and creativity among 
 participants. Both rounds successfully encouraged teamwork and knowledge a
 pplication\, preparing teams for future challenges within IEEE. The compet
 itive spirit and innovative strategies displayed promise for a fruitful co
 ntinuation of the competition\, with participants eager to further develop
  their skills and contribute to the IEEE community.\n\nSai leo nagar\,west
  tambaram\, chennai-600044\, Chennai\, Tamil Nadu\, India
LOCATION:Sai leo nagar\,west tambaram\, chennai-600044\, Chennai\, Tamil Na
 du\, India
ORGANIZER:rayavel@ieee.org
SEQUENCE:6
SUMMARY:BIDWARS
URL;VALUE=URI:https://events.vtools.ieee.org/m/437397
X-ALT-DESC:Description: &lt;br /&gt;&lt;p class=&quot;MsoNormal&quot; style=&quot;margin-bottom: 0c
 m\; text-align: justify\; text-indent: 36.0pt\;&quot;&gt;&lt;span style=&quot;font-size: 1
 2.0pt\; line-height: 107%\; font-family: &#39;Times New Roman&#39;\,serif\;&quot;&gt;The B
 id Wars event proved to be an engaging and dynamic experience\, fostering 
 collaboration\, strategic thinking\, and creativity among participants. Bo
 th rounds successfully encouraged teamwork and knowledge application\, pre
 paring teams for future challenges within IEEE. The competitive spirit and
  innovative strategies displayed promise for a fruitful continuation of th
 e competition\, with participants eager to further develop their skills an
 d contribute to the&amp;nbsp\;IEEE&amp;nbsp\;community.&lt;/span&gt;&lt;/p&gt;\n&lt;p&gt;&lt;img src=&quot;h
 ttps://events.vtools.ieee.org/vtools_ui/media/display/f2b67594-cc7d-40c3-b
 79e-aeb7823f0ce5&quot;&gt;&lt;/p&gt;
END:VEVENT
END:VCALENDAR

