BEGIN:VCALENDAR
VERSION:2.0
PRODID:IEEE vTools.Events//EN
CALSCALE:GREGORIAN
BEGIN:VTIMEZONE
TZID:America/Sao_Paulo
BEGIN:DAYLIGHT
DTSTART:20380119T001407
TZOFFSETFROM:-0300
TZOFFSETTO:-0300
RRULE:FREQ=YEARLY;BYDAY=3TU;BYMONTH=1
TZNAME:-03
END:DAYLIGHT
BEGIN:STANDARD
DTSTART:20190216T230000
TZOFFSETFROM:-0200
TZOFFSETTO:-0300
RRULE:FREQ=YEARLY;BYDAY=3SA;BYMONTH=2
TZNAME:-03
END:STANDARD
END:VTIMEZONE
BEGIN:VEVENT
DTSTAMP:20241012T233933Z
UID:C98F5531-E182-4ED3-A1A1-F8899B57B8ED
DTSTART;TZID=America/Sao_Paulo:20241007T200000
DTEND;TZID=America/Sao_Paulo:20241007T213000
DESCRIPTION:O evento visa discutir o empoderamento das mulheres na carreira
  (academia e indústria) visando divulgar oportunidades de crescimento con
 junto.\n\nPalestrantes: Paula Vicente\, Sofia Falco\, Hortência Victor\, 
 Tatiane Martins e Erika Oliveira.\n\nAv. P H Rolfs\, s/n - Campus Universi
 tário\, Viçosa\, Minas Gerais\, Brazil\, 36570900\, Virtual: https://eve
 nts.vtools.ieee.org/m/437402
LOCATION:Av. P H Rolfs\, s/n - Campus Universitário\, Viçosa\, Minas Gera
 is\, Brazil\, 36570900\, Virtual: https://events.vtools.ieee.org/m/437402
ORGANIZER:paulasantos@ufsj.edu.br
SEQUENCE:17
SUMMARY:Mulheres na Engenharia Elétrica: Desafios\, Conquistas e Perspecti
 vas
URL;VALUE=URI:https://events.vtools.ieee.org/m/437402
X-ALT-DESC:Description: &lt;br /&gt;&lt;p style=&quot;text-align: justify\;&quot;&gt;O evento vis
 a discutir o empoderamento das mulheres na carreira (academia e ind&amp;uacute
 \;stria) visando divulgar oportunidades de crescimento conjunto.&amp;nbsp\;&lt;/p
 &gt;\n&lt;p style=&quot;text-align: justify\;&quot;&gt;Palestrantes: &lt;span class=&quot;fontstyle0&quot;
 &gt;Paula Vicente\, Sofia Falco\, Hort&amp;ecirc\;ncia Victor\, Tatiane Martins e
  Erika Oliveira.&lt;/span&gt;&lt;/p&gt;
END:VEVENT
END:VCALENDAR

