BEGIN:VCALENDAR
VERSION:2.0
PRODID:IEEE vTools.Events//EN
CALSCALE:GREGORIAN
BEGIN:VTIMEZONE
TZID:America/Sao_Paulo
BEGIN:DAYLIGHT
DTSTART:20380119T001407
TZOFFSETFROM:-0300
TZOFFSETTO:-0300
RRULE:FREQ=YEARLY;BYDAY=3TU;BYMONTH=1
TZNAME:-03
END:DAYLIGHT
BEGIN:STANDARD
DTSTART:20190216T230000
TZOFFSETFROM:-0200
TZOFFSETTO:-0300
RRULE:FREQ=YEARLY;BYDAY=3SA;BYMONTH=2
TZNAME:-03
END:STANDARD
END:VTIMEZONE
BEGIN:VEVENT
DTSTAMP:20241010T030317Z
UID:4EAB942A-FC0D-4A84-BBE4-5AD80F56F4E6
DTSTART;TZID=America/Sao_Paulo:20241008T160000
DTEND;TZID=America/Sao_Paulo:20241008T210000
DESCRIPTION:Apresentação: O Programa de Pós-Graduação em Engenharia El
 étrica (PPGEL)\, em parceria com o CEFET-MG\, obteve conceito 4 na CAPES 
 e teve seu doutorado aprovado em 2023. Durante o congresso Brasileiro de A
 utomática (CBA)\, entre 15 e 18 de outubro\, os pesquisadores do PPGEL/UF
 SJ apresentarão 31 trabalhos. Nessa mostra científica\, parte deles (15 
 discentes) fará uma prévia da apresentação dos seus trabalhos. Cada ap
 resentação durará 15 minutos com 5 minutos para perguntas.\n\nO folder 
 com a programação completa está disponível em: https://bit.ly/folderie
 eeday24mg\n\nConvidados: Mestrandos e Doutorandos do PPGEL/UFSJ\n\nPraça 
 Frei Orlando\, 170 - Centro\, São João Del Rei\, Minas Gerais\, Brazil\,
  36307352\, Virtual: https://events.vtools.ieee.org/m/437406
LOCATION:Praça Frei Orlando\, 170 - Centro\, São João Del Rei\, Minas Ge
 rais\, Brazil\, 36307352\, Virtual: https://events.vtools.ieee.org/m/43740
 6
ORGANIZER:wesley.peres@ieee.org
SEQUENCE:9
SUMMARY:Mostra Científica: Trabalhos do PPGEL/UFSJ
URL;VALUE=URI:https://events.vtools.ieee.org/m/437406
X-ALT-DESC:Description: &lt;br /&gt;&lt;p style=&quot;text-align: justify\;&quot;&gt;&lt;span class=
 &quot;fontstyle0&quot;&gt;Apresenta&amp;ccedil\;&amp;atilde\;o: &lt;/span&gt;&lt;span class=&quot;fontstyle2&quot;
 &gt;O Programa de P&amp;oacute\;s-Gradua&amp;ccedil\;&amp;atilde\;o em Engenharia El&amp;eacu
 te\;trica (PPGEL)\, em parceria com o CEFET-MG\, obteve conceito 4 na CAPE
 S e teve seu doutorado aprovado em 2023. Durante o congresso Brasileiro de
  Autom&amp;aacute\;tica (CBA)\, entre 15 e 18 de outubro\, os pesquisadores do
  PPGEL/UFSJ apresentar&amp;atilde\;o 31 trabalhos. Nessa mostra cient&amp;iacute\;
 fica\, parte deles (15 discentes) far&amp;aacute\; uma pr&amp;eacute\;via da apres
 enta&amp;ccedil\;&amp;atilde\;o dos seus trabalhos. &lt;/span&gt;&lt;span class=&quot;fontstyle2
 &quot;&gt;Cada apresenta&amp;ccedil\;&amp;atilde\;o durar&amp;aacute\; 15 minutos com 5 minuto
 s para perguntas.&lt;/span&gt;&amp;nbsp\;&lt;/p&gt;\n&lt;p style=&quot;text-align: justify\;&quot;&gt;O fo
 lder com a programa&amp;ccedil\;&amp;atilde\;o completa est&amp;aacute\; dispon&amp;iacute
 \;vel em: &lt;a href=&quot;https://bit.ly/folderieeeday24mg&quot;&gt;https://bit.ly/folder
 ieeeday24mg&lt;/a&gt;&lt;/p&gt;\n&lt;p style=&quot;text-align: justify\;&quot;&gt;&lt;span class=&quot;fontsty
 le0&quot;&gt;Convidados: &lt;/span&gt;&lt;span class=&quot;fontstyle2&quot;&gt;Mestrandos e Doutorandos 
 do PPGEL/UFSJ&lt;/span&gt;&amp;nbsp\;&lt;/p&gt;
END:VEVENT
END:VCALENDAR

