BEGIN:VCALENDAR
VERSION:2.0
PRODID:IEEE vTools.Events//EN
CALSCALE:GREGORIAN
BEGIN:VTIMEZONE
TZID:America/Sao_Paulo
BEGIN:DAYLIGHT
DTSTART:20380119T001407
TZOFFSETFROM:-0300
TZOFFSETTO:-0300
RRULE:FREQ=YEARLY;BYDAY=3TU;BYMONTH=1
TZNAME:-03
END:DAYLIGHT
BEGIN:STANDARD
DTSTART:20190216T230000
TZOFFSETFROM:-0200
TZOFFSETTO:-0300
RRULE:FREQ=YEARLY;BYDAY=3SA;BYMONTH=2
TZNAME:-03
END:STANDARD
END:VTIMEZONE
BEGIN:VEVENT
DTSTAMP:20241015T110104Z
UID:7FE67763-FCD9-42B5-A32A-7821A5C454AF
DTSTART;TZID=America/Sao_Paulo:20241012T110000
DTEND;TZID=America/Sao_Paulo:20241012T120000
DESCRIPTION:Componentes: Paulo Fernando Ribeiro\, João Lucas de Castro San
 tos e Rodolfo Antônio Ribeiro de Moura.\n\nBiografia:\n\na) Paulo Fernand
 o Ribeiro: Possui graduação em Engenharia Elétrica pela Universidade Fe
 deral de Pernambuco (1975)\, Especialização pelo Power Technologies Inc.
  (PTI) 1979\, Schenectady\, New York\, USA\, doutorado em Electrical Engin
 eering - University of Manchester\, Inglaterra (1985)\, MBA pelo Lynchburg
  University\, Virginia\, USA (2000). Atualmente é Professor Titular-Livre
  na Universidade Federal de Itajubá\, Itajubá\, MG e foi Professor na Un
 iversidade de Tecnologia de Eindhoven\, Eindhoven\, Holanda\, na Virginia 
 Tech University\, Blacksburg\, Virginia\, Calvin University\, Grand Rapids
 \, Michigan\, e Dordt University\, Sioux Center\, IA\, USA. Professor Ribe
 iro foi um Faculty Fellow na NASA Reseach Center em Cleveland\, Ohio\, tra
 balhou como pesquisador no EPRI\, Palo Alto\, California\, e também servi
 u como um Erskine Fellow na University of Canterbury\, Christchurch\, New 
 Zealand. Tem experiência na área de Engenharia Elétrica\, com ênfase e
 m Transmissão da Energia Elétrica\, Distribuição da Energia Elétrica.
  É IEEE Life Fellow.\n\nb) João Lucas de Castro Santos: João Lucas é e
 ngenheiro eletricista formado pela Universidade Federal de Juiz de Fora (U
 FJF)\, atuando atualmente no time de tecnologia na Chico Rei. Membro IEEE 
 desde 2017\, João já ocupou diversas posições de destaque em comitês 
 estudantis e profissionais. Atualmente\, é presidente do grupo de afinida
 de Young Professionals (YP) da Seção IEEE Minas Gerais\, além de ser me
 mbro do comitê executivo da mesma seção.\n\nc) Rodolfo Moura: Graduado 
 (2012) e mestre (2014) em engenharia elétrica pela Universidade Federal d
 e São João del-Rei (UFSJ). Em 2018 obteve o título de doutor em engenha
 ria elétrica pela Universidade Federal do Rio de Janeiro (UFRJ). Atualmen
 te é professor adjunto III da UFSJ e membro do PPGEL/UFSJ. É pesquisador
  credenciado no Instituto Nacional de Energia Elétrica (INERGE) e pesquis
 ador do Grupo de Alta Tensão e Coordenação de Isolamento (GATCI)\, cada
 strado no CNPq. Em 2025 desenvolverá sua pesquisa de Pós-Doutorado na Un
 iversidade de Gênova\, Itália. Em 2024 foi elevado a categoria Senior Me
 mber do IEEE.\n\nLink de Inscrição: https://bit.ly/RSRMG2024\nLink do Fo
 lder: https://bit.ly/folderrsrmg2024vf\n\nBldg: Anfiteatro do Campus Santo
  Antônio da UFSJ\, Praça Frei Orlando 170\,  Centro\, São João del-Rei
 .\, São João del-Rei\, Minas Gerais\, Brazil
LOCATION:Bldg: Anfiteatro do Campus Santo Antônio da UFSJ\, Praça Frei Or
 lando 170\,  Centro\, São João del-Rei.\, São João del-Rei\, Minas Ger
 ais\, Brazil
ORGANIZER:wesley.peres@ieee.org
SEQUENCE:9
SUMMARY:Experiências e Carreira com IEEE
URL;VALUE=URI:https://events.vtools.ieee.org/m/437426
X-ALT-DESC:Description: &lt;br /&gt;&lt;p style=&quot;text-align: justify\;&quot;&gt;&lt;span class=
 &quot;fontstyle0&quot;&gt;Componentes: &lt;/span&gt;&lt;span class=&quot;fontstyle2&quot;&gt;Paulo Fernando R
 ibeiro\, Jo&amp;atilde\;o Lucas de Castro Santos e Rodolfo Ant&amp;ocirc\;nio Ribe
 iro de Moura.&lt;/span&gt;&amp;nbsp\;&lt;/p&gt;\n&lt;p style=&quot;text-align: justify\;&quot;&gt;Biografi
 a:&amp;nbsp\;&lt;/p&gt;\n&lt;p style=&quot;text-align: justify\;&quot;&gt;a) &lt;span class=&quot;fontstyle2
 &quot;&gt;Paulo Fernando Ribeiro: &lt;span class=&quot;fontstyle0&quot;&gt;Possui gradua&amp;ccedil\;&amp;
 atilde\;o em Engenharia El&amp;eacute\;trica pela Universidade Federal de Pern
 ambuco (1975)\, Especializa&amp;ccedil\;&amp;atilde\;o pelo Power Technologies Inc
 . (PTI) 1979\, Schenectady\, New York\, USA\, doutorado em Electrical Engi
 neering - University of Manchester\, Inglaterra (1985)\, MBA pelo Lynchbur
 g University\, Virginia\, USA (2000). Atualmente &amp;eacute\; Professor Titul
 ar-Livre na Universidade Federal de Itajub&amp;aacute\;\, Itajub&amp;aacute\;\, MG
  e foi Professor na Universidade de Tecnologia de Eindhoven\, Eindhoven\, 
 Holanda\, na Virginia Tech University\, Blacksburg\, Virginia\, Calvin Uni
 versity\, Grand Rapids\, Michigan\, e Dordt University\, Sioux Center\, IA
 \, USA. Professor Ribeiro foi um Faculty Fellow na NASA Reseach Center em 
 Cleveland\, Ohio\, trabalhou como pesquisador no EPRI\, Palo Alto\, Califo
 rnia\, e tamb&amp;eacute\;m serviu como um Erskine Fellow na University of Can
 terbury\, Christchurch\, New Zealand. Tem experi&amp;ecirc\;ncia na &amp;aacute\;r
 ea de Engenharia El&amp;eacute\;trica\, com &amp;ecirc\;nfase em Transmiss&amp;atilde\
 ;o da Energia El&amp;eacute\;trica\, Distribui&amp;ccedil\;&amp;atilde\;o da Energia E
 l&amp;eacute\;trica. &amp;Eacute\; IEEE Life Fellow.&lt;/span&gt;&amp;nbsp\;&lt;br&gt;&lt;/span&gt;&lt;/p&gt;\
 n&lt;p style=&quot;text-align: justify\;&quot;&gt;&lt;span class=&quot;fontstyle2&quot;&gt;b) &lt;span class=
 &quot;fontstyle0&quot;&gt;Jo&amp;atilde\;o Lucas de Castro Santos: Jo&amp;atilde\;o Lucas &amp;eacu
 te\; engenheiro eletricista formado pela Universidade Federal de Juiz de F
 ora (UFJF)\, atuando atualmente no time de tecnologia na Chico Rei. Membro
  IEEE desde 2017\, Jo&amp;atilde\;o j&amp;aacute\; ocupou diversas posi&amp;ccedil\;&amp;o
 tilde\;es de destaque em comit&amp;ecirc\;s estudantis e profissionais. Atualm
 ente\, &amp;eacute\; presidente do grupo de afinidade Young Professionals (YP)
  da Se&amp;ccedil\;&amp;atilde\;o IEEE Minas Gerais\, al&amp;eacute\;m de ser membro d
 o comit&amp;ecirc\; executivo da mesma se&amp;ccedil\;&amp;atilde\;o.&amp;nbsp\;&lt;br&gt;&lt;/span
 &gt;&lt;br&gt;&lt;/span&gt;&lt;/p&gt;\n&lt;p style=&quot;text-align: justify\;&quot;&gt;&lt;span class=&quot;fontstyle2
 &quot;&gt;&lt;span class=&quot;fontstyle0&quot;&gt;c) Rodolfo Moura: Graduado (2012) e mestre (201
 4) em engenharia el&amp;eacute\;trica pela Universidade Federal de S&amp;atilde\;o
  Jo&amp;atilde\;o del-Rei (UFSJ). Em 2018 obteve o t&amp;iacute\;tulo de doutor em
  engenharia el&amp;eacute\;trica pela Universidade Federal do Rio de Janeiro (
 UFRJ). Atualmente &amp;eacute\; professor adjunto III da UFSJ e membro do PPGE
 L/UFSJ. &amp;Eacute\; pesquisador credenciado no Instituto Nacional de Energia
  El&amp;eacute\;trica (INERGE) e pesquisador do Grupo de Alta Tens&amp;atilde\;o e
  Coordena&amp;ccedil\;&amp;atilde\;o de Isolamento (GATCI)\, cadastrado no CNPq. E
 m 2025 desenvolver&amp;aacute\; sua pesquisa de P&amp;oacute\;s-Doutorado na Unive
 rsidade de G&amp;ecirc\;nova\, It&amp;aacute\;lia. Em 2024 foi elevado a categoria
  Senior Member do IEEE.&amp;nbsp\;&lt;br&gt;&lt;/span&gt;&lt;/span&gt;&lt;/p&gt;\n&lt;p style=&quot;text-align
 : justify\;&quot;&gt;&lt;strong&gt;&lt;span class=&quot;fontstyle2&quot;&gt;Link de Inscri&amp;ccedil\;&amp;atil
 de\;o: &lt;a href=&quot;https://bit.ly/RSRMG2024&quot;&gt;https://bit.ly/RSRMG2024&lt;/a&gt;&amp;nbs
 p\;&lt;br&gt;Link do Folder: &lt;a href=&quot;https://bit.ly/folderrsrmg2024vf&quot;&gt;https://
 bit.ly/folderrsrmg2024vf&lt;/a&gt;&amp;nbsp\;&lt;/span&gt;&lt;/strong&gt;&lt;/p&gt;
END:VEVENT
END:VCALENDAR

