BEGIN:VCALENDAR
VERSION:2.0
PRODID:IEEE vTools.Events//EN
CALSCALE:GREGORIAN
BEGIN:VTIMEZONE
TZID:Europe/Paris
BEGIN:DAYLIGHT
DTSTART:20240331T030000
TZOFFSETFROM:+0100
TZOFFSETTO:+0200
RRULE:FREQ=YEARLY;BYDAY=-1SU;BYMONTH=3
TZNAME:CEST
END:DAYLIGHT
BEGIN:STANDARD
DTSTART:20241027T020000
TZOFFSETFROM:+0200
TZOFFSETTO:+0100
RRULE:FREQ=YEARLY;BYDAY=-1SU;BYMONTH=10
TZNAME:CET
END:STANDARD
END:VTIMEZONE
BEGIN:VEVENT
DTSTAMP:20241003T182235Z
UID:E9D9DC31-A7B8-4AA9-A70F-8EC2D497B459
DTSTART;TZID=Europe/Paris:20241002T150000
DTEND;TZID=Europe/Paris:20241002T173000
DESCRIPTION:As part of the third day of IEEEDAY celebrations\, we organized
  a comprehensive cybersecurity training session. This event was a collabor
 ative effort between IEEE ENICARTHAGE SB\, IEEE WIE ENICARTHAGE SB\, and I
 EEE CS ENICARTHAGE SB\, aimed at providing our IEEE members with crucial k
 nowledge and skills in the ever-evolving field of cybersecurity. The sessi
 on covered various topics such as identifying and mitigating cyber threats
 \, best practices for data protection\, and understanding the latest trend
 s in cybersecurity technologies. This initiative not only helped strengthe
 n our members&#39; technical expertise but also fostered collaboration between
  the different IEEE societies at ENICARTHAGE\, reinforcing the spirit of t
 eamwork and innovation.\n\n[]\n\nAriana\, Ariana\, Tunisia
LOCATION:Ariana\, Ariana\, Tunisia
ORGANIZER:enicarthage.ieee@gmail.com
SEQUENCE:6
SUMMARY:Cybersecurity Training Session (IEEEDAY)
URL;VALUE=URI:https://events.vtools.ieee.org/m/437507
X-ALT-DESC:Description: &lt;br /&gt;&lt;p&gt;As part of the third day of IEEEDAY celebr
 ations\, we organized a comprehensive cybersecurity training session. This
  event was a collaborative effort between IEEE ENICARTHAGE SB\, IEEE WIE E
 NICARTHAGE SB\, and IEEE CS ENICARTHAGE SB\, aimed at providing our IEEE m
 embers with crucial knowledge and skills in the ever-evolving field of cyb
 ersecurity. The session covered various topics such as identifying and mit
 igating cyber threats\, best practices for data protection\, and understan
 ding the latest trends in cybersecurity technologies. This initiative not 
 only helped strengthen our members&#39; technical expertise but also fostered 
 collaboration between the different IEEE societies at ENICARTHAGE\, reinfo
 rcing the spirit of teamwork and innovation.&lt;/p&gt;\n&lt;p&gt;&amp;nbsp\;&lt;/p&gt;\n&lt;p&gt;&lt;img 
 src=&quot;https://events.vtools.ieee.org/vtools_ui/media/display/3630b422-63f6-
 4143-8aa3-c4b7700a96b3&quot; alt=&quot;&quot; width=&quot;443&quot; height=&quot;332&quot;&gt;&lt;/p&gt;
END:VEVENT
END:VCALENDAR

