BEGIN:VCALENDAR
VERSION:2.0
PRODID:IEEE vTools.Events//EN
CALSCALE:GREGORIAN
BEGIN:VTIMEZONE
TZID:America/Chicago
BEGIN:DAYLIGHT
DTSTART:20240310T030000
TZOFFSETFROM:-0600
TZOFFSETTO:-0500
RRULE:FREQ=YEARLY;BYDAY=2SU;BYMONTH=3
TZNAME:CDT
END:DAYLIGHT
BEGIN:STANDARD
DTSTART:20241103T010000
TZOFFSETFROM:-0500
TZOFFSETTO:-0600
RRULE:FREQ=YEARLY;BYDAY=1SU;BYMONTH=11
TZNAME:CST
END:STANDARD
END:VTIMEZONE
BEGIN:VEVENT
DTSTAMP:20241016T190114Z
UID:BB9B00C2-757A-4EE0-B2C5-4C28C5D8D11B
DTSTART;TZID=America/Chicago:20241008T080000
DTEND;TZID=America/Chicago:20241009T180000
DESCRIPTION:IEEE Chicago is pleased to be a Platinum sponsor for the IEEE R
 eal-Time Communications Conference 2024 @ IIT\, now in its 20th year.\n\nI
 EEE Chicago members can attend this conference for a discounted fee of $20
 0 off the regular price. Use code IEEEDIS at checkout.\n\nDetails of the c
 onference are at https://www.rtc-conference.com/2024/. Registration is at 
 https://www.rtc-conference.com/2024/register/.\n\nAt the conference\, be s
 ure to visit the IEEE Chicago table to say hi\, speak with us and get some
  swag!\n\nIEEE Chicago is organizing the poster presentations and there wi
 ll be a poster winner\, so don&#39;t miss the exciting posters there!\n\nAlso\
 , get to hear some of our IEEE Chicago members speak at the conference: Ch
 icago Section Chair Alvin Chin\, Chicago Section Student Activities Chair 
 Biswan Senapati\, Poster Chair Prasenjit Banerjee.\n\nBldg: Hermann Hall\,
  IIT\, 3241 S. Federal Street\, Chicago\, Illinois\, United States\, 60616
LOCATION:Bldg: Hermann Hall\, IIT\, 3241 S. Federal Street\, Chicago\, Illi
 nois\, United States\, 60616
ORGANIZER:alvin.chin@ieee.org
SEQUENCE:18
SUMMARY:IEEE Real-Time Communications Conference 2024 at IIT
URL;VALUE=URI:https://events.vtools.ieee.org/m/437574
X-ALT-DESC:Description: &lt;br /&gt;&lt;p&gt;IEEE Chicago is pleased to be a Platinum s
 ponsor for the IEEE Real-Time Communications Conference 2024 @ IIT\, now i
 n its 20th year.&lt;/p&gt;\n&lt;p&gt;IEEE Chicago members can attend this conference f
 or a discounted fee of $200 off the regular price.&amp;nbsp\; Use code IEEEDIS
  at checkout.&amp;nbsp\;&amp;nbsp\;&lt;/p&gt;\n&lt;p&gt;Details of the conference are at &lt;a hr
 ef=&quot;https://www.rtc-conference.com/2024/&quot;&gt;https://www.rtc-conference.com/2
 024/&lt;/a&gt;.&amp;nbsp\; Registration is at &lt;a href=&quot;https://www.rtc-conference.co
 m/2024/register/&quot;&gt;https://www.rtc-conference.com/2024/register/&lt;/a&gt;.&amp;nbsp\
 ;&lt;/p&gt;\n&lt;p&gt;At the conference\, be sure to visit the IEEE Chicago table to s
 ay hi\, speak with us and get some swag!&amp;nbsp\;&lt;/p&gt;\n&lt;p&gt;IEEE Chicago is or
 ganizing the poster presentations and there will be a poster winner\, so d
 on&#39;t miss the exciting posters there!&amp;nbsp\;&lt;/p&gt;\n&lt;p&gt;Also\, get to hear so
 me of our IEEE Chicago members speak at the conference: Chicago Section Ch
 air Alvin Chin\, Chicago Section Student Activities Chair Biswan Senapati\
 , Poster Chair Prasenjit Banerjee.&lt;/p&gt;
END:VEVENT
END:VCALENDAR

