BEGIN:VCALENDAR
VERSION:2.0
PRODID:IEEE vTools.Events//EN
CALSCALE:GREGORIAN
BEGIN:VTIMEZONE
TZID:Asia/Karachi
BEGIN:STANDARD
DTSTART:20091031T230000
TZOFFSETFROM:+0600
TZOFFSETTO:+0500
TZNAME:PKT
END:STANDARD
END:VTIMEZONE
BEGIN:VEVENT
DTSTAMP:20241004T151219Z
UID:A1AB2CA2-95F0-43FD-8B79-9B61857CA2C8
DTSTART;TZID=Asia/Karachi:20240429T103000
DTEND;TZID=Asia/Karachi:20240429T120000
DESCRIPTION:On 29 April 2024\, the IEEE Consumer Technology Society (CTSoc)
  UET Taxila Student Branch\, in collaboration with the Electronics Departm
 ent\, organized a Cleanliness Walk aimed at promoting environmental respon
 sibility and community service. The event brought together students\, facu
 lty members\, and IEEE volunteers\, all dedicated to enhancing the cleanli
 ness and hygiene of the university campus.\n\nParticipants gathered in fro
 nt of Electronics Department and walked across key areas of the campus\, r
 aising awareness about the importance of maintaining a clean and sustainab
 le environment. Equipped with gloves\, trash bags\, and cleaning tools\, t
 hey actively engaged in collecting litter and educating others on waste ma
 nagement and recycling practices.\n\nThe walk concluded with a brief sessi
 on by the [Dr. Yaseer Arafat Durrani](http://fms.uettaxila.edu.pk/Profile/
 yaseer.durrani) who emphasized the role of students in shaping a sustainab
 le future and maintaining the beauty of their surroundings. The initiative
  was a great success\, highlighting the combined efforts of the IEEE CTSoc
  and the Electronics Department in fostering environmental stewardship wit
 hin the academic community.\n\nThis event exemplified the core values of I
 EEE in driving social impact through technology and student engagement.\n\
 nAgenda: \n-\n10:30 AM – Registration and Gathering at ENCD\n\n- Partici
 pants register and receive cleaning materials (gloves\, trash bags\, etc.)
 .\n- Briefing about the event and instructions for the walk.\n\n-\n10:40 A
 M – Opening Remarks\n\n- Welcome speech by IEEE CTSoc event organizer.\n
 - Address by the Electronics Department faculty representative on the sign
 ificance of cleanliness and environmental sustainability.\n\n-\n10:50 AM 
 – Cleanliness Walk Commences\n\n- Participants begin walking through des
 ignated campus areas\, actively collecting litter.\n- Interaction with oth
 er students to raise awareness about proper waste disposal.\n\n-\n11:40 AM
  – Conclusion of Cleanliness Walk\n\n- Participants gather at [final loc
 ation].\n- Speech by the Head of Electronics Department or IEEE CTSoc Chai
 r\, reflecting on the outcomes and future plans.\n\n-\n11:50 AM – Group 
 Photo and Closing Remarks\n\n- Group photo of all participants and organiz
 ers.\n- Final words of thanks and recognition for volunteers.\n\n-\n12:00 
 PM – Event Ends\n\nBldg: Electronics Department\, UET Taxila\, Taxila\, 
 Punjab\, Pakistan\, 47080
LOCATION:Bldg: Electronics Department\, UET Taxila\, Taxila\, Punjab\, Paki
 stan\, 47080
ORGANIZER:kaifsake69420@gmail.com
SEQUENCE:75
SUMMARY: IEEE CTSoc UET Taxila Cleanliness Walk in collaboration with Elect
 ronics department
URL;VALUE=URI:https://events.vtools.ieee.org/m/437601
X-ALT-DESC:Description: &lt;br /&gt;&lt;p&gt;&amp;nbsp\;On 29 April 2024\, the IEEE Consume
 r Technology Society (CTSoc) UET Taxila Student Branch\, in collaboration 
 with the Electronics Department\, organized a Cleanliness Walk aimed at pr
 omoting environmental responsibility and community service. The event brou
 ght together students\, faculty members\, and IEEE volunteers\, all dedica
 ted to enhancing the cleanliness and hygiene of the university campus.&lt;/p&gt;
 \n&lt;p&gt;Participants gathered in front of Electronics Department and walked a
 cross key areas of the campus\, raising awareness about the importance of 
 maintaining a clean and sustainable environment. Equipped with gloves\, tr
 ash bags\, and cleaning tools\, they actively engaged in collecting litter
  and educating others on waste management and recycling practices.&lt;/p&gt;\n&lt;p
 &gt;The walk concluded with a brief session by the&lt;span style=&quot;color: rgb(0\,
  0\, 0)\;&quot;&gt; &lt;a class=&quot;fullname&quot; href=&quot;http://fms.uettaxila.edu.pk/Profile/
 yaseer.durrani&quot; target=&quot;_blank&quot; rel=&quot;noopener&quot;&gt;Dr. Yaseer Arafat Durrani&lt;/
 a&gt;&lt;/span&gt; who emphasized the role of students in shaping a sustainable fut
 ure and maintaining the beauty of their surroundings. The initiative was a
  great success\, highlighting the combined efforts of the IEEE CTSoc and t
 he Electronics Department in fostering environmental stewardship within th
 e academic community.&lt;/p&gt;\n&lt;p&gt;This event exemplified the core values of IE
 EE in driving social impact through technology and student engagement.&lt;/p&gt;
 \n&lt;p&gt;&lt;img src=&quot;https://events.vtools.ieee.org/vtools_ui/media/display/26bd
 03c2-00e1-4586-913a-0870e64b1596&quot; width=&quot;552&quot; height=&quot;552&quot;&gt;&lt;/p&gt;\n&lt;p&gt;&lt;img s
 rc=&quot;https://events.vtools.ieee.org/vtools_ui/media/display/00fe34d5-444d-4
 8af-8b71-a6b145523c0d&quot; width=&quot;553&quot; height=&quot;553&quot;&gt;&lt;/p&gt;\n&lt;p&gt;&lt;img src=&quot;https:/
 /events.vtools.ieee.org/vtools_ui/media/display/b0b4fec8-4b96-4afa-a641-c5
 b10eafc585&quot; width=&quot;485&quot; height=&quot;485&quot;&gt;&lt;/p&gt;\n&lt;p&gt;&lt;img src=&quot;https://events.vto
 ols.ieee.org/vtools_ui/media/display/99f74927-2f9b-4bbb-9585-9fc3ac12be2d&quot;
  width=&quot;485&quot; height=&quot;485&quot;&gt;&lt;/p&gt;\n&lt;p&gt;&amp;nbsp\;&lt;/p&gt;\n&lt;p&gt;&amp;nbsp\;&lt;/p&gt;&lt;br /&gt;&lt;br /&gt;
 Agenda: &lt;br /&gt;&lt;ol&gt;\n&lt;li&gt;\n&lt;p&gt;&lt;strong&gt;10:30 AM &amp;ndash\; Registration and Ga
 thering at ENCD&lt;/strong&gt;&lt;/p&gt;\n&lt;ul&gt;\n&lt;li&gt;Participants register and receive 
 cleaning materials (gloves\, trash bags\, etc.).&lt;/li&gt;\n&lt;li&gt;Briefing about 
 the event and instructions for the walk.&lt;/li&gt;\n&lt;/ul&gt;\n&lt;/li&gt;\n&lt;li&gt;\n&lt;p&gt;&lt;str
 ong&gt;10:40 AM &amp;ndash\; Opening Remarks&lt;/strong&gt;&lt;/p&gt;\n&lt;ul&gt;\n&lt;li&gt;Welcome spee
 ch by IEEE CTSoc event organizer.&lt;/li&gt;\n&lt;li&gt;Address by the Electronics Dep
 artment faculty representative on the significance of cleanliness and envi
 ronmental sustainability.&lt;/li&gt;\n&lt;/ul&gt;\n&lt;/li&gt;\n&lt;li&gt;\n&lt;p&gt;&lt;strong&gt;10:50 AM &amp;n
 dash\; Cleanliness Walk Commences&lt;/strong&gt;&lt;/p&gt;\n&lt;ul&gt;\n&lt;li&gt;Participants beg
 in walking through designated campus areas\, actively collecting litter.&lt;/
 li&gt;\n&lt;li&gt;Interaction with other students to raise awareness about proper w
 aste disposal.&lt;/li&gt;\n&lt;/ul&gt;\n&lt;/li&gt;\n&lt;li&gt;\n&lt;p&gt;&lt;strong&gt;11:40 AM &amp;ndash\; Conc
 lusion of Cleanliness Walk&lt;/strong&gt;&lt;/p&gt;\n&lt;ul&gt;\n&lt;li&gt;Participants gather at 
 [final location].&lt;/li&gt;\n&lt;li&gt;Speech by the Head of Electronics Department o
 r IEEE CTSoc Chair\, reflecting on the outcomes and future plans.&lt;/li&gt;\n&lt;/
 ul&gt;\n&lt;/li&gt;\n&lt;li&gt;\n&lt;p&gt;&lt;strong&gt;11:50 AM &amp;ndash\; Group Photo and Closing Rem
 arks&lt;/strong&gt;&lt;/p&gt;\n&lt;ul&gt;\n&lt;li&gt;Group photo of all participants and organizer
 s.&lt;/li&gt;\n&lt;li&gt;Final words of thanks and recognition for volunteers.&lt;/li&gt;\n&lt;
 /ul&gt;\n&lt;/li&gt;\n&lt;li&gt;\n&lt;p&gt;&lt;strong&gt;12:00 PM &amp;ndash\; Event Ends&lt;/strong&gt;&lt;/p&gt;\n&lt;
 /li&gt;\n&lt;/ol&gt;
END:VEVENT
END:VCALENDAR

