BEGIN:VCALENDAR
VERSION:2.0
PRODID:IEEE vTools.Events//EN
CALSCALE:GREGORIAN
BEGIN:VTIMEZONE
TZID:Africa/Johannesburg
BEGIN:STANDARD
DTSTART:19440319T010000
TZOFFSETFROM:+0300
TZOFFSETTO:+0200
TZNAME:SAST
END:STANDARD
END:VTIMEZONE
BEGIN:VEVENT
DTSTAMP:20170210T084222Z
UID:D6FD0A44-EF6C-11E6-A7C6-0050568D7F66
DTSTART;TZID=Africa/Johannesburg:20170213T170000
DTEND;TZID=Africa/Johannesburg:20170213T180000
DESCRIPTION:Antennas designed on the substrate integrated waveguide have a 
 planar structure\, and can be easily fabricated by a standard PCB technolo
 gy\, so they are suitable for cheap mass production. The lecture presents 
 the results of an investigation of leaky wave antennas designed on a subst
 rate integrated waveguide. The interest is given to three antenna types: a
 n antenna radiating from a wide longitudinal slot etched in the top wavegu
 ide wall\, a SIW CRLH leaky wave antenna\, and a dual band SIW CRLH leaky 
 wave antenna. These two later antennas radiate through meander slots etche
 d in the top metallization which serve as series capacitors added to desig
 n the CRLH transmission line.\n\nSpeaker(s): Prof. Jan Machac\, \, Prof. J
 an Machac\, \n\nBldg: CEFIM building\, CEFIM Auditorium\, University of Pr
 etoria Hatfield Campus\, Pretoria\, Gauteng\, South Africa
LOCATION:Bldg: CEFIM building\, CEFIM Auditorium\, University of Pretoria H
 atfield Campus\, Pretoria\, Gauteng\, South Africa
ORGANIZER:tinus.stander@gmail.com
SEQUENCE:0
SUMMARY:Substrate integrated Waveguide – Base for Leaky Wave Antennas
URL;VALUE=URI:https://events.vtools.ieee.org/m/43774
X-ALT-DESC:Description: &lt;br /&gt;&lt;p&gt;Antennas designed on the substrate integra
 ted waveguide have a planar structure\, and can be easily fabricated by a 
 standard PCB technology\, so they are suitable for cheap mass production. 
 The lecture presents the results of an investigation of leaky wave antenna
 s designed on a substrate integrated waveguide. The interest is given to t
 hree antenna types: an antenna radiating from a wide longitudinal slot etc
 hed in the top waveguide wall\, a SIW CRLH leaky wave antenna\, and a dual
  band SIW CRLH leaky wave antenna. These two later antennas radiate throug
 h meander slots etched in the top metallization which serve as series capa
 citors added to design the CRLH transmission line.&lt;/p&gt;
END:VEVENT
END:VCALENDAR

