BEGIN:VCALENDAR
VERSION:2.0
PRODID:IEEE vTools.Events//EN
CALSCALE:GREGORIAN
BEGIN:VTIMEZONE
TZID:Asia/Kolkata
BEGIN:STANDARD
DTSTART:19451014T230000
TZOFFSETFROM:+0630
TZOFFSETTO:+0530
TZNAME:IST
END:STANDARD
END:VTIMEZONE
BEGIN:VEVENT
DTSTAMP:20241011T172107Z
UID:57B39E0F-A289-49C6-84D2-7FA03A12A3A4
DTSTART;TZID=Asia/Kolkata:20241007T130000
DTEND;TZID=Asia/Kolkata:20241007T140000
DESCRIPTION:🪄Celebrate the Spirit of Volunteering!!✨\n\nOn behalf of I
 EEE Day 2024\, we\, the IEEE St. Joseph&#39;s College of Engineering Student B
 ranch Chapter (SBC60101)\, are proud to host the Happy Volunteering Event 
 to honor our IEEE Student Branch Office Bearers.\n\n📅 Date: October 7\,
  2024\n📍 Location: Block 7\, St. Joseph&#39;s College of Engineering\n\n⚡
  This event is a fantastic opportunity to celebrate and recognize the incr
 edible dedication of our office bearers\, whose efforts have contributed t
 o the success of our student branch and community! ⚡\n\nAll office beare
 rs will receive Certificates of Appreciation in recognition of their valua
 ble contributions.\n\n💫 Join us in celebrating their spirit of voluntee
 ring and leadership\n\nChennai\, Tamil Nadu\, India
LOCATION:Chennai\, Tamil Nadu\, India
ORGANIZER:sreekanthr@ieee.org
SEQUENCE:29
SUMMARY:HAPPY VOLUNTEERING
URL;VALUE=URI:https://events.vtools.ieee.org/m/437815
X-ALT-DESC:Description: &lt;br /&gt;&lt;p&gt;&amp;nbsp\;&lt;/p&gt;\n&lt;p&gt;&lt;img src=&quot;https://events.v
 tools.ieee.org/vtools_ui/media/display/4504b115-1ebc-457c-8abc-4ceebf3a037
 c&quot;&gt;&lt;/p&gt;\n&lt;p&gt;🪄Celebrate the Spirit of Volunteering!!✨&lt;/p&gt;\n&lt;p&gt;On behal
 f of IEEE Day 2024\, we\, the IEEE St. Joseph&#39;s College of Engineering Stu
 dent Branch Chapter (SBC60101)\, are proud to host the Happy Volunteering 
 Event to honor our IEEE Student Branch Office Bearers.&lt;/p&gt;\n&lt;p&gt;📅 Date: 
 October 7\, 2024&lt;br&gt;📍 Location: Block 7\, St. Joseph&#39;s College of Engin
 eering&lt;/p&gt;\n&lt;p&gt;⚡ This event is a fantastic opportunity to celebrate and 
 recognize the incredible dedication of our office bearers\, whose efforts 
 have contributed to the success of our student branch and community! ⚡&lt;/
 p&gt;\n&lt;p&gt;All office bearers will receive Certificates of Appreciation in rec
 ognition of their valuable contributions.&lt;/p&gt;\n&lt;p&gt;💫 Join us in celebrat
 ing their spirit of volunteering and leadership&lt;/p&gt;
END:VEVENT
END:VCALENDAR

