BEGIN:VCALENDAR
VERSION:2.0
PRODID:IEEE vTools.Events//EN
CALSCALE:GREGORIAN
BEGIN:VTIMEZONE
TZID:Asia/Riyadh
BEGIN:DAYLIGHT
DTSTART:20380119T061407
TZOFFSETFROM:+0300
TZOFFSETTO:+0300
RRULE:FREQ=YEARLY;BYDAY=3TU;BYMONTH=1
TZNAME:+03
END:DAYLIGHT
BEGIN:STANDARD
DTSTART:19470313T235308
TZOFFSETFROM:+0306
TZOFFSETTO:+0300
RRULE:FREQ=YEARLY;BYDAY=2TH;BYMONTH=3
TZNAME:+03
END:STANDARD
END:VTIMEZONE
BEGIN:VEVENT
DTSTAMP:20241011T191043Z
UID:CB423DB8-E2D9-4781-9FC4-21531E1C6773
DTSTART;TZID=Asia/Riyadh:20241005T200000
DTEND;TZID=Asia/Riyadh:20241005T214000
DESCRIPTION:We will follow up on the preparations for the IEEE Day event\, 
 discussing the achievements made so far and addressing any issues we may e
 ncounter. We will exchange ideas on how to improve the preparations and en
 sure effective task distribution among members.\n\nAgenda: \nEvent Timelin
 e\n\n10:00 - 11:00 | Opening Speech\n11:00 - 12:30 | Booths\n12:30 - 12:50
  | Young Professionals (YP) Speaker\n12:50 - 1:10 | AESS Speaker\n1:10 - 1
 :30 | Computer Society (CS) Speaker\n1:30 - 1:50 | Robotics and Automation
  Society (RAS) Speaker\n1:50 - 2:30 | Panel Speaker\n[]\n\namman\, Jordan\
 , Jordan
LOCATION:amman\, Jordan\, Jordan
ORGANIZER:ayaabudabour@ieee.org
SEQUENCE:13
SUMMARY:Meeting to Follow Up on IEEE Day Event Preparations
URL;VALUE=URI:https://events.vtools.ieee.org/m/437874
X-ALT-DESC:Description: &lt;br /&gt;&lt;p&gt;We will follow up on the preparations for 
 the IEEE Day event\, discussing the achievements made so far and addressin
 g any issues we may encounter. We will exchange ideas on how to improve th
 e preparations and ensure effective task distribution among members.&lt;/p&gt;&lt;b
 r /&gt;&lt;br /&gt;Agenda: &lt;br /&gt;&lt;h3&gt;Event Timeline&lt;/h3&gt;\n&lt;p&gt;&lt;strong&gt;10:00 - 11:00&lt;
 /strong&gt; | Opening Speech&lt;br&gt;&lt;strong&gt;11:00 - 12:30&lt;/strong&gt; | Booths&lt;br&gt;&lt;s
 trong&gt;12:30 - 12:50&lt;/strong&gt; | Young Professionals (YP) Speaker&lt;br&gt;&lt;strong
 &gt;12:50 - 1:10&lt;/strong&gt; | AESS Speaker&lt;br&gt;&lt;strong&gt;1:10 - 1:30&lt;/strong&gt; | Co
 mputer Society (CS) Speaker&lt;br&gt;&lt;strong&gt;1:30 - 1:50&lt;/strong&gt; | Robotics and
  Automation Society (RAS) Speaker&lt;br&gt;&lt;strong&gt;1:50 - 2:30&lt;/strong&gt; | Panel 
 Speaker&lt;br&gt;&lt;img src=&quot;https://events.vtools.ieee.org/vtools_ui/media/displa
 y/a16d8b71-1b15-4d1d-9f6c-09242751ca64&quot; alt=&quot;&quot; width=&quot;529&quot; height=&quot;516&quot;&gt;&lt;/
 p&gt;
END:VEVENT
END:VCALENDAR

