BEGIN:VCALENDAR
VERSION:2.0
PRODID:IEEE vTools.Events//EN
CALSCALE:GREGORIAN
BEGIN:VTIMEZONE
TZID:Europe/London
BEGIN:DAYLIGHT
DTSTART:20240331T020000
TZOFFSETFROM:+0000
TZOFFSETTO:+0100
RRULE:FREQ=YEARLY;BYDAY=-1SU;BYMONTH=3
TZNAME:BST
END:DAYLIGHT
BEGIN:STANDARD
DTSTART:20241027T010000
TZOFFSETFROM:+0100
TZOFFSETTO:+0000
RRULE:FREQ=YEARLY;BYDAY=-1SU;BYMONTH=10
TZNAME:GMT
END:STANDARD
END:VTIMEZONE
BEGIN:VEVENT
DTSTAMP:20250128T214136Z
UID:9415B8EE-E714-4FA8-AE34-1EC6D8B53313
DTSTART;TZID=Europe/London:20241023T100000
DTEND;TZID=Europe/London:20241023T163000
DESCRIPTION:In this General Assembly\, we will provide an introduction to I
 EEE and the various units within our branch: the Computer Society\, Comput
 ational Intelligence Society\, Robotics and Automation Society\, and Women
  in Engineering Affinity Groupe. Each of these groups plays a unique role 
 in advancing technological fields\, fostering collaboration\, and supporti
 ng innovation. This session will offer insight into their structures\, goa
 ls\, and recent activities as we introduce these societies to the students
 .\n\nmahdia\, Mahdia\, Tunisia
LOCATION:mahdia\, Mahdia\, Tunisia
ORGANIZER:mariem.saadouli@ieee.org
SEQUENCE:3
SUMMARY:general assembly
URL;VALUE=URI:https://events.vtools.ieee.org/m/437890
X-ALT-DESC:Description: &lt;br /&gt;&lt;p&gt;In this General Assembly\, we will provide
  an introduction to IEEE and the various units within our branch: the Comp
 uter Society\, Computational Intelligence Society\, Robotics and Automatio
 n Society\, and Women in Engineering Affinity Groupe. Each of these groups
  plays a unique role in advancing technological fields\, fostering collabo
 ration\, and supporting innovation. This session will offer insight into t
 heir structures\, goals\, and recent activities as we introduce these soci
 eties to the students.&lt;/p&gt;
END:VEVENT
END:VCALENDAR

