BEGIN:VCALENDAR
VERSION:2.0
PRODID:IEEE vTools.Events//EN
CALSCALE:GREGORIAN
BEGIN:VTIMEZONE
TZID:America/New_York
BEGIN:DAYLIGHT
DTSTART:20240310T030000
TZOFFSETFROM:-0500
TZOFFSETTO:-0400
RRULE:FREQ=YEARLY;BYDAY=2SU;BYMONTH=3
TZNAME:EDT
END:DAYLIGHT
BEGIN:STANDARD
DTSTART:20241103T010000
TZOFFSETFROM:-0400
TZOFFSETTO:-0500
RRULE:FREQ=YEARLY;BYDAY=1SU;BYMONTH=11
TZNAME:EST
END:STANDARD
END:VTIMEZONE
BEGIN:VEVENT
DTSTAMP:20241101T121223Z
UID:340B98C9-BB69-451B-8F6C-717853A6DB8C
DTSTART;TZID=America/New_York:20241025T110000
DTEND;TZID=America/New_York:20241025T120000
DESCRIPTION:The Montreal Chapter of the IEEE Signal Processing (SP) Society
  cordially invites you to attend the following talk\, to be given by Prof.
  Mandar S. Jog\, Director of the National Parkinson Foundation Centre of E
 xcellence in Parkinson Disease and Movement Disorders Program at London He
 alth Sciences Centre and a Professor of Neurology at Western University\, 
 on Friday October 25th 2024\, from 11h00am to 12h00am at Concordia Univers
 ity (EV Building\, Room 3.309).\n\nSpeaker(s): Mandar S. Jog\n\nRoom: 3.30
 9\, Bldg: EV-Building \, 1515 Saint-Catherine St. West\, Montreal\, Quebec
 \, Canada\, H3G 1M8
LOCATION:Room: 3.309\, Bldg: EV-Building \, 1515 Saint-Catherine St. West\,
  Montreal\, Quebec\, Canada\, H3G 1M8
ORGANIZER:arash.mohammadi@concordia.ca
SEQUENCE:29
SUMMARY:Use of Kinematics in Movement Disorders: Measurement to Therapy
URL;VALUE=URI:https://events.vtools.ieee.org/m/438106
X-ALT-DESC:Description: &lt;br /&gt;&lt;p&gt;The Montreal Chapter of the IEEE Signal Pr
 ocessing (SP) Society cordially invites you to attend the following talk\,
  to be given by &lt;strong&gt;&lt;span style=&quot;text-decoration: underline\;&quot;&gt;&lt;span s
 tyle=&quot;color: rgb(0\, 0\, 0)\; text-decoration: underline\;&quot;&gt;Prof. &amp;nbsp\;M
 andar S. Jog&lt;/span&gt;&lt;/span&gt;\, Director of the National Parkinson Foundation
  Centre of Excellence in Parkinson Disease and Movement Disorders Program 
 at London Health Sciences Centre and a Professor of Neurology at Western U
 niversity\,&lt;/strong&gt; on Friday October 25th 2024\, from 11h00am to 12h00am
  at Concordia University (EV Building\, Room 3.309).&lt;/p&gt;
END:VEVENT
END:VCALENDAR

