BEGIN:VCALENDAR
VERSION:2.0
PRODID:IEEE vTools.Events//EN
CALSCALE:GREGORIAN
BEGIN:VTIMEZONE
TZID:Asia/Kolkata
BEGIN:STANDARD
DTSTART:19451014T230000
TZOFFSETFROM:+0630
TZOFFSETTO:+0530
TZNAME:IST
END:STANDARD
END:VTIMEZONE
BEGIN:VEVENT
DTSTAMP:20241007T054120Z
UID:DA032B8A-AC43-4031-99A7-49CB649C1104
DTSTART;TZID=Asia/Kolkata:20240920T080000
DTEND;TZID=Asia/Kolkata:20240920T103000
DESCRIPTION:To provide practical experience in creating interactive dashboa
 rds and reports. It helps users learn how to connect\, transform\, and vis
 ualize data from multiple sources.\n\nNazarathpet\, poonamalle\, chennai\,
  Tamil Nadu\, India
LOCATION:Nazarathpet\, poonamalle\, chennai\, Tamil Nadu\, India
ORGANIZER:smalathi_pec@ieee.org
SEQUENCE:14
SUMMARY:Dashboard Mastery : Hands-on Power BI training 
URL;VALUE=URI:https://events.vtools.ieee.org/m/438137
X-ALT-DESC:Description: &lt;br /&gt;&lt;p&gt;&lt;strong id=&quot;docs-internal-guid-0d00649d-7f
 ff-37ef-86c3-610026b7a053&quot;&gt;To provide practical experience in creating int
 eractive dashboards and reports. It helps users learn how to connect\, tra
 nsform\, and visualize data from multiple sources. &lt;/strong&gt;&lt;/p&gt;
END:VEVENT
END:VCALENDAR

