BEGIN:VCALENDAR
VERSION:2.0
PRODID:IEEE vTools.Events//EN
CALSCALE:GREGORIAN
BEGIN:VTIMEZONE
TZID:Asia/Kolkata
BEGIN:STANDARD
DTSTART:19451014T230000
TZOFFSETFROM:+0630
TZOFFSETTO:+0530
TZNAME:IST
END:STANDARD
END:VTIMEZONE
BEGIN:VEVENT
DTSTAMP:20241011T060103Z
UID:6B031C10-EA27-4913-937B-8B686CF7586F
DTSTART;TZID=Asia/Kolkata:20241008T093000
DTEND;TZID=Asia/Kolkata:20241008T150000
DESCRIPTION:IEEE Day Special Events - Physical Fitness- Track Events\n\n100
  m (M&amp;W)\n\n200 m (M&amp;W)\n\n400 m (M&amp;W)\n\n800 m (M&amp;W)\n\n[]\n\nBldg: Sport
 s Complex \, Kings College of Engineering\, Punalkulam\,\, Pudukkottai\, T
 amil Nadu\, India\, 613303
LOCATION:Bldg: Sports Complex \, Kings College of Engineering\, Punalkulam\
 ,\, Pudukkottai\, Tamil Nadu\, India\, 613303
ORGANIZER:kingsieee01@gmail.com
SEQUENCE:12
SUMMARY:IEEE Day Special Events - Physical Fitness - Track Events
URL;VALUE=URI:https://events.vtools.ieee.org/m/438247
X-ALT-DESC:Description: &lt;br /&gt;&lt;p&gt;&lt;span class=&quot;OYPEnA font-feature-liga-off 
 font-feature-clig-off font-feature-calt-off text-decoration-none text-stri
 kethrough-none&quot;&gt;IEEE Day Special Events&amp;nbsp\; - Physical Fitness-&amp;nbsp\; 
 Track Events&amp;nbsp\;&lt;/span&gt;&lt;/p&gt;\n&lt;p class=&quot;cvGsUA direction-ltr align-start
  para-style-body&quot;&gt;&lt;span class=&quot;OYPEnA font-feature-liga-off font-feature-c
 lig-off font-feature-calt-off text-decoration-none text-strikethrough-none
 &quot;&gt;100 m (M&amp;amp\;W)&lt;/span&gt;&lt;/p&gt;\n&lt;p class=&quot;cvGsUA direction-ltr align-start 
 para-style-body&quot;&gt;&lt;span class=&quot;OYPEnA font-feature-liga-off font-feature-cl
 ig-off font-feature-calt-off text-decoration-none text-strikethrough-none&quot;
 &gt;200 m (M&amp;amp\;W)&lt;/span&gt;&lt;/p&gt;\n&lt;p class=&quot;cvGsUA direction-ltr align-start p
 ara-style-body&quot;&gt;&lt;span class=&quot;OYPEnA font-feature-liga-off font-feature-cli
 g-off font-feature-calt-off text-decoration-none text-strikethrough-none&quot;&gt;
 400 m (M&amp;amp\;W)&lt;/span&gt;&lt;/p&gt;\n&lt;p class=&quot;cvGsUA direction-ltr align-start pa
 ra-style-body&quot;&gt;&lt;span class=&quot;OYPEnA font-feature-liga-off font-feature-clig
 -off font-feature-calt-off text-decoration-none text-strikethrough-none&quot;&gt;8
 00 m (M&amp;amp\;W)&lt;/span&gt;&lt;/p&gt;\n&lt;p class=&quot;cvGsUA direction-ltr align-start par
 a-style-body&quot;&gt;&amp;nbsp\;&lt;/p&gt;\n&lt;p class=&quot;cvGsUA direction-ltr align-start para
 -style-body&quot;&gt;&lt;span class=&quot;OYPEnA font-feature-liga-off font-feature-clig-o
 ff font-feature-calt-off text-decoration-none text-strikethrough-none&quot;&gt;&lt;im
 g src=&quot;https://events.vtools.ieee.org/vtools_ui/media/display/935b07ff-057
 e-41a4-a709-2782dd4ed1fa&quot; alt=&quot;&quot; width=&quot;257&quot; height=&quot;364&quot;&gt;&lt;/span&gt;&lt;/p&gt;
END:VEVENT
END:VCALENDAR

