BEGIN:VCALENDAR
VERSION:2.0
PRODID:IEEE vTools.Events//EN
CALSCALE:GREGORIAN
BEGIN:VTIMEZONE
TZID:Europe/Rome
BEGIN:DAYLIGHT
DTSTART:20240331T030000
TZOFFSETFROM:+0100
TZOFFSETTO:+0200
RRULE:FREQ=YEARLY;BYDAY=-1SU;BYMONTH=3
TZNAME:CEST
END:DAYLIGHT
BEGIN:STANDARD
DTSTART:20241027T020000
TZOFFSETFROM:+0200
TZOFFSETTO:+0100
RRULE:FREQ=YEARLY;BYDAY=-1SU;BYMONTH=10
TZNAME:CET
END:STANDARD
END:VTIMEZONE
BEGIN:VEVENT
DTSTAMP:20241031T133756Z
UID:49B598FB-D480-4D10-8CED-47C52BB6967B
DTSTART;TZID=Europe/Rome:20241023T103000
DTEND;TZID=Europe/Rome:20241023T173000
DESCRIPTION:This is the IEEE ITSS Italian Chapter Annual Meeting and PhD Aw
 ard.\n\nScientific committee:\n\n- Roberta Di Pace (Università di Salerno
 )\n- Michele Fiorini (Leonardo S.p.A.)\n- Stefania Santini (Università di
  Napoli Federico II)\n- Silvia Siri (Università di Genova)\n\nLocal organ
 izing committee:\n\n- Alessandro Bozzi (Università di Genova)\n- Tommy Ch
 aanine (Università di Genova)\n- Rexhina Hoxha (Università di Genova)\n-
  Cecilia Pasquale (Università di Genova)\n- Simona Sacone (Università di
  Genova)\n- Silvia Siri (Università di Genova)\n- Enrico Zero (Universit
 à di Genova)\n\nSpeaker(s): \, \, Fernando Garcia Fernandez\n\nAgenda: \n
 AGENDA\n\n10:30 – 11:00: Registration\n\n11:00 – 11:30: Welcome and In
 troduction\n\n11:30 – 13:00: Presentation by PhD Award finalists\n\nMode
 rator: Alessandro Colombo (Politecnico di Milano)\n\n13:00 – 14:30: Ligh
 t lunch\n\n14:30 – 15:30: Keynote speech &quot;Challenges of the Autonomous V
 ehicles&quot; (Fernando García Fernandez\, Universidad Carlos III de Madrid)\n
 \n15:30 – 17:00: Round Table “Future perspectives and challenges of ma
 ritime transport and logistics”\n\nModerator: Ilaria Delponte (Universit
 à degli Studi di Genova)\n\nInvited speakers: Claudia Caballini (Politecn
 ico di Torino)\; Giorgio Cavo (Presidente Hub Telematica S.r.l.)\; Simone 
 Ciambellotti (Direttore Operativo\, Terminal San Giorgio S.r.l.)\; Andrea 
 Conca (Responsabile Ufficio Security del Porto di Genova\, Autorità di Si
 stema Portuale del Mar Ligure Occidentale)\; Davide Giglio (Università di
  Genova)\, Claudio Ferrari (Università di Studi di Genova)\n\n17:00 – 1
 7:30: Coffee break\n\n17:30 – 18:00: Closing session and PhD Award cerem
 ony\n\nRoom: Aula Lauree Luigi Passadore\, Via Vivaldi 5\, Genova\, Liguri
 a\, Italy
LOCATION:Room: Aula Lauree Luigi Passadore\, Via Vivaldi 5\, Genova\, Ligur
 ia\, Italy
ORGANIZER:silvia.siri@unige.it
SEQUENCE:22
SUMMARY:IEEE ITSS Italian Chapter Annual Meeting and PhD Award 2024
URL;VALUE=URI:https://events.vtools.ieee.org/m/438255
X-ALT-DESC:Description: &lt;br /&gt;&lt;p&gt;This is the IEEE ITSS Italian Chapter Annu
 al Meeting and PhD Award.&amp;nbsp\;&lt;/p&gt;\n&lt;p&gt;Scientific committee:&lt;/p&gt;\n&lt;ul&gt;\n
 &lt;li&gt;Roberta Di Pace (Universit&amp;agrave\; di Salerno)&lt;/li&gt;\n&lt;li&gt;Michele Fior
 ini (Leonardo S.p.A.)&lt;/li&gt;\n&lt;li&gt;Stefania Santini (Universit&amp;agrave\; di Na
 poli Federico II)&lt;/li&gt;\n&lt;li&gt;Silvia Siri (Universit&amp;agrave\; di Genova)&lt;/li
 &gt;\n&lt;/ul&gt;\n&lt;p&gt;Local organizing committee:&lt;/p&gt;\n&lt;ul&gt;\n&lt;li&gt;Alessandro Bozzi (
 Universit&amp;agrave\; di Genova)&lt;/li&gt;\n&lt;li&gt;Tommy Chaanine (Universit&amp;agrave\;
  di Genova)&lt;/li&gt;\n&lt;li&gt;Rexhina Hoxha (Universit&amp;agrave\; di Genova)&lt;/li&gt;\n&lt;
 li&gt;Cecilia Pasquale (Universit&amp;agrave\; di Genova)&lt;/li&gt;\n&lt;li&gt;Simona Sacone
  (Universit&amp;agrave\; di Genova)&lt;/li&gt;\n&lt;li&gt;Silvia Siri (Universit&amp;agrave\; 
 di Genova)&lt;/li&gt;\n&lt;li&gt;Enrico Zero (Universit&amp;agrave\; di Genova)&lt;/li&gt;\n&lt;/ul
 &gt;&lt;br /&gt;&lt;br /&gt;Agenda: &lt;br /&gt;&lt;p&gt;AGENDA&lt;/p&gt;\n&lt;p class=&quot;MsoNormal&quot; style=&quot;text
 -align: justify\;&quot;&gt;&lt;em&gt;&lt;span lang=&quot;EN-US&quot; style=&quot;mso-bidi-font-size: 12.0p
 t\; line-height: 107%\; font-family: &#39;Calibri&#39;\,sans-serif\; mso-ascii-the
 me-font: minor-latin\; mso-fareast-font-family: &#39;Times New Roman&#39;\; mso-ha
 nsi-theme-font: minor-latin\; mso-bidi-font-family: &#39;Times New Roman&#39;\; ms
 o-ansi-language: EN-US\;&quot;&gt;10:30 &amp;ndash\; 11:00: Registration &lt;/span&gt;&lt;/em&gt;&lt;
 /p&gt;\n&lt;p class=&quot;MsoNormal&quot; style=&quot;text-align: justify\;&quot;&gt;&lt;span lang=&quot;EN-US&quot;
  style=&quot;mso-bidi-font-size: 12.0pt\; line-height: 107%\; font-family: &#39;Cal
 ibri&#39;\,sans-serif\; mso-ascii-theme-font: minor-latin\; mso-fareast-font-f
 amily: &#39;Times New Roman&#39;\; mso-hansi-theme-font: minor-latin\; mso-bidi-fo
 nt-family: &#39;Times New Roman&#39;\; mso-ansi-language: EN-US\;&quot;&gt;11:00 &amp;ndash\; 
 11:30: Welcome and Introduction&lt;/span&gt;&lt;/p&gt;\n&lt;p class=&quot;MsoNormal&quot; style=&quot;ma
 rgin-bottom: 0cm\; text-align: justify\; line-height: normal\;&quot;&gt;&lt;span lang
 =&quot;EN-US&quot; style=&quot;mso-bidi-font-size: 12.0pt\; font-family: &#39;Calibri&#39;\,sans-
 serif\; mso-ascii-theme-font: minor-latin\; mso-fareast-font-family: &#39;Time
 s New Roman&#39;\; mso-hansi-theme-font: minor-latin\; mso-bidi-font-family: &#39;
 Times New Roman&#39;\; mso-ansi-language: EN-US\;&quot;&gt;11:30 &amp;ndash\; 13:00: Prese
 ntation by PhD Award finalists&lt;/span&gt;&lt;/p&gt;\n&lt;p class=&quot;MsoNormal&quot; style=&quot;mar
 gin-bottom: 0cm\; text-align: justify\; line-height: normal\;&quot;&gt;&lt;span lang=
 &quot;EN-US&quot; style=&quot;mso-bidi-font-size: 12.0pt\; font-family: &#39;Calibri&#39;\,sans-s
 erif\; mso-ascii-theme-font: minor-latin\; mso-fareast-font-family: &#39;Times
  New Roman&#39;\; mso-hansi-theme-font: minor-latin\; mso-bidi-font-family: &#39;T
 imes New Roman&#39;\; mso-ansi-language: EN-US\;&quot;&gt;Moderator: Alessandro Colomb
 o (Politecnico di Milano)&lt;/span&gt;&lt;/p&gt;\n&lt;p class=&quot;MsoNormal&quot; style=&quot;text-ali
 gn: justify\;&quot;&gt;&lt;span lang=&quot;EN-US&quot; style=&quot;font-size: 5.0pt\; line-height: 1
 07%\; font-family: &#39;Calibri&#39;\,sans-serif\; mso-ascii-theme-font: minor-lat
 in\; mso-fareast-font-family: &#39;Times New Roman&#39;\; mso-hansi-theme-font: mi
 nor-latin\; mso-bidi-font-family: &#39;Times New Roman&#39;\; mso-ansi-language: E
 N-US\;&quot;&gt;&amp;nbsp\;&lt;/span&gt;&lt;/p&gt;\n&lt;p class=&quot;MsoNormal&quot; style=&quot;text-align: justif
 y\;&quot;&gt;&lt;em&gt;&lt;span style=&quot;mso-bidi-font-size: 12.0pt\; line-height: 107%\; fon
 t-family: &#39;Calibri&#39;\,sans-serif\; mso-ascii-theme-font: minor-latin\; mso-
 fareast-font-family: &#39;Times New Roman&#39;\; mso-hansi-theme-font: minor-latin
 \; mso-bidi-font-family: &#39;Times New Roman&#39;\; mso-ansi-language: IT\;&quot;&gt;13:0
 0 &amp;ndash\; 14:30: Light lunch &lt;/span&gt;&lt;/em&gt;&lt;/p&gt;\n&lt;p class=&quot;MsoNormal&quot; style
 =&quot;text-align: justify\;&quot;&gt;&lt;em&gt;&lt;span style=&quot;font-size: 5.0pt\; line-height: 
 107%\; font-family: &#39;Calibri&#39;\,sans-serif\; mso-ascii-theme-font: minor-la
 tin\; mso-fareast-font-family: &#39;Times New Roman&#39;\; mso-hansi-theme-font: m
 inor-latin\; mso-bidi-font-family: &#39;Times New Roman&#39;\; mso-ansi-language: 
 IT\;&quot;&gt;&amp;nbsp\;&lt;/span&gt;&lt;/em&gt;&lt;/p&gt;\n&lt;p class=&quot;MsoNormal&quot; style=&quot;text-align: jus
 tify\;&quot;&gt;&lt;span lang=&quot;EN-US&quot; style=&quot;mso-bidi-font-size: 12.0pt\; line-height
 : 107%\; font-family: &#39;Calibri&#39;\,sans-serif\; mso-ascii-theme-font: minor-
 latin\; mso-fareast-font-family: &#39;Times New Roman&#39;\; mso-hansi-theme-font:
  minor-latin\; mso-bidi-font-family: &#39;Times New Roman&#39;\; mso-ansi-language
 : EN-US\;&quot;&gt;14:30 &amp;ndash\; 15:30: Keynote speech &lt;/span&gt;&lt;span lang=&quot;EN-GB&quot; 
 style=&quot;mso-bidi-font-size: 12.0pt\; line-height: 107%\; font-family: &#39;Cali
 bri&#39;\,sans-serif\; mso-ascii-theme-font: minor-latin\; mso-fareast-font-fa
 mily: &#39;Times New Roman&#39;\; mso-hansi-theme-font: minor-latin\; mso-bidi-fon
 t-family: &#39;Times New Roman&#39;\;&quot;&gt;&quot;Challenges of the Autonomous Vehicles&quot; (Fe
 rnando Garc&amp;iacute\;a Fernandez\, Universidad Carlos III de Madrid)&lt;/span&gt;
 &lt;/p&gt;\n&lt;p class=&quot;MsoNormal&quot; style=&quot;margin-bottom: 0cm\; text-align: justify
 \; line-height: normal\;&quot;&gt;&lt;span lang=&quot;EN-US&quot; style=&quot;mso-bidi-font-size: 12
 .0pt\; font-family: &#39;Calibri&#39;\,sans-serif\; mso-ascii-theme-font: minor-la
 tin\; mso-fareast-font-family: &#39;Times New Roman&#39;\; mso-hansi-theme-font: m
 inor-latin\; mso-bidi-font-family: &#39;Times New Roman&#39;\; mso-ansi-language: 
 EN-US\;&quot;&gt;15:30 &amp;ndash\; 17:00: Round Table &amp;ldquo\;&lt;/span&gt;&lt;span style=&quot;mso
 -bidi-font-size: 12.0pt\; font-family: &#39;Calibri&#39;\,sans-serif\; mso-ascii-t
 heme-font: minor-latin\; mso-fareast-font-family: &#39;Times New Roman&#39;\; mso-
 hansi-theme-font: minor-latin\; mso-bidi-font-family: &#39;Times New Roman&#39;\; 
 mso-ansi-language: IT\;&quot;&gt;Future perspectives and challenges of maritime tr
 ansport and logistics&lt;/span&gt;&lt;span lang=&quot;EN-US&quot; style=&quot;mso-bidi-font-size: 
 12.0pt\; font-family: &#39;Calibri&#39;\,sans-serif\; mso-ascii-theme-font: minor-
 latin\; mso-fareast-font-family: &#39;Times New Roman&#39;\; mso-hansi-theme-font:
  minor-latin\; mso-bidi-font-family: &#39;Times New Roman&#39;\; mso-ansi-language
 : EN-US\;&quot;&gt;&amp;rdquo\;&lt;/span&gt;&lt;/p&gt;\n&lt;p class=&quot;MsoNormal&quot; style=&quot;margin-bottom:
  0cm\; text-align: justify\; line-height: normal\;&quot;&gt;&lt;span lang=&quot;EN-US&quot; sty
 le=&quot;mso-bidi-font-size: 12.0pt\; font-family: &#39;Calibri&#39;\,sans-serif\; mso-
 ascii-theme-font: minor-latin\; mso-fareast-font-family: &#39;Times New Roman&#39;
 \; mso-hansi-theme-font: minor-latin\; mso-bidi-font-family: &#39;Times New Ro
 man&#39;\; mso-ansi-language: EN-US\;&quot;&gt;Moderator: Ilaria Delponte &lt;/span&gt;&lt;span
  style=&quot;mso-bidi-font-size: 12.0pt\; font-family: &#39;Calibri&#39;\,sans-serif\; 
 mso-ascii-theme-font: minor-latin\; mso-fareast-font-family: &#39;Times New Ro
 man&#39;\; mso-hansi-theme-font: minor-latin\; mso-bidi-font-family: &#39;Times Ne
 w Roman&#39;\; mso-ansi-language: IT\;&quot;&gt;(Universit&amp;agrave\; degli Studi di Gen
 ova)&lt;/span&gt;&lt;/p&gt;\n&lt;p class=&quot;MsoNormal&quot; style=&quot;margin-bottom: 6.0pt\; text-a
 lign: justify\; line-height: normal\;&quot;&gt;Invited speakers: Claudia Caballini
  (Politecnico di Torino)\; Giorgio Cavo (Presidente Hub Telematica S.r.l.)
 \; Simone Ciambellotti (Direttore Operativo\, Terminal San Giorgio S.r.l.)
 \; Andrea Conca (Responsabile Ufficio Security del Porto di Genova\, Autor
 it&amp;agrave\; di Sistema Portuale del Mar Ligure Occidentale)\; Davide Gigli
 o (Universit&amp;agrave\; di Genova)\, Claudio Ferrari (Universit&amp;agrave\; di 
 Studi di Genova)&lt;/p&gt;\n&lt;p&gt;17:00 &amp;ndash\; 17:30: Coffee break&amp;nbsp\;&lt;/p&gt;\n&lt;p
 &gt;17:30 &amp;ndash\; 18:00: Closing session and PhD Award ceremony&amp;nbsp\;&lt;/p&gt;
END:VEVENT
END:VCALENDAR

